BEGIN:VCALENDAR
VERSION:2.0
PRODID:-//St. Michael&#039;s Church - ECPv6.15.20//NONSGML v1.0//EN
CALSCALE:GREGORIAN
METHOD:PUBLISH
X-WR-CALNAME:St. Michael&#039;s Church
X-ORIGINAL-URL:https://stmichaels-litchfield.org
X-WR-CALDESC:Events for St. Michael&#039;s Church
REFRESH-INTERVAL;VALUE=DURATION:PT1H
X-Robots-Tag:noindex
X-PUBLISHED-TTL:PT1H
BEGIN:VTIMEZONE
TZID:America/New_York
BEGIN:DAYLIGHT
TZOFFSETFROM:-0500
TZOFFSETTO:-0400
TZNAME:EDT
DTSTART:20270314T070000
END:DAYLIGHT
BEGIN:STANDARD
TZOFFSETFROM:-0400
TZOFFSETTO:-0500
TZNAME:EST
DTSTART:20271107T060000
END:STANDARD
BEGIN:DAYLIGHT
TZOFFSETFROM:-0500
TZOFFSETTO:-0400
TZNAME:EDT
DTSTART:20280312T070000
END:DAYLIGHT
BEGIN:STANDARD
TZOFFSETFROM:-0400
TZOFFSETTO:-0500
TZNAME:EST
DTSTART:20281105T060000
END:STANDARD
BEGIN:DAYLIGHT
TZOFFSETFROM:-0500
TZOFFSETTO:-0400
TZNAME:EDT
DTSTART:20290311T070000
END:DAYLIGHT
BEGIN:STANDARD
TZOFFSETFROM:-0400
TZOFFSETTO:-0500
TZNAME:EST
DTSTART:20291104T060000
END:STANDARD
END:VTIMEZONE
BEGIN:VEVENT
DTSTART;TZID=America/New_York:20280702T110000
DTEND;TZID=America/New_York:20280702T140000
DTSTAMP:20260423T184241
CREATED:20230711T182541Z
LAST-MODIFIED:20250806T192214Z
UID:10012171-1846148400-1846159200@stmichaels-litchfield.org
SUMMARY:Coffee and Fellowship in the Community House
DESCRIPTION:
URL:https://stmichaels-litchfield.org/event/coffee-and-congregation-in-the-community-house/2028-07-02/
LOCATION:Community House in Library from April 9th forward
CATEGORIES:Church Event
END:VEVENT
BEGIN:VEVENT
DTSTART;TZID=America/New_York:20280702T190000
DTEND;TZID=America/New_York:20280702T200000
DTSTAMP:20260423T184241
CREATED:20230619T142544Z
LAST-MODIFIED:20260416T160049Z
UID:10296106-1846177200-1846180800@stmichaels-litchfield.org
SUMMARY:AA Meeting in Community House
DESCRIPTION:
URL:https://stmichaels-litchfield.org/event/aa-meeting-in-community-house/2028-07-02/
LOCATION:Community House in Library from April 9th forward
END:VEVENT
BEGIN:VEVENT
DTSTART;VALUE=DATE:20280703
DTEND;VALUE=DATE:20280704
DTSTAMP:20260423T184241
CREATED:20260128T181321Z
LAST-MODIFIED:20260128T181322Z
UID:10291267-1846195200-1846281599@stmichaels-litchfield.org
SUMMARY:Church Office Closed
DESCRIPTION:
URL:https://stmichaels-litchfield.org/event/summer-schedule-church-office-closed-2-2-2-3/2028-07-03/
LOCATION:Church Office\, 25 South Street\, Litchfield\, CT\, 06759\, United States
CATEGORIES:Church Office Event
END:VEVENT
BEGIN:VEVENT
DTSTART;TZID=America/New_York:20280703T070000
DTEND;TZID=America/New_York:20280703T073000
DTSTAMP:20260423T184241
CREATED:20230606T184551Z
LAST-MODIFIED:20230619T142647Z
UID:10286860-1846220400-1846222200@stmichaels-litchfield.org
SUMMARY:AA Meeting in the Parish House Library
DESCRIPTION:
URL:https://stmichaels-litchfield.org/event/aa-meeting-in-the-library/2028-07-03/
LOCATION:Parish House Library\, 25 South Street\, Litchfield\, CT\, 06759\, United States
CATEGORIES:AA/NA Events
END:VEVENT
BEGIN:VEVENT
DTSTART;TZID=America/New_York:20280703T200000
DTEND;TZID=America/New_York:20280703T213000
DTSTAMP:20260423T184241
CREATED:20260218T173517Z
LAST-MODIFIED:20260218T173517Z
UID:10292690-1846267200-1846272600@stmichaels-litchfield.org
SUMMARY:AA meeting in the Community House
DESCRIPTION:
URL:https://stmichaels-litchfield.org/event/aa-meeting-in-the-community-house-2/2028-07-03/
END:VEVENT
BEGIN:VEVENT
DTSTART;TZID=America/New_York:20280704T093000
DTEND;TZID=America/New_York:20280704T143000
DTSTAMP:20260423T184241
CREATED:20260128T181432Z
LAST-MODIFIED:20260128T181726Z
UID:10291931-1846315800-1846333800@stmichaels-litchfield.org
SUMMARY:Church Office Open
DESCRIPTION:
URL:https://stmichaels-litchfield.org/event/church-office-open-14/2028-07-04/
LOCATION:Church Office\, 25 South Street\, Litchfield\, CT\, 06759\, United States
CATEGORIES:Church Office Event
END:VEVENT
BEGIN:VEVENT
DTSTART;TZID=America/New_York:20280704T160000
DTEND;TZID=America/New_York:20280704T173000
DTSTAMP:20260423T184241
CREATED:20260331T205128Z
LAST-MODIFIED:20260331T205254Z
UID:10294814-1846339200-1846344600@stmichaels-litchfield.org
SUMMARY:Priest Search Committee
DESCRIPTION:
URL:https://stmichaels-litchfield.org/event/priest-search-committee-3-2-5/2028-07-04/
LOCATION:Parish House Library\, 25 South Street\, Litchfield\, CT\, 06759\, United States
END:VEVENT
BEGIN:VEVENT
DTSTART;TZID=America/New_York:20280704T171500
DTEND;TZID=America/New_York:20280704T183000
DTSTAMP:20260423T184241
CREATED:20231227T151453Z
LAST-MODIFIED:20260317T155826Z
UID:10293664-1846343700-1846348200@stmichaels-litchfield.org
SUMMARY:Property Committee Meeting in Parish House Library
DESCRIPTION:
URL:https://stmichaels-litchfield.org/event/property-committee-meeting-in-parish-house-library-3/2028-07-04/
LOCATION:Parish House Library\, 25 South Street\, Litchfield\, CT\, 06759\, United States
CATEGORIES:Church Event
END:VEVENT
BEGIN:VEVENT
DTSTART;TZID=America/New_York:20280704T190000
DTEND;TZID=America/New_York:20280704T200000
DTSTAMP:20260423T184242
CREATED:20211108T175914Z
LAST-MODIFIED:20260130T014621Z
UID:10286623-1846350000-1846353600@stmichaels-litchfield.org
SUMMARY:AA Meeting in Community House
DESCRIPTION:
URL:https://stmichaels-litchfield.org/event/aa-group-in-community-house-2/2028-07-04/
LOCATION:Community House in Library from April 9th forward
CATEGORIES:AA/NA Events
END:VEVENT
BEGIN:VEVENT
DTSTART;TZID=America/New_York:20280705T070000
DTEND;TZID=America/New_York:20280705T073000
DTSTAMP:20260423T184242
CREATED:20230606T184551Z
LAST-MODIFIED:20230619T142647Z
UID:10286861-1846393200-1846395000@stmichaels-litchfield.org
SUMMARY:AA Meeting in the Parish House Library
DESCRIPTION:
URL:https://stmichaels-litchfield.org/event/aa-meeting-in-the-library/2028-07-05/
LOCATION:Parish House Library\, 25 South Street\, Litchfield\, CT\, 06759\, United States
CATEGORIES:AA/NA Events
END:VEVENT
BEGIN:VEVENT
DTSTART;TZID=America/New_York:20280705T083000
DTEND;TZID=America/New_York:20280705T110000
DTSTAMP:20260423T184242
CREATED:20250109T152013Z
LAST-MODIFIED:20250109T152013Z
UID:10019558-1846398600-1846407600@stmichaels-litchfield.org
SUMMARY:Greenwoods Counseling
DESCRIPTION:
URL:https://stmichaels-litchfield.org/event/greenwoods-counseling-7/2028-07-05/
CATEGORIES:Greenwoods Counseling
END:VEVENT
BEGIN:VEVENT
DTSTART;TZID=America/New_York:20280705T093000
DTEND;TZID=America/New_York:20280705T143000
DTSTAMP:20260423T184242
CREATED:20260128T181432Z
LAST-MODIFIED:20260128T181726Z
UID:10291932-1846402200-1846420200@stmichaels-litchfield.org
SUMMARY:Church Office Open
DESCRIPTION:
URL:https://stmichaels-litchfield.org/event/church-office-open-14/2028-07-05/
LOCATION:Church Office\, 25 South Street\, Litchfield\, CT\, 06759\, United States
CATEGORIES:Church Office Event
END:VEVENT
BEGIN:VEVENT
DTSTART;TZID=America/New_York:20280705T173000
DTEND;TZID=America/New_York:20280705T180000
DTSTAMP:20260423T184242
CREATED:20260327T155546Z
LAST-MODIFIED:20260422T175057Z
UID:10294555-1846431000-1846432800@stmichaels-litchfield.org
SUMMARY:Chanted Evening Prayer
DESCRIPTION:
URL:https://stmichaels-litchfield.org/event/chanted-evening-prayer-3/2028-07-05/
LOCATION:Chapel\, 25 South Street\, Litchfield\, CT\, 06759\, United States
CATEGORIES:Church Event
END:VEVENT
BEGIN:VEVENT
DTSTART;TZID=America/New_York:20280705T190000
DTEND;TZID=America/New_York:20280705T203000
DTSTAMP:20260423T184242
CREATED:20230817T183342Z
LAST-MODIFIED:20230817T183342Z
UID:10013250-1846436400-1846441800@stmichaels-litchfield.org
SUMMARY:Choir Rehearsal in Parish House Music Room
DESCRIPTION:
URL:https://stmichaels-litchfield.org/event/choir-rehearsal-in-parish-house-music-room/2028-07-05/
LOCATION:Parish House Music Room
CATEGORIES:Church Event
END:VEVENT
BEGIN:VEVENT
DTSTART;TZID=America/New_York:20280705T193000
DTEND;TZID=America/New_York:20280705T210000
DTSTAMP:20260423T184242
CREATED:20211108T180816Z
LAST-MODIFIED:20230714T003135Z
UID:10012574-1846438200-1846443600@stmichaels-litchfield.org
SUMMARY:NA meeting in Community House
DESCRIPTION:
URL:https://stmichaels-litchfield.org/event/narcotics-anonymous/2028-07-05/
LOCATION:Community House in Library from April 9th forward
CATEGORIES:AA/NA Events
END:VEVENT
BEGIN:VEVENT
DTSTART;TZID=America/New_York:20280706T093000
DTEND;TZID=America/New_York:20280706T143000
DTSTAMP:20260423T184242
CREATED:20260128T181432Z
LAST-MODIFIED:20260128T181726Z
UID:10291933-1846488600-1846506600@stmichaels-litchfield.org
SUMMARY:Church Office Open
DESCRIPTION:
URL:https://stmichaels-litchfield.org/event/church-office-open-14/2028-07-06/
LOCATION:Church Office\, 25 South Street\, Litchfield\, CT\, 06759\, United States
CATEGORIES:Church Office Event
END:VEVENT
BEGIN:VEVENT
DTSTART;TZID=America/New_York:20280706T190000
DTEND;TZID=America/New_York:20280706T220000
DTSTAMP:20260423T184242
CREATED:20230810T152445Z
LAST-MODIFIED:20230823T141209Z
UID:10012945-1846522800-1846533600@stmichaels-litchfield.org
SUMMARY:SOTG Board meeting in the Parish House Library
DESCRIPTION:
URL:https://stmichaels-litchfield.org/event/sotg-board-meeting-2/2028-07-06/
LOCATION:Parish House Library\, 25 South Street\, Litchfield\, CT\, 06759\, United States
CATEGORIES:School on the Green Event
END:VEVENT
BEGIN:VEVENT
DTSTART;TZID=America/New_York:20280707T070000
DTEND;TZID=America/New_York:20280707T073000
DTSTAMP:20260423T184242
CREATED:20230606T184551Z
LAST-MODIFIED:20230619T142647Z
UID:10286862-1846566000-1846567800@stmichaels-litchfield.org
SUMMARY:AA Meeting in the Parish House Library
DESCRIPTION:
URL:https://stmichaels-litchfield.org/event/aa-meeting-in-the-library/2028-07-07/
LOCATION:Parish House Library\, 25 South Street\, Litchfield\, CT\, 06759\, United States
CATEGORIES:AA/NA Events
END:VEVENT
BEGIN:VEVENT
DTSTART;TZID=America/New_York:20280707T093000
DTEND;TZID=America/New_York:20280707T143000
DTSTAMP:20260423T184242
CREATED:20260128T181432Z
LAST-MODIFIED:20260128T181726Z
UID:10291934-1846575000-1846593000@stmichaels-litchfield.org
SUMMARY:Church Office Open
DESCRIPTION:
URL:https://stmichaels-litchfield.org/event/church-office-open-14/2028-07-07/
LOCATION:Church Office\, 25 South Street\, Litchfield\, CT\, 06759\, United States
CATEGORIES:Church Office Event
END:VEVENT
BEGIN:VEVENT
DTSTART;TZID=America/New_York:20280709T080000
DTEND;TZID=America/New_York:20280709T090000
DTSTAMP:20260423T184242
CREATED:20211108T181651Z
LAST-MODIFIED:20260327T134504Z
UID:10020518-1846742400-1846746000@stmichaels-litchfield.org
SUMMARY:Eucharist\, Rite I
DESCRIPTION:Spoken\, no music
URL:https://stmichaels-litchfield.org/event/sunday-eucharist/2028-07-09/
LOCATION:Chapel\, 25 South Street\, Litchfield\, CT\, 06759\, United States
CATEGORIES:Church Event,Parish Events
END:VEVENT
BEGIN:VEVENT
DTSTART;TZID=America/New_York:20280709T100000
DTEND;TZID=America/New_York:20280709T110000
DTSTAMP:20260423T184242
CREATED:20250403T150154Z
LAST-MODIFIED:20260422T181447Z
UID:10012833-1846749600-1846753200@stmichaels-litchfield.org
SUMMARY:Sunday Eucharist\, Rite II
DESCRIPTION:Rite II with music \nFollowed by Coffee Hour in the Community House
URL:https://stmichaels-litchfield.org/event/sunday-eucharist-2-3/2028-07-09/
LOCATION:Church\, 25 South Street\, Litchfield\, CT\, 06759\, United States
CATEGORIES:Church Event,Parish Events
END:VEVENT
BEGIN:VEVENT
DTSTART;TZID=America/New_York:20280709T110000
DTEND;TZID=America/New_York:20280709T140000
DTSTAMP:20260423T184242
CREATED:20230711T182541Z
LAST-MODIFIED:20250806T192214Z
UID:10012172-1846753200-1846764000@stmichaels-litchfield.org
SUMMARY:Coffee and Fellowship in the Community House
DESCRIPTION:
URL:https://stmichaels-litchfield.org/event/coffee-and-congregation-in-the-community-house/2028-07-09/
LOCATION:Community House in Library from April 9th forward
CATEGORIES:Church Event
END:VEVENT
BEGIN:VEVENT
DTSTART;TZID=America/New_York:20280709T112000
DTEND;TZID=America/New_York:20280709T123000
DTSTAMP:20260423T184242
CREATED:20260408T170910Z
LAST-MODIFIED:20260408T170910Z
UID:10296070-1846754400-1846758600@stmichaels-litchfield.org
SUMMARY:Vestry Meeting
DESCRIPTION:
URL:https://stmichaels-litchfield.org/event/vestry-meeting-4/2028-07-09/
CATEGORIES:Church Event,Parish Events
END:VEVENT
BEGIN:VEVENT
DTSTART;TZID=America/New_York:20280709T190000
DTEND;TZID=America/New_York:20280709T200000
DTSTAMP:20260423T184242
CREATED:20230619T142544Z
LAST-MODIFIED:20260416T160049Z
UID:10296107-1846782000-1846785600@stmichaels-litchfield.org
SUMMARY:AA Meeting in Community House
DESCRIPTION:
URL:https://stmichaels-litchfield.org/event/aa-meeting-in-community-house/2028-07-09/
LOCATION:Community House in Library from April 9th forward
END:VEVENT
BEGIN:VEVENT
DTSTART;VALUE=DATE:20280710
DTEND;VALUE=DATE:20280711
DTSTAMP:20260423T184242
CREATED:20260128T181321Z
LAST-MODIFIED:20260128T181322Z
UID:10291268-1846800000-1846886399@stmichaels-litchfield.org
SUMMARY:Church Office Closed
DESCRIPTION:
URL:https://stmichaels-litchfield.org/event/summer-schedule-church-office-closed-2-2-2-3/2028-07-10/
LOCATION:Church Office\, 25 South Street\, Litchfield\, CT\, 06759\, United States
CATEGORIES:Church Office Event
END:VEVENT
BEGIN:VEVENT
DTSTART;TZID=America/New_York:20280710T070000
DTEND;TZID=America/New_York:20280710T073000
DTSTAMP:20260423T184242
CREATED:20230606T184551Z
LAST-MODIFIED:20230619T142647Z
UID:10286863-1846825200-1846827000@stmichaels-litchfield.org
SUMMARY:AA Meeting in the Parish House Library
DESCRIPTION:
URL:https://stmichaels-litchfield.org/event/aa-meeting-in-the-library/2028-07-10/
LOCATION:Parish House Library\, 25 South Street\, Litchfield\, CT\, 06759\, United States
CATEGORIES:AA/NA Events
END:VEVENT
BEGIN:VEVENT
DTSTART;TZID=America/New_York:20280710T200000
DTEND;TZID=America/New_York:20280710T213000
DTSTAMP:20260423T184242
CREATED:20260218T173517Z
LAST-MODIFIED:20260218T173517Z
UID:10292691-1846872000-1846877400@stmichaels-litchfield.org
SUMMARY:AA meeting in the Community House
DESCRIPTION:
URL:https://stmichaels-litchfield.org/event/aa-meeting-in-the-community-house-2/2028-07-10/
END:VEVENT
BEGIN:VEVENT
DTSTART;TZID=America/New_York:20280711T093000
DTEND;TZID=America/New_York:20280711T143000
DTSTAMP:20260423T184242
CREATED:20260128T181432Z
LAST-MODIFIED:20260128T181726Z
UID:10291935-1846920600-1846938600@stmichaels-litchfield.org
SUMMARY:Church Office Open
DESCRIPTION:
URL:https://stmichaels-litchfield.org/event/church-office-open-14/2028-07-11/
LOCATION:Church Office\, 25 South Street\, Litchfield\, CT\, 06759\, United States
CATEGORIES:Church Office Event
END:VEVENT
BEGIN:VEVENT
DTSTART;TZID=America/New_York:20280711T120000
DTEND;TZID=America/New_York:20280711T130000
DTSTAMP:20260423T184242
CREATED:20260223T205039Z
LAST-MODIFIED:20260223T205039Z
UID:10293193-1846929600-1846933200@stmichaels-litchfield.org
SUMMARY:Lunch with Meredith
DESCRIPTION:
URL:https://stmichaels-litchfield.org/event/lunch-with-meredith-2/2028-07-11/
LOCATION:Community House in Library from April 9th forward
CATEGORIES:Church Event,Parish Events
END:VEVENT
BEGIN:VEVENT
DTSTART;TZID=America/New_York:20280711T151500
DTEND;TZID=America/New_York:20280711T163000
DTSTAMP:20260423T184242
CREATED:20260223T204456Z
LAST-MODIFIED:20260304T185946Z
UID:10293581-1846941300-1846945800@stmichaels-litchfield.org
SUMMARY:Property Committee meeting in Parish House Library
DESCRIPTION:
URL:https://stmichaels-litchfield.org/event/property-committee-meeting-in-parish-house-library-4/2028-07-11/
LOCATION:Parish House Library\, 25 South Street\, Litchfield\, CT\, 06759\, United States
CATEGORIES:Church Event
END:VEVENT
END:VCALENDAR