BEGIN:VCALENDAR
VERSION:2.0
PRODID:-//St. Michael&#039;s Church - ECPv6.15.20//NONSGML v1.0//EN
CALSCALE:GREGORIAN
METHOD:PUBLISH
X-WR-CALNAME:St. Michael&#039;s Church
X-ORIGINAL-URL:https://stmichaels-litchfield.org
X-WR-CALDESC:Events for St. Michael&#039;s Church
REFRESH-INTERVAL;VALUE=DURATION:PT1H
X-Robots-Tag:noindex
X-PUBLISHED-TTL:PT1H
BEGIN:VTIMEZONE
TZID:America/New_York
BEGIN:DAYLIGHT
TZOFFSETFROM:-0500
TZOFFSETTO:-0400
TZNAME:EDT
DTSTART:20280312T070000
END:DAYLIGHT
BEGIN:STANDARD
TZOFFSETFROM:-0400
TZOFFSETTO:-0500
TZNAME:EST
DTSTART:20281105T060000
END:STANDARD
BEGIN:DAYLIGHT
TZOFFSETFROM:-0500
TZOFFSETTO:-0400
TZNAME:EDT
DTSTART:20290311T070000
END:DAYLIGHT
BEGIN:STANDARD
TZOFFSETFROM:-0400
TZOFFSETTO:-0500
TZNAME:EST
DTSTART:20291104T060000
END:STANDARD
BEGIN:DAYLIGHT
TZOFFSETFROM:-0500
TZOFFSETTO:-0400
TZNAME:EDT
DTSTART:20300310T070000
END:DAYLIGHT
BEGIN:STANDARD
TZOFFSETFROM:-0400
TZOFFSETTO:-0500
TZNAME:EST
DTSTART:20301103T060000
END:STANDARD
END:VTIMEZONE
BEGIN:VEVENT
DTSTART;TZID=America/New_York:20290124T070000
DTEND;TZID=America/New_York:20290124T073000
DTSTAMP:20260424T063229
CREATED:20230606T184551Z
LAST-MODIFIED:20230619T142647Z
UID:10286948-1863932400-1863934200@stmichaels-litchfield.org
SUMMARY:AA Meeting in the Parish House Library
DESCRIPTION:
URL:https://stmichaels-litchfield.org/event/aa-meeting-in-the-library/2029-01-24/
LOCATION:Parish House Library\, 25 South Street\, Litchfield\, CT\, 06759\, United States
CATEGORIES:AA/NA Events
END:VEVENT
BEGIN:VEVENT
DTSTART;TZID=America/New_York:20290124T083000
DTEND;TZID=America/New_York:20290124T110000
DTSTAMP:20260424T063229
CREATED:20250109T152013Z
LAST-MODIFIED:20250109T152013Z
UID:10019587-1863937800-1863946800@stmichaels-litchfield.org
SUMMARY:Greenwoods Counseling
DESCRIPTION:
URL:https://stmichaels-litchfield.org/event/greenwoods-counseling-7/2029-01-24/
CATEGORIES:Greenwoods Counseling
END:VEVENT
BEGIN:VEVENT
DTSTART;TZID=America/New_York:20290124T093000
DTEND;TZID=America/New_York:20290124T143000
DTSTAMP:20260424T063229
CREATED:20260128T181432Z
LAST-MODIFIED:20260128T181726Z
UID:10292048-1863941400-1863959400@stmichaels-litchfield.org
SUMMARY:Church Office Open
DESCRIPTION:
URL:https://stmichaels-litchfield.org/event/church-office-open-14/2029-01-24/
LOCATION:Church Office\, 25 South Street\, Litchfield\, CT\, 06759\, United States
CATEGORIES:Church Office Event
END:VEVENT
BEGIN:VEVENT
DTSTART;TZID=America/New_York:20290124T173000
DTEND;TZID=America/New_York:20290124T180000
DTSTAMP:20260424T063229
CREATED:20260327T155546Z
LAST-MODIFIED:20260422T175057Z
UID:10294584-1863970200-1863972000@stmichaels-litchfield.org
SUMMARY:Chanted Evening Prayer
DESCRIPTION:
URL:https://stmichaels-litchfield.org/event/chanted-evening-prayer-3/2029-01-24/
LOCATION:Chapel\, 25 South Street\, Litchfield\, CT\, 06759\, United States
CATEGORIES:Church Event
END:VEVENT
BEGIN:VEVENT
DTSTART;TZID=America/New_York:20290124T193000
DTEND;TZID=America/New_York:20290124T210000
DTSTAMP:20260424T063229
CREATED:20211108T180816Z
LAST-MODIFIED:20230714T003135Z
UID:10286752-1863977400-1863982800@stmichaels-litchfield.org
SUMMARY:NA meeting in Community House
DESCRIPTION:
URL:https://stmichaels-litchfield.org/event/narcotics-anonymous/2029-01-24/
LOCATION:Community House in Library from April 9th forward
CATEGORIES:AA/NA Events
END:VEVENT
BEGIN:VEVENT
DTSTART;TZID=America/New_York:20290125T093000
DTEND;TZID=America/New_York:20290125T143000
DTSTAMP:20260424T063229
CREATED:20260128T181432Z
LAST-MODIFIED:20260128T181726Z
UID:10292049-1864027800-1864045800@stmichaels-litchfield.org
SUMMARY:Church Office Open
DESCRIPTION:
URL:https://stmichaels-litchfield.org/event/church-office-open-14/2029-01-25/
LOCATION:Church Office\, 25 South Street\, Litchfield\, CT\, 06759\, United States
CATEGORIES:Church Office Event
END:VEVENT
BEGIN:VEVENT
DTSTART;TZID=America/New_York:20290126T070000
DTEND;TZID=America/New_York:20290126T073000
DTSTAMP:20260424T063229
CREATED:20230606T184551Z
LAST-MODIFIED:20230619T142647Z
UID:10286949-1864105200-1864107000@stmichaels-litchfield.org
SUMMARY:AA Meeting in the Parish House Library
DESCRIPTION:
URL:https://stmichaels-litchfield.org/event/aa-meeting-in-the-library/2029-01-26/
LOCATION:Parish House Library\, 25 South Street\, Litchfield\, CT\, 06759\, United States
CATEGORIES:AA/NA Events
END:VEVENT
BEGIN:VEVENT
DTSTART;TZID=America/New_York:20290126T093000
DTEND;TZID=America/New_York:20290126T143000
DTSTAMP:20260424T063229
CREATED:20260128T181432Z
LAST-MODIFIED:20260128T181726Z
UID:10292050-1864114200-1864132200@stmichaels-litchfield.org
SUMMARY:Church Office Open
DESCRIPTION:
URL:https://stmichaels-litchfield.org/event/church-office-open-14/2029-01-26/
LOCATION:Church Office\, 25 South Street\, Litchfield\, CT\, 06759\, United States
CATEGORIES:Church Office Event
END:VEVENT
BEGIN:VEVENT
DTSTART;TZID=America/New_York:20290128T080000
DTEND;TZID=America/New_York:20290128T090000
DTSTAMP:20260424T063229
CREATED:20211108T181651Z
LAST-MODIFIED:20260327T134504Z
UID:10020547-1864281600-1864285200@stmichaels-litchfield.org
SUMMARY:Eucharist\, Rite I
DESCRIPTION:Spoken\, no music
URL:https://stmichaels-litchfield.org/event/sunday-eucharist/2029-01-28/
LOCATION:Chapel\, 25 South Street\, Litchfield\, CT\, 06759\, United States
CATEGORIES:Church Event,Parish Events
END:VEVENT
BEGIN:VEVENT
DTSTART;TZID=America/New_York:20290128T100000
DTEND;TZID=America/New_York:20290128T110000
DTSTAMP:20260424T063229
CREATED:20250403T150154Z
LAST-MODIFIED:20260422T181447Z
UID:10020633-1864288800-1864292400@stmichaels-litchfield.org
SUMMARY:Sunday Eucharist\, Rite II
DESCRIPTION:Rite II with music \nFollowed by Coffee Hour in the Community House
URL:https://stmichaels-litchfield.org/event/sunday-eucharist-2-3/2029-01-28/
LOCATION:Church\, 25 South Street\, Litchfield\, CT\, 06759\, United States
CATEGORIES:Church Event,Parish Events
END:VEVENT
BEGIN:VEVENT
DTSTART;TZID=America/New_York:20290128T110000
DTEND;TZID=America/New_York:20290128T140000
DTSTAMP:20260424T063229
CREATED:20230711T182541Z
LAST-MODIFIED:20250806T192214Z
UID:10287237-1864292400-1864303200@stmichaels-litchfield.org
SUMMARY:Coffee and Fellowship in the Community House
DESCRIPTION:
URL:https://stmichaels-litchfield.org/event/coffee-and-congregation-in-the-community-house/2029-01-28/
LOCATION:Community House in Library from April 9th forward
CATEGORIES:Church Event
END:VEVENT
BEGIN:VEVENT
DTSTART;TZID=America/New_York:20290128T190000
DTEND;TZID=America/New_York:20290128T200000
DTSTAMP:20260424T063229
CREATED:20230619T142544Z
LAST-MODIFIED:20260416T160049Z
UID:10296136-1864321200-1864324800@stmichaels-litchfield.org
SUMMARY:AA Meeting in Community House
DESCRIPTION:
URL:https://stmichaels-litchfield.org/event/aa-meeting-in-community-house/2029-01-28/
LOCATION:Community House in Library from April 9th forward
END:VEVENT
BEGIN:VEVENT
DTSTART;VALUE=DATE:20290129
DTEND;VALUE=DATE:20290130
DTSTAMP:20260424T063229
CREATED:20260128T181321Z
LAST-MODIFIED:20260128T181322Z
UID:10291297-1864339200-1864425599@stmichaels-litchfield.org
SUMMARY:Church Office Closed
DESCRIPTION:
URL:https://stmichaels-litchfield.org/event/summer-schedule-church-office-closed-2-2-2-3/2029-01-29/
LOCATION:Church Office\, 25 South Street\, Litchfield\, CT\, 06759\, United States
CATEGORIES:Church Office Event
END:VEVENT
BEGIN:VEVENT
DTSTART;TZID=America/New_York:20290129T070000
DTEND;TZID=America/New_York:20290129T073000
DTSTAMP:20260424T063229
CREATED:20230606T184551Z
LAST-MODIFIED:20230619T142647Z
UID:10286950-1864364400-1864366200@stmichaels-litchfield.org
SUMMARY:AA Meeting in the Parish House Library
DESCRIPTION:
URL:https://stmichaels-litchfield.org/event/aa-meeting-in-the-library/2029-01-29/
LOCATION:Parish House Library\, 25 South Street\, Litchfield\, CT\, 06759\, United States
CATEGORIES:AA/NA Events
END:VEVENT
BEGIN:VEVENT
DTSTART;TZID=America/New_York:20290129T200000
DTEND;TZID=America/New_York:20290129T213000
DTSTAMP:20260424T063229
CREATED:20260218T173517Z
LAST-MODIFIED:20260218T173517Z
UID:10292720-1864411200-1864416600@stmichaels-litchfield.org
SUMMARY:AA meeting in the Community House
DESCRIPTION:
URL:https://stmichaels-litchfield.org/event/aa-meeting-in-the-community-house-2/2029-01-29/
END:VEVENT
BEGIN:VEVENT
DTSTART;TZID=America/New_York:20290130T093000
DTEND;TZID=America/New_York:20290130T143000
DTSTAMP:20260424T063229
CREATED:20260128T181432Z
LAST-MODIFIED:20260128T181726Z
UID:10292051-1864459800-1864477800@stmichaels-litchfield.org
SUMMARY:Church Office Open
DESCRIPTION:
URL:https://stmichaels-litchfield.org/event/church-office-open-14/2029-01-30/
LOCATION:Church Office\, 25 South Street\, Litchfield\, CT\, 06759\, United States
CATEGORIES:Church Office Event
END:VEVENT
BEGIN:VEVENT
DTSTART;TZID=America/New_York:20290130T160000
DTEND;TZID=America/New_York:20290130T173000
DTSTAMP:20260424T063229
CREATED:20260331T205128Z
LAST-MODIFIED:20260331T205254Z
UID:10294844-1864483200-1864488600@stmichaels-litchfield.org
SUMMARY:Priest Search Committee
DESCRIPTION:
URL:https://stmichaels-litchfield.org/event/priest-search-committee-3-2-5/2029-01-30/
LOCATION:Parish House Library\, 25 South Street\, Litchfield\, CT\, 06759\, United States
END:VEVENT
BEGIN:VEVENT
DTSTART;TZID=America/New_York:20290130T190000
DTEND;TZID=America/New_York:20290130T200000
DTSTAMP:20260424T063229
CREATED:20211108T175914Z
LAST-MODIFIED:20260130T014621Z
UID:10286653-1864494000-1864497600@stmichaels-litchfield.org
SUMMARY:AA Meeting in Community House
DESCRIPTION:
URL:https://stmichaels-litchfield.org/event/aa-group-in-community-house-2/2029-01-30/
LOCATION:Community House in Library from April 9th forward
CATEGORIES:AA/NA Events
END:VEVENT
BEGIN:VEVENT
DTSTART;TZID=America/New_York:20290131T070000
DTEND;TZID=America/New_York:20290131T073000
DTSTAMP:20260424T063229
CREATED:20230606T184551Z
LAST-MODIFIED:20230619T142647Z
UID:10286951-1864537200-1864539000@stmichaels-litchfield.org
SUMMARY:AA Meeting in the Parish House Library
DESCRIPTION:
URL:https://stmichaels-litchfield.org/event/aa-meeting-in-the-library/2029-01-31/
LOCATION:Parish House Library\, 25 South Street\, Litchfield\, CT\, 06759\, United States
CATEGORIES:AA/NA Events
END:VEVENT
BEGIN:VEVENT
DTSTART;TZID=America/New_York:20290131T083000
DTEND;TZID=America/New_York:20290131T110000
DTSTAMP:20260424T063229
CREATED:20250109T152013Z
LAST-MODIFIED:20250109T152013Z
UID:10019588-1864542600-1864551600@stmichaels-litchfield.org
SUMMARY:Greenwoods Counseling
DESCRIPTION:
URL:https://stmichaels-litchfield.org/event/greenwoods-counseling-7/2029-01-31/
CATEGORIES:Greenwoods Counseling
END:VEVENT
BEGIN:VEVENT
DTSTART;TZID=America/New_York:20290131T093000
DTEND;TZID=America/New_York:20290131T143000
DTSTAMP:20260424T063229
CREATED:20260128T181432Z
LAST-MODIFIED:20260128T181726Z
UID:10292052-1864546200-1864564200@stmichaels-litchfield.org
SUMMARY:Church Office Open
DESCRIPTION:
URL:https://stmichaels-litchfield.org/event/church-office-open-14/2029-01-31/
LOCATION:Church Office\, 25 South Street\, Litchfield\, CT\, 06759\, United States
CATEGORIES:Church Office Event
END:VEVENT
BEGIN:VEVENT
DTSTART;TZID=America/New_York:20290131T173000
DTEND;TZID=America/New_York:20290131T180000
DTSTAMP:20260424T063229
CREATED:20260327T155546Z
LAST-MODIFIED:20260422T175057Z
UID:10294585-1864575000-1864576800@stmichaels-litchfield.org
SUMMARY:Chanted Evening Prayer
DESCRIPTION:
URL:https://stmichaels-litchfield.org/event/chanted-evening-prayer-3/2029-01-31/
LOCATION:Chapel\, 25 South Street\, Litchfield\, CT\, 06759\, United States
CATEGORIES:Church Event
END:VEVENT
BEGIN:VEVENT
DTSTART;TZID=America/New_York:20290131T193000
DTEND;TZID=America/New_York:20290131T210000
DTSTAMP:20260424T063229
CREATED:20211108T180816Z
LAST-MODIFIED:20230714T003135Z
UID:10286753-1864582200-1864587600@stmichaels-litchfield.org
SUMMARY:NA meeting in Community House
DESCRIPTION:
URL:https://stmichaels-litchfield.org/event/narcotics-anonymous/2029-01-31/
LOCATION:Community House in Library from April 9th forward
CATEGORIES:AA/NA Events
END:VEVENT
BEGIN:VEVENT
DTSTART;TZID=America/New_York:20290201T093000
DTEND;TZID=America/New_York:20290201T143000
DTSTAMP:20260424T063229
CREATED:20260128T181432Z
LAST-MODIFIED:20260128T181726Z
UID:10292053-1864632600-1864650600@stmichaels-litchfield.org
SUMMARY:Church Office Open
DESCRIPTION:
URL:https://stmichaels-litchfield.org/event/church-office-open-14/2029-02-01/
LOCATION:Church Office\, 25 South Street\, Litchfield\, CT\, 06759\, United States
CATEGORIES:Church Office Event
END:VEVENT
BEGIN:VEVENT
DTSTART;TZID=America/New_York:20290202T070000
DTEND;TZID=America/New_York:20290202T073000
DTSTAMP:20260424T063229
CREATED:20230606T184551Z
LAST-MODIFIED:20230619T142647Z
UID:10286952-1864710000-1864711800@stmichaels-litchfield.org
SUMMARY:AA Meeting in the Parish House Library
DESCRIPTION:
URL:https://stmichaels-litchfield.org/event/aa-meeting-in-the-library/2029-02-02/
LOCATION:Parish House Library\, 25 South Street\, Litchfield\, CT\, 06759\, United States
CATEGORIES:AA/NA Events
END:VEVENT
BEGIN:VEVENT
DTSTART;TZID=America/New_York:20290202T093000
DTEND;TZID=America/New_York:20290202T143000
DTSTAMP:20260424T063229
CREATED:20260128T181432Z
LAST-MODIFIED:20260128T181726Z
UID:10292054-1864719000-1864737000@stmichaels-litchfield.org
SUMMARY:Church Office Open
DESCRIPTION:
URL:https://stmichaels-litchfield.org/event/church-office-open-14/2029-02-02/
LOCATION:Church Office\, 25 South Street\, Litchfield\, CT\, 06759\, United States
CATEGORIES:Church Office Event
END:VEVENT
BEGIN:VEVENT
DTSTART;TZID=America/New_York:20290204T080000
DTEND;TZID=America/New_York:20290204T090000
DTSTAMP:20260424T063229
CREATED:20211108T181651Z
LAST-MODIFIED:20260327T134504Z
UID:10020548-1864886400-1864890000@stmichaels-litchfield.org
SUMMARY:Eucharist\, Rite I
DESCRIPTION:Spoken\, no music
URL:https://stmichaels-litchfield.org/event/sunday-eucharist/2029-02-04/
LOCATION:Chapel\, 25 South Street\, Litchfield\, CT\, 06759\, United States
CATEGORIES:Church Event,Parish Events
END:VEVENT
BEGIN:VEVENT
DTSTART;TZID=America/New_York:20290204T100000
DTEND;TZID=America/New_York:20290204T110000
DTSTAMP:20260424T063229
CREATED:20250403T150154Z
LAST-MODIFIED:20260422T181447Z
UID:10020634-1864893600-1864897200@stmichaels-litchfield.org
SUMMARY:Sunday Eucharist\, Rite II
DESCRIPTION:Rite II with music \nFollowed by Coffee Hour in the Community House
URL:https://stmichaels-litchfield.org/event/sunday-eucharist-2-3/2029-02-04/
LOCATION:Church\, 25 South Street\, Litchfield\, CT\, 06759\, United States
CATEGORIES:Church Event,Parish Events
END:VEVENT
BEGIN:VEVENT
DTSTART;TZID=America/New_York:20290204T110000
DTEND;TZID=America/New_York:20290204T140000
DTSTAMP:20260424T063229
CREATED:20230711T182541Z
LAST-MODIFIED:20250806T192214Z
UID:10287238-1864897200-1864908000@stmichaels-litchfield.org
SUMMARY:Coffee and Fellowship in the Community House
DESCRIPTION:
URL:https://stmichaels-litchfield.org/event/coffee-and-congregation-in-the-community-house/2029-02-04/
LOCATION:Community House in Library from April 9th forward
CATEGORIES:Church Event
END:VEVENT
BEGIN:VEVENT
DTSTART;TZID=America/New_York:20290204T190000
DTEND;TZID=America/New_York:20290204T200000
DTSTAMP:20260424T063229
CREATED:20230619T142544Z
LAST-MODIFIED:20260416T160049Z
UID:10296137-1864926000-1864929600@stmichaels-litchfield.org
SUMMARY:AA Meeting in Community House
DESCRIPTION:
URL:https://stmichaels-litchfield.org/event/aa-meeting-in-community-house/2029-02-04/
LOCATION:Community House in Library from April 9th forward
END:VEVENT
END:VCALENDAR