BEGIN:VCALENDAR
VERSION:2.0
PRODID:-//St. Michael&#039;s Church - ECPv6.15.20//NONSGML v1.0//EN
CALSCALE:GREGORIAN
METHOD:PUBLISH
X-WR-CALNAME:St. Michael&#039;s Church
X-ORIGINAL-URL:https://stmichaels-litchfield.org
X-WR-CALDESC:Events for St. Michael&#039;s Church
REFRESH-INTERVAL;VALUE=DURATION:PT1H
X-Robots-Tag:noindex
X-PUBLISHED-TTL:PT1H
BEGIN:VTIMEZONE
TZID:America/New_York
BEGIN:DAYLIGHT
TZOFFSETFROM:-0500
TZOFFSETTO:-0400
TZNAME:EDT
DTSTART:20280312T070000
END:DAYLIGHT
BEGIN:STANDARD
TZOFFSETFROM:-0400
TZOFFSETTO:-0500
TZNAME:EST
DTSTART:20281105T060000
END:STANDARD
BEGIN:DAYLIGHT
TZOFFSETFROM:-0500
TZOFFSETTO:-0400
TZNAME:EDT
DTSTART:20290311T070000
END:DAYLIGHT
BEGIN:STANDARD
TZOFFSETFROM:-0400
TZOFFSETTO:-0500
TZNAME:EST
DTSTART:20291104T060000
END:STANDARD
BEGIN:DAYLIGHT
TZOFFSETFROM:-0500
TZOFFSETTO:-0400
TZNAME:EDT
DTSTART:20300310T070000
END:DAYLIGHT
BEGIN:STANDARD
TZOFFSETFROM:-0400
TZOFFSETTO:-0500
TZNAME:EST
DTSTART:20301103T060000
END:STANDARD
END:VTIMEZONE
BEGIN:VEVENT
DTSTART;TZID=America/New_York:20290220T190000
DTEND;TZID=America/New_York:20290220T200000
DTSTAMP:20260424T113425
CREATED:20211108T175914Z
LAST-MODIFIED:20260130T014621Z
UID:10286656-1866308400-1866312000@stmichaels-litchfield.org
SUMMARY:AA Meeting in Community House
DESCRIPTION:
URL:https://stmichaels-litchfield.org/event/aa-group-in-community-house-2/2029-02-20/
LOCATION:Community House in Library from April 9th forward
CATEGORIES:AA/NA Events
END:VEVENT
BEGIN:VEVENT
DTSTART;TZID=America/New_York:20290221T070000
DTEND;TZID=America/New_York:20290221T073000
DTSTAMP:20260424T113425
CREATED:20230606T184551Z
LAST-MODIFIED:20230619T142647Z
UID:10286960-1866351600-1866353400@stmichaels-litchfield.org
SUMMARY:AA Meeting in the Parish House Library
DESCRIPTION:
URL:https://stmichaels-litchfield.org/event/aa-meeting-in-the-library/2029-02-21/
LOCATION:Parish House Library\, 25 South Street\, Litchfield\, CT\, 06759\, United States
CATEGORIES:AA/NA Events
END:VEVENT
BEGIN:VEVENT
DTSTART;TZID=America/New_York:20290221T083000
DTEND;TZID=America/New_York:20290221T110000
DTSTAMP:20260424T113425
CREATED:20250109T152013Z
LAST-MODIFIED:20250109T152013Z
UID:10019591-1866357000-1866366000@stmichaels-litchfield.org
SUMMARY:Greenwoods Counseling
DESCRIPTION:
URL:https://stmichaels-litchfield.org/event/greenwoods-counseling-7/2029-02-21/
CATEGORIES:Greenwoods Counseling
END:VEVENT
BEGIN:VEVENT
DTSTART;TZID=America/New_York:20290221T093000
DTEND;TZID=America/New_York:20290221T143000
DTSTAMP:20260424T113425
CREATED:20260128T181432Z
LAST-MODIFIED:20260128T181726Z
UID:10292064-1866360600-1866378600@stmichaels-litchfield.org
SUMMARY:Church Office Open
DESCRIPTION:
URL:https://stmichaels-litchfield.org/event/church-office-open-14/2029-02-21/
LOCATION:Church Office\, 25 South Street\, Litchfield\, CT\, 06759\, United States
CATEGORIES:Church Office Event
END:VEVENT
BEGIN:VEVENT
DTSTART;TZID=America/New_York:20290221T173000
DTEND;TZID=America/New_York:20290221T180000
DTSTAMP:20260424T113425
CREATED:20260327T155546Z
LAST-MODIFIED:20260422T175057Z
UID:10294588-1866389400-1866391200@stmichaels-litchfield.org
SUMMARY:Chanted Evening Prayer
DESCRIPTION:
URL:https://stmichaels-litchfield.org/event/chanted-evening-prayer-3/2029-02-21/
LOCATION:Chapel\, 25 South Street\, Litchfield\, CT\, 06759\, United States
CATEGORIES:Church Event
END:VEVENT
BEGIN:VEVENT
DTSTART;TZID=America/New_York:20290221T193000
DTEND;TZID=America/New_York:20290221T210000
DTSTAMP:20260424T113425
CREATED:20211108T180816Z
LAST-MODIFIED:20230714T003135Z
UID:10286756-1866396600-1866402000@stmichaels-litchfield.org
SUMMARY:NA meeting in Community House
DESCRIPTION:
URL:https://stmichaels-litchfield.org/event/narcotics-anonymous/2029-02-21/
LOCATION:Community House in Library from April 9th forward
CATEGORIES:AA/NA Events
END:VEVENT
BEGIN:VEVENT
DTSTART;TZID=America/New_York:20290222T093000
DTEND;TZID=America/New_York:20290222T143000
DTSTAMP:20260424T113425
CREATED:20260128T181432Z
LAST-MODIFIED:20260128T181726Z
UID:10292065-1866447000-1866465000@stmichaels-litchfield.org
SUMMARY:Church Office Open
DESCRIPTION:
URL:https://stmichaels-litchfield.org/event/church-office-open-14/2029-02-22/
LOCATION:Church Office\, 25 South Street\, Litchfield\, CT\, 06759\, United States
CATEGORIES:Church Office Event
END:VEVENT
BEGIN:VEVENT
DTSTART;TZID=America/New_York:20290223T070000
DTEND;TZID=America/New_York:20290223T073000
DTSTAMP:20260424T113425
CREATED:20230606T184551Z
LAST-MODIFIED:20230619T142647Z
UID:10286961-1866524400-1866526200@stmichaels-litchfield.org
SUMMARY:AA Meeting in the Parish House Library
DESCRIPTION:
URL:https://stmichaels-litchfield.org/event/aa-meeting-in-the-library/2029-02-23/
LOCATION:Parish House Library\, 25 South Street\, Litchfield\, CT\, 06759\, United States
CATEGORIES:AA/NA Events
END:VEVENT
BEGIN:VEVENT
DTSTART;TZID=America/New_York:20290223T093000
DTEND;TZID=America/New_York:20290223T143000
DTSTAMP:20260424T113425
CREATED:20260128T181432Z
LAST-MODIFIED:20260128T181726Z
UID:10292066-1866533400-1866551400@stmichaels-litchfield.org
SUMMARY:Church Office Open
DESCRIPTION:
URL:https://stmichaels-litchfield.org/event/church-office-open-14/2029-02-23/
LOCATION:Church Office\, 25 South Street\, Litchfield\, CT\, 06759\, United States
CATEGORIES:Church Office Event
END:VEVENT
BEGIN:VEVENT
DTSTART;TZID=America/New_York:20290225T080000
DTEND;TZID=America/New_York:20290225T090000
DTSTAMP:20260424T113425
CREATED:20211108T181651Z
LAST-MODIFIED:20260327T134504Z
UID:10020551-1866700800-1866704400@stmichaels-litchfield.org
SUMMARY:Eucharist\, Rite I
DESCRIPTION:Spoken\, no music
URL:https://stmichaels-litchfield.org/event/sunday-eucharist/2029-02-25/
LOCATION:Chapel\, 25 South Street\, Litchfield\, CT\, 06759\, United States
CATEGORIES:Church Event,Parish Events
END:VEVENT
BEGIN:VEVENT
DTSTART;TZID=America/New_York:20290225T100000
DTEND;TZID=America/New_York:20290225T110000
DTSTAMP:20260424T113425
CREATED:20250403T150154Z
LAST-MODIFIED:20260422T181447Z
UID:10020637-1866708000-1866711600@stmichaels-litchfield.org
SUMMARY:Sunday Eucharist\, Rite II
DESCRIPTION:Rite II with music \nFollowed by Coffee Hour in the Community House
URL:https://stmichaels-litchfield.org/event/sunday-eucharist-2-3/2029-02-25/
LOCATION:Church\, 25 South Street\, Litchfield\, CT\, 06759\, United States
CATEGORIES:Church Event,Parish Events
END:VEVENT
BEGIN:VEVENT
DTSTART;TZID=America/New_York:20290225T110000
DTEND;TZID=America/New_York:20290225T140000
DTSTAMP:20260424T113425
CREATED:20230711T182541Z
LAST-MODIFIED:20250806T192214Z
UID:10287241-1866711600-1866722400@stmichaels-litchfield.org
SUMMARY:Coffee and Fellowship in the Community House
DESCRIPTION:
URL:https://stmichaels-litchfield.org/event/coffee-and-congregation-in-the-community-house/2029-02-25/
LOCATION:Community House in Library from April 9th forward
CATEGORIES:Church Event
END:VEVENT
BEGIN:VEVENT
DTSTART;TZID=America/New_York:20290225T190000
DTEND;TZID=America/New_York:20290225T200000
DTSTAMP:20260424T113425
CREATED:20230619T142544Z
LAST-MODIFIED:20260416T160049Z
UID:10296140-1866740400-1866744000@stmichaels-litchfield.org
SUMMARY:AA Meeting in Community House
DESCRIPTION:
URL:https://stmichaels-litchfield.org/event/aa-meeting-in-community-house/2029-02-25/
LOCATION:Community House in Library from April 9th forward
END:VEVENT
BEGIN:VEVENT
DTSTART;VALUE=DATE:20290226
DTEND;VALUE=DATE:20290227
DTSTAMP:20260424T113425
CREATED:20260128T181321Z
LAST-MODIFIED:20260128T181322Z
UID:10291301-1866758400-1866844799@stmichaels-litchfield.org
SUMMARY:Church Office Closed
DESCRIPTION:
URL:https://stmichaels-litchfield.org/event/summer-schedule-church-office-closed-2-2-2-3/2029-02-26/
LOCATION:Church Office\, 25 South Street\, Litchfield\, CT\, 06759\, United States
CATEGORIES:Church Office Event
END:VEVENT
BEGIN:VEVENT
DTSTART;TZID=America/New_York:20290226T070000
DTEND;TZID=America/New_York:20290226T073000
DTSTAMP:20260424T113425
CREATED:20230606T184551Z
LAST-MODIFIED:20230619T142647Z
UID:10286962-1866783600-1866785400@stmichaels-litchfield.org
SUMMARY:AA Meeting in the Parish House Library
DESCRIPTION:
URL:https://stmichaels-litchfield.org/event/aa-meeting-in-the-library/2029-02-26/
LOCATION:Parish House Library\, 25 South Street\, Litchfield\, CT\, 06759\, United States
CATEGORIES:AA/NA Events
END:VEVENT
BEGIN:VEVENT
DTSTART;TZID=America/New_York:20290226T200000
DTEND;TZID=America/New_York:20290226T213000
DTSTAMP:20260424T113425
CREATED:20260218T173517Z
LAST-MODIFIED:20260218T173517Z
UID:10292724-1866830400-1866835800@stmichaels-litchfield.org
SUMMARY:AA meeting in the Community House
DESCRIPTION:
URL:https://stmichaels-litchfield.org/event/aa-meeting-in-the-community-house-2/2029-02-26/
END:VEVENT
BEGIN:VEVENT
DTSTART;TZID=America/New_York:20290227T093000
DTEND;TZID=America/New_York:20290227T143000
DTSTAMP:20260424T113425
CREATED:20260128T181432Z
LAST-MODIFIED:20260128T181726Z
UID:10292067-1866879000-1866897000@stmichaels-litchfield.org
SUMMARY:Church Office Open
DESCRIPTION:
URL:https://stmichaels-litchfield.org/event/church-office-open-14/2029-02-27/
LOCATION:Church Office\, 25 South Street\, Litchfield\, CT\, 06759\, United States
CATEGORIES:Church Office Event
END:VEVENT
BEGIN:VEVENT
DTSTART;TZID=America/New_York:20290227T160000
DTEND;TZID=America/New_York:20290227T173000
DTSTAMP:20260424T113425
CREATED:20260331T205128Z
LAST-MODIFIED:20260331T205254Z
UID:10294848-1866902400-1866907800@stmichaels-litchfield.org
SUMMARY:Priest Search Committee
DESCRIPTION:
URL:https://stmichaels-litchfield.org/event/priest-search-committee-3-2-5/2029-02-27/
LOCATION:Parish House Library\, 25 South Street\, Litchfield\, CT\, 06759\, United States
END:VEVENT
BEGIN:VEVENT
DTSTART;TZID=America/New_York:20290227T190000
DTEND;TZID=America/New_York:20290227T200000
DTSTAMP:20260424T113425
CREATED:20211108T175914Z
LAST-MODIFIED:20260130T014621Z
UID:10286657-1866913200-1866916800@stmichaels-litchfield.org
SUMMARY:AA Meeting in Community House
DESCRIPTION:
URL:https://stmichaels-litchfield.org/event/aa-group-in-community-house-2/2029-02-27/
LOCATION:Community House in Library from April 9th forward
CATEGORIES:AA/NA Events
END:VEVENT
BEGIN:VEVENT
DTSTART;TZID=America/New_York:20290228T070000
DTEND;TZID=America/New_York:20290228T073000
DTSTAMP:20260424T113425
CREATED:20230606T184551Z
LAST-MODIFIED:20230619T142647Z
UID:10286963-1866956400-1866958200@stmichaels-litchfield.org
SUMMARY:AA Meeting in the Parish House Library
DESCRIPTION:
URL:https://stmichaels-litchfield.org/event/aa-meeting-in-the-library/2029-02-28/
LOCATION:Parish House Library\, 25 South Street\, Litchfield\, CT\, 06759\, United States
CATEGORIES:AA/NA Events
END:VEVENT
BEGIN:VEVENT
DTSTART;TZID=America/New_York:20290228T083000
DTEND;TZID=America/New_York:20290228T110000
DTSTAMP:20260424T113425
CREATED:20250109T152013Z
LAST-MODIFIED:20250109T152013Z
UID:10019592-1866961800-1866970800@stmichaels-litchfield.org
SUMMARY:Greenwoods Counseling
DESCRIPTION:
URL:https://stmichaels-litchfield.org/event/greenwoods-counseling-7/2029-02-28/
CATEGORIES:Greenwoods Counseling
END:VEVENT
BEGIN:VEVENT
DTSTART;TZID=America/New_York:20290228T093000
DTEND;TZID=America/New_York:20290228T143000
DTSTAMP:20260424T113425
CREATED:20260128T181432Z
LAST-MODIFIED:20260128T181726Z
UID:10292068-1866965400-1866983400@stmichaels-litchfield.org
SUMMARY:Church Office Open
DESCRIPTION:
URL:https://stmichaels-litchfield.org/event/church-office-open-14/2029-02-28/
LOCATION:Church Office\, 25 South Street\, Litchfield\, CT\, 06759\, United States
CATEGORIES:Church Office Event
END:VEVENT
BEGIN:VEVENT
DTSTART;TZID=America/New_York:20290228T173000
DTEND;TZID=America/New_York:20290228T180000
DTSTAMP:20260424T113425
CREATED:20260327T155546Z
LAST-MODIFIED:20260422T175057Z
UID:10294589-1866994200-1866996000@stmichaels-litchfield.org
SUMMARY:Chanted Evening Prayer
DESCRIPTION:
URL:https://stmichaels-litchfield.org/event/chanted-evening-prayer-3/2029-02-28/
LOCATION:Chapel\, 25 South Street\, Litchfield\, CT\, 06759\, United States
CATEGORIES:Church Event
END:VEVENT
BEGIN:VEVENT
DTSTART;TZID=America/New_York:20290228T193000
DTEND;TZID=America/New_York:20290228T210000
DTSTAMP:20260424T113425
CREATED:20211108T180816Z
LAST-MODIFIED:20230714T003135Z
UID:10286757-1867001400-1867006800@stmichaels-litchfield.org
SUMMARY:NA meeting in Community House
DESCRIPTION:
URL:https://stmichaels-litchfield.org/event/narcotics-anonymous/2029-02-28/
LOCATION:Community House in Library from April 9th forward
CATEGORIES:AA/NA Events
END:VEVENT
BEGIN:VEVENT
DTSTART;TZID=America/New_York:20290301T093000
DTEND;TZID=America/New_York:20290301T143000
DTSTAMP:20260424T113425
CREATED:20260128T181432Z
LAST-MODIFIED:20260128T181726Z
UID:10292069-1867051800-1867069800@stmichaels-litchfield.org
SUMMARY:Church Office Open
DESCRIPTION:
URL:https://stmichaels-litchfield.org/event/church-office-open-14/2029-03-01/
LOCATION:Church Office\, 25 South Street\, Litchfield\, CT\, 06759\, United States
CATEGORIES:Church Office Event
END:VEVENT
BEGIN:VEVENT
DTSTART;TZID=America/New_York:20290302T070000
DTEND;TZID=America/New_York:20290302T073000
DTSTAMP:20260424T113425
CREATED:20230606T184551Z
LAST-MODIFIED:20230619T142647Z
UID:10286964-1867129200-1867131000@stmichaels-litchfield.org
SUMMARY:AA Meeting in the Parish House Library
DESCRIPTION:
URL:https://stmichaels-litchfield.org/event/aa-meeting-in-the-library/2029-03-02/
LOCATION:Parish House Library\, 25 South Street\, Litchfield\, CT\, 06759\, United States
CATEGORIES:AA/NA Events
END:VEVENT
BEGIN:VEVENT
DTSTART;TZID=America/New_York:20290302T093000
DTEND;TZID=America/New_York:20290302T143000
DTSTAMP:20260424T113425
CREATED:20260128T181432Z
LAST-MODIFIED:20260128T181726Z
UID:10292070-1867138200-1867156200@stmichaels-litchfield.org
SUMMARY:Church Office Open
DESCRIPTION:
URL:https://stmichaels-litchfield.org/event/church-office-open-14/2029-03-02/
LOCATION:Church Office\, 25 South Street\, Litchfield\, CT\, 06759\, United States
CATEGORIES:Church Office Event
END:VEVENT
BEGIN:VEVENT
DTSTART;TZID=America/New_York:20290304T080000
DTEND;TZID=America/New_York:20290304T090000
DTSTAMP:20260424T113425
CREATED:20211108T181651Z
LAST-MODIFIED:20260327T134504Z
UID:10020552-1867305600-1867309200@stmichaels-litchfield.org
SUMMARY:Eucharist\, Rite I
DESCRIPTION:Spoken\, no music
URL:https://stmichaels-litchfield.org/event/sunday-eucharist/2029-03-04/
LOCATION:Chapel\, 25 South Street\, Litchfield\, CT\, 06759\, United States
CATEGORIES:Church Event,Parish Events
END:VEVENT
BEGIN:VEVENT
DTSTART;TZID=America/New_York:20290304T100000
DTEND;TZID=America/New_York:20290304T110000
DTSTAMP:20260424T113425
CREATED:20250403T150154Z
LAST-MODIFIED:20260422T181447Z
UID:10020638-1867312800-1867316400@stmichaels-litchfield.org
SUMMARY:Sunday Eucharist\, Rite II
DESCRIPTION:Rite II with music \nFollowed by Coffee Hour in the Community House
URL:https://stmichaels-litchfield.org/event/sunday-eucharist-2-3/2029-03-04/
LOCATION:Church\, 25 South Street\, Litchfield\, CT\, 06759\, United States
CATEGORIES:Church Event,Parish Events
END:VEVENT
BEGIN:VEVENT
DTSTART;TZID=America/New_York:20290304T110000
DTEND;TZID=America/New_York:20290304T140000
DTSTAMP:20260424T113425
CREATED:20230711T182541Z
LAST-MODIFIED:20250806T192214Z
UID:10287242-1867316400-1867327200@stmichaels-litchfield.org
SUMMARY:Coffee and Fellowship in the Community House
DESCRIPTION:
URL:https://stmichaels-litchfield.org/event/coffee-and-congregation-in-the-community-house/2029-03-04/
LOCATION:Community House in Library from April 9th forward
CATEGORIES:Church Event
END:VEVENT
END:VCALENDAR