BEGIN:VCALENDAR
VERSION:2.0
PRODID:-//St. Michael&#039;s Church - ECPv6.15.20//NONSGML v1.0//EN
CALSCALE:GREGORIAN
METHOD:PUBLISH
X-WR-CALNAME:St. Michael&#039;s Church
X-ORIGINAL-URL:https://stmichaels-litchfield.org
X-WR-CALDESC:Events for St. Michael&#039;s Church
REFRESH-INTERVAL;VALUE=DURATION:PT1H
X-Robots-Tag:noindex
X-PUBLISHED-TTL:PT1H
BEGIN:VTIMEZONE
TZID:America/New_York
BEGIN:DAYLIGHT
TZOFFSETFROM:-0500
TZOFFSETTO:-0400
TZNAME:EDT
DTSTART:20280312T070000
END:DAYLIGHT
BEGIN:STANDARD
TZOFFSETFROM:-0400
TZOFFSETTO:-0500
TZNAME:EST
DTSTART:20281105T060000
END:STANDARD
BEGIN:DAYLIGHT
TZOFFSETFROM:-0500
TZOFFSETTO:-0400
TZNAME:EDT
DTSTART:20290311T070000
END:DAYLIGHT
BEGIN:STANDARD
TZOFFSETFROM:-0400
TZOFFSETTO:-0500
TZNAME:EST
DTSTART:20291104T060000
END:STANDARD
BEGIN:DAYLIGHT
TZOFFSETFROM:-0500
TZOFFSETTO:-0400
TZNAME:EDT
DTSTART:20300310T070000
END:DAYLIGHT
BEGIN:STANDARD
TZOFFSETFROM:-0400
TZOFFSETTO:-0500
TZNAME:EST
DTSTART:20301103T060000
END:STANDARD
END:VTIMEZONE
BEGIN:VEVENT
DTSTART;TZID=America/New_York:20290710T120000
DTEND;TZID=America/New_York:20290710T130000
DTSTAMP:20260424T223038
CREATED:20260223T205039Z
LAST-MODIFIED:20260223T205039Z
UID:10293205-1878379200-1878382800@stmichaels-litchfield.org
SUMMARY:Lunch with Meredith
DESCRIPTION:
URL:https://stmichaels-litchfield.org/event/lunch-with-meredith-2/2029-07-10/
LOCATION:Community House in Library from April 9th forward
CATEGORIES:Church Event,Parish Events
END:VEVENT
BEGIN:VEVENT
DTSTART;TZID=America/New_York:20290710T151500
DTEND;TZID=America/New_York:20290710T163000
DTSTAMP:20260424T223038
CREATED:20260223T204456Z
LAST-MODIFIED:20260304T185946Z
UID:10293593-1878390900-1878395400@stmichaels-litchfield.org
SUMMARY:Property Committee meeting in Parish House Library
DESCRIPTION:
URL:https://stmichaels-litchfield.org/event/property-committee-meeting-in-parish-house-library-4/2029-07-10/
LOCATION:Parish House Library\, 25 South Street\, Litchfield\, CT\, 06759\, United States
CATEGORIES:Church Event
END:VEVENT
BEGIN:VEVENT
DTSTART;TZID=America/New_York:20290710T160000
DTEND;TZID=America/New_York:20290710T173000
DTSTAMP:20260424T223038
CREATED:20260331T205128Z
LAST-MODIFIED:20260331T205254Z
UID:10294867-1878393600-1878399000@stmichaels-litchfield.org
SUMMARY:Priest Search Committee
DESCRIPTION:
URL:https://stmichaels-litchfield.org/event/priest-search-committee-3-2-5/2029-07-10/
LOCATION:Parish House Library\, 25 South Street\, Litchfield\, CT\, 06759\, United States
END:VEVENT
BEGIN:VEVENT
DTSTART;TZID=America/New_York:20290710T190000
DTEND;TZID=America/New_York:20290710T200000
DTSTAMP:20260424T223038
CREATED:20211108T175914Z
LAST-MODIFIED:20260130T014621Z
UID:10286676-1878404400-1878408000@stmichaels-litchfield.org
SUMMARY:AA Meeting in Community House
DESCRIPTION:
URL:https://stmichaels-litchfield.org/event/aa-group-in-community-house-2/2029-07-10/
LOCATION:Community House in Library from April 9th forward
CATEGORIES:AA/NA Events
END:VEVENT
BEGIN:VEVENT
DTSTART;TZID=America/New_York:20290711T070000
DTEND;TZID=America/New_York:20290711T073000
DTSTAMP:20260424T223038
CREATED:20230606T184551Z
LAST-MODIFIED:20230619T142647Z
UID:10287020-1878447600-1878449400@stmichaels-litchfield.org
SUMMARY:AA Meeting in the Parish House Library
DESCRIPTION:
URL:https://stmichaels-litchfield.org/event/aa-meeting-in-the-library/2029-07-11/
LOCATION:Parish House Library\, 25 South Street\, Litchfield\, CT\, 06759\, United States
CATEGORIES:AA/NA Events
END:VEVENT
BEGIN:VEVENT
DTSTART;TZID=America/New_York:20290711T083000
DTEND;TZID=America/New_York:20290711T110000
DTSTAMP:20260424T223038
CREATED:20250109T152013Z
LAST-MODIFIED:20250109T152013Z
UID:10019611-1878453000-1878462000@stmichaels-litchfield.org
SUMMARY:Greenwoods Counseling
DESCRIPTION:
URL:https://stmichaels-litchfield.org/event/greenwoods-counseling-7/2029-07-11/
CATEGORIES:Greenwoods Counseling
END:VEVENT
BEGIN:VEVENT
DTSTART;TZID=America/New_York:20290711T093000
DTEND;TZID=America/New_York:20290711T143000
DTSTAMP:20260424T223038
CREATED:20260128T181432Z
LAST-MODIFIED:20260128T181726Z
UID:10292144-1878456600-1878474600@stmichaels-litchfield.org
SUMMARY:Church Office Open
DESCRIPTION:
URL:https://stmichaels-litchfield.org/event/church-office-open-14/2029-07-11/
LOCATION:Church Office\, 25 South Street\, Litchfield\, CT\, 06759\, United States
CATEGORIES:Church Office Event
END:VEVENT
BEGIN:VEVENT
DTSTART;TZID=America/New_York:20290711T173000
DTEND;TZID=America/New_York:20290711T180000
DTSTAMP:20260424T223038
CREATED:20260327T155546Z
LAST-MODIFIED:20260422T175057Z
UID:10294608-1878485400-1878487200@stmichaels-litchfield.org
SUMMARY:Chanted Evening Prayer
DESCRIPTION:
URL:https://stmichaels-litchfield.org/event/chanted-evening-prayer-3/2029-07-11/
LOCATION:Chapel\, 25 South Street\, Litchfield\, CT\, 06759\, United States
CATEGORIES:Church Event
END:VEVENT
BEGIN:VEVENT
DTSTART;TZID=America/New_York:20290711T193000
DTEND;TZID=America/New_York:20290711T210000
DTSTAMP:20260424T223038
CREATED:20211108T180816Z
LAST-MODIFIED:20230714T003135Z
UID:10286776-1878492600-1878498000@stmichaels-litchfield.org
SUMMARY:NA meeting in Community House
DESCRIPTION:
URL:https://stmichaels-litchfield.org/event/narcotics-anonymous/2029-07-11/
LOCATION:Community House in Library from April 9th forward
CATEGORIES:AA/NA Events
END:VEVENT
BEGIN:VEVENT
DTSTART;TZID=America/New_York:20290712T093000
DTEND;TZID=America/New_York:20290712T143000
DTSTAMP:20260424T223038
CREATED:20260128T181432Z
LAST-MODIFIED:20260128T181726Z
UID:10292145-1878543000-1878561000@stmichaels-litchfield.org
SUMMARY:Church Office Open
DESCRIPTION:
URL:https://stmichaels-litchfield.org/event/church-office-open-14/2029-07-12/
LOCATION:Church Office\, 25 South Street\, Litchfield\, CT\, 06759\, United States
CATEGORIES:Church Office Event
END:VEVENT
BEGIN:VEVENT
DTSTART;TZID=America/New_York:20290713T070000
DTEND;TZID=America/New_York:20290713T073000
DTSTAMP:20260424T223038
CREATED:20230606T184551Z
LAST-MODIFIED:20230619T142647Z
UID:10287021-1878620400-1878622200@stmichaels-litchfield.org
SUMMARY:AA Meeting in the Parish House Library
DESCRIPTION:
URL:https://stmichaels-litchfield.org/event/aa-meeting-in-the-library/2029-07-13/
LOCATION:Parish House Library\, 25 South Street\, Litchfield\, CT\, 06759\, United States
CATEGORIES:AA/NA Events
END:VEVENT
BEGIN:VEVENT
DTSTART;TZID=America/New_York:20290713T093000
DTEND;TZID=America/New_York:20290713T143000
DTSTAMP:20260424T223038
CREATED:20260128T181432Z
LAST-MODIFIED:20260128T181726Z
UID:10292146-1878629400-1878647400@stmichaels-litchfield.org
SUMMARY:Church Office Open
DESCRIPTION:
URL:https://stmichaels-litchfield.org/event/church-office-open-14/2029-07-13/
LOCATION:Church Office\, 25 South Street\, Litchfield\, CT\, 06759\, United States
CATEGORIES:Church Office Event
END:VEVENT
BEGIN:VEVENT
DTSTART;TZID=America/New_York:20290715T080000
DTEND;TZID=America/New_York:20290715T090000
DTSTAMP:20260424T223038
CREATED:20211108T181651Z
LAST-MODIFIED:20260327T134504Z
UID:10020571-1878796800-1878800400@stmichaels-litchfield.org
SUMMARY:Eucharist\, Rite I
DESCRIPTION:Spoken\, no music
URL:https://stmichaels-litchfield.org/event/sunday-eucharist/2029-07-15/
LOCATION:Chapel\, 25 South Street\, Litchfield\, CT\, 06759\, United States
CATEGORIES:Church Event,Parish Events
END:VEVENT
BEGIN:VEVENT
DTSTART;TZID=America/New_York:20290715T100000
DTEND;TZID=America/New_York:20290715T110000
DTSTAMP:20260424T223038
CREATED:20250403T150154Z
LAST-MODIFIED:20260422T181447Z
UID:10020657-1878804000-1878807600@stmichaels-litchfield.org
SUMMARY:Sunday Eucharist\, Rite II
DESCRIPTION:Rite II with music \nFollowed by Coffee Hour in the Community House
URL:https://stmichaels-litchfield.org/event/sunday-eucharist-2-3/2029-07-15/
LOCATION:Church\, 25 South Street\, Litchfield\, CT\, 06759\, United States
CATEGORIES:Church Event,Parish Events
END:VEVENT
BEGIN:VEVENT
DTSTART;TZID=America/New_York:20290715T110000
DTEND;TZID=America/New_York:20290715T140000
DTSTAMP:20260424T223038
CREATED:20230711T182541Z
LAST-MODIFIED:20250806T192214Z
UID:10287261-1878807600-1878818400@stmichaels-litchfield.org
SUMMARY:Coffee and Fellowship in the Community House
DESCRIPTION:
URL:https://stmichaels-litchfield.org/event/coffee-and-congregation-in-the-community-house/2029-07-15/
LOCATION:Community House in Library from April 9th forward
CATEGORIES:Church Event
END:VEVENT
BEGIN:VEVENT
DTSTART;TZID=America/New_York:20290715T190000
DTEND;TZID=America/New_York:20290715T200000
DTSTAMP:20260424T223038
CREATED:20230619T142544Z
LAST-MODIFIED:20260416T160049Z
UID:10296160-1878836400-1878840000@stmichaels-litchfield.org
SUMMARY:AA Meeting in Community House
DESCRIPTION:
URL:https://stmichaels-litchfield.org/event/aa-meeting-in-community-house/2029-07-15/
LOCATION:Community House in Library from April 9th forward
END:VEVENT
BEGIN:VEVENT
DTSTART;VALUE=DATE:20290716
DTEND;VALUE=DATE:20290717
DTSTAMP:20260424T223038
CREATED:20260128T181321Z
LAST-MODIFIED:20260128T181322Z
UID:10291321-1878854400-1878940799@stmichaels-litchfield.org
SUMMARY:Church Office Closed
DESCRIPTION:
URL:https://stmichaels-litchfield.org/event/summer-schedule-church-office-closed-2-2-2-3/2029-07-16/
LOCATION:Church Office\, 25 South Street\, Litchfield\, CT\, 06759\, United States
CATEGORIES:Church Office Event
END:VEVENT
BEGIN:VEVENT
DTSTART;TZID=America/New_York:20290716T070000
DTEND;TZID=America/New_York:20290716T073000
DTSTAMP:20260424T223038
CREATED:20230606T184551Z
LAST-MODIFIED:20230619T142647Z
UID:10287022-1878879600-1878881400@stmichaels-litchfield.org
SUMMARY:AA Meeting in the Parish House Library
DESCRIPTION:
URL:https://stmichaels-litchfield.org/event/aa-meeting-in-the-library/2029-07-16/
LOCATION:Parish House Library\, 25 South Street\, Litchfield\, CT\, 06759\, United States
CATEGORIES:AA/NA Events
END:VEVENT
BEGIN:VEVENT
DTSTART;TZID=America/New_York:20290716T200000
DTEND;TZID=America/New_York:20290716T213000
DTSTAMP:20260424T223038
CREATED:20260218T173517Z
LAST-MODIFIED:20260218T173517Z
UID:10292744-1878926400-1878931800@stmichaels-litchfield.org
SUMMARY:AA meeting in the Community House
DESCRIPTION:
URL:https://stmichaels-litchfield.org/event/aa-meeting-in-the-community-house-2/2029-07-16/
END:VEVENT
BEGIN:VEVENT
DTSTART;TZID=America/New_York:20290717T093000
DTEND;TZID=America/New_York:20290717T143000
DTSTAMP:20260424T223038
CREATED:20260128T181432Z
LAST-MODIFIED:20260128T181726Z
UID:10292147-1878975000-1878993000@stmichaels-litchfield.org
SUMMARY:Church Office Open
DESCRIPTION:
URL:https://stmichaels-litchfield.org/event/church-office-open-14/2029-07-17/
LOCATION:Church Office\, 25 South Street\, Litchfield\, CT\, 06759\, United States
CATEGORIES:Church Office Event
END:VEVENT
BEGIN:VEVENT
DTSTART;TZID=America/New_York:20290717T160000
DTEND;TZID=America/New_York:20290717T173000
DTSTAMP:20260424T223038
CREATED:20260331T205128Z
LAST-MODIFIED:20260331T205254Z
UID:10294868-1878998400-1879003800@stmichaels-litchfield.org
SUMMARY:Priest Search Committee
DESCRIPTION:
URL:https://stmichaels-litchfield.org/event/priest-search-committee-3-2-5/2029-07-17/
LOCATION:Parish House Library\, 25 South Street\, Litchfield\, CT\, 06759\, United States
END:VEVENT
BEGIN:VEVENT
DTSTART;TZID=America/New_York:20290717T190000
DTEND;TZID=America/New_York:20290717T200000
DTSTAMP:20260424T223038
CREATED:20211108T175914Z
LAST-MODIFIED:20260130T014621Z
UID:10286677-1879009200-1879012800@stmichaels-litchfield.org
SUMMARY:AA Meeting in Community House
DESCRIPTION:
URL:https://stmichaels-litchfield.org/event/aa-group-in-community-house-2/2029-07-17/
LOCATION:Community House in Library from April 9th forward
CATEGORIES:AA/NA Events
END:VEVENT
BEGIN:VEVENT
DTSTART;TZID=America/New_York:20290718T070000
DTEND;TZID=America/New_York:20290718T073000
DTSTAMP:20260424T223038
CREATED:20230606T184551Z
LAST-MODIFIED:20230619T142647Z
UID:10287023-1879052400-1879054200@stmichaels-litchfield.org
SUMMARY:AA Meeting in the Parish House Library
DESCRIPTION:
URL:https://stmichaels-litchfield.org/event/aa-meeting-in-the-library/2029-07-18/
LOCATION:Parish House Library\, 25 South Street\, Litchfield\, CT\, 06759\, United States
CATEGORIES:AA/NA Events
END:VEVENT
BEGIN:VEVENT
DTSTART;TZID=America/New_York:20290718T083000
DTEND;TZID=America/New_York:20290718T110000
DTSTAMP:20260424T223038
CREATED:20250109T152013Z
LAST-MODIFIED:20250109T152013Z
UID:10019612-1879057800-1879066800@stmichaels-litchfield.org
SUMMARY:Greenwoods Counseling
DESCRIPTION:
URL:https://stmichaels-litchfield.org/event/greenwoods-counseling-7/2029-07-18/
CATEGORIES:Greenwoods Counseling
END:VEVENT
BEGIN:VEVENT
DTSTART;TZID=America/New_York:20290718T093000
DTEND;TZID=America/New_York:20290718T143000
DTSTAMP:20260424T223038
CREATED:20260128T181432Z
LAST-MODIFIED:20260128T181726Z
UID:10292148-1879061400-1879079400@stmichaels-litchfield.org
SUMMARY:Church Office Open
DESCRIPTION:
URL:https://stmichaels-litchfield.org/event/church-office-open-14/2029-07-18/
LOCATION:Church Office\, 25 South Street\, Litchfield\, CT\, 06759\, United States
CATEGORIES:Church Office Event
END:VEVENT
BEGIN:VEVENT
DTSTART;TZID=America/New_York:20290718T173000
DTEND;TZID=America/New_York:20290718T180000
DTSTAMP:20260424T223038
CREATED:20260327T155546Z
LAST-MODIFIED:20260422T175057Z
UID:10294609-1879090200-1879092000@stmichaels-litchfield.org
SUMMARY:Chanted Evening Prayer
DESCRIPTION:
URL:https://stmichaels-litchfield.org/event/chanted-evening-prayer-3/2029-07-18/
LOCATION:Chapel\, 25 South Street\, Litchfield\, CT\, 06759\, United States
CATEGORIES:Church Event
END:VEVENT
BEGIN:VEVENT
DTSTART;TZID=America/New_York:20290718T193000
DTEND;TZID=America/New_York:20290718T210000
DTSTAMP:20260424T223038
CREATED:20211108T180816Z
LAST-MODIFIED:20230714T003135Z
UID:10286777-1879097400-1879102800@stmichaels-litchfield.org
SUMMARY:NA meeting in Community House
DESCRIPTION:
URL:https://stmichaels-litchfield.org/event/narcotics-anonymous/2029-07-18/
LOCATION:Community House in Library from April 9th forward
CATEGORIES:AA/NA Events
END:VEVENT
BEGIN:VEVENT
DTSTART;TZID=America/New_York:20290719T093000
DTEND;TZID=America/New_York:20290719T143000
DTSTAMP:20260424T223038
CREATED:20260128T181432Z
LAST-MODIFIED:20260128T181726Z
UID:10292149-1879147800-1879165800@stmichaels-litchfield.org
SUMMARY:Church Office Open
DESCRIPTION:
URL:https://stmichaels-litchfield.org/event/church-office-open-14/2029-07-19/
LOCATION:Church Office\, 25 South Street\, Litchfield\, CT\, 06759\, United States
CATEGORIES:Church Office Event
END:VEVENT
BEGIN:VEVENT
DTSTART;TZID=America/New_York:20290720T070000
DTEND;TZID=America/New_York:20290720T073000
DTSTAMP:20260424T223038
CREATED:20230606T184551Z
LAST-MODIFIED:20230619T142647Z
UID:10287024-1879225200-1879227000@stmichaels-litchfield.org
SUMMARY:AA Meeting in the Parish House Library
DESCRIPTION:
URL:https://stmichaels-litchfield.org/event/aa-meeting-in-the-library/2029-07-20/
LOCATION:Parish House Library\, 25 South Street\, Litchfield\, CT\, 06759\, United States
CATEGORIES:AA/NA Events
END:VEVENT
BEGIN:VEVENT
DTSTART;TZID=America/New_York:20290720T093000
DTEND;TZID=America/New_York:20290720T143000
DTSTAMP:20260424T223038
CREATED:20260128T181432Z
LAST-MODIFIED:20260128T181726Z
UID:10292150-1879234200-1879252200@stmichaels-litchfield.org
SUMMARY:Church Office Open
DESCRIPTION:
URL:https://stmichaels-litchfield.org/event/church-office-open-14/2029-07-20/
LOCATION:Church Office\, 25 South Street\, Litchfield\, CT\, 06759\, United States
CATEGORIES:Church Office Event
END:VEVENT
END:VCALENDAR