BEGIN:VCALENDAR
VERSION:2.0
PRODID:-//St. Michael&#039;s Church - ECPv6.15.20//NONSGML v1.0//EN
CALSCALE:GREGORIAN
METHOD:PUBLISH
X-ORIGINAL-URL:https://stmichaels-litchfield.org
X-WR-CALDESC:Events for St. Michael&#039;s Church
REFRESH-INTERVAL;VALUE=DURATION:PT1H
X-Robots-Tag:noindex
X-PUBLISHED-TTL:PT1H
BEGIN:VTIMEZONE
TZID:America/New_York
BEGIN:DAYLIGHT
TZOFFSETFROM:-0500
TZOFFSETTO:-0400
TZNAME:EDT
DTSTART:20240310T070000
END:DAYLIGHT
BEGIN:STANDARD
TZOFFSETFROM:-0400
TZOFFSETTO:-0500
TZNAME:EST
DTSTART:20241103T060000
END:STANDARD
BEGIN:DAYLIGHT
TZOFFSETFROM:-0500
TZOFFSETTO:-0400
TZNAME:EDT
DTSTART:20250309T070000
END:DAYLIGHT
BEGIN:STANDARD
TZOFFSETFROM:-0400
TZOFFSETTO:-0500
TZNAME:EST
DTSTART:20251102T060000
END:STANDARD
BEGIN:DAYLIGHT
TZOFFSETFROM:-0500
TZOFFSETTO:-0400
TZNAME:EDT
DTSTART:20260308T070000
END:DAYLIGHT
BEGIN:STANDARD
TZOFFSETFROM:-0400
TZOFFSETTO:-0500
TZNAME:EST
DTSTART:20261101T060000
END:STANDARD
END:VTIMEZONE
BEGIN:VEVENT
DTSTART;TZID=America/New_York:20250917T090000
DTEND;TZID=America/New_York:20250917T130000
DTSTAMP:20260419T124934
CREATED:20240206T174110Z
LAST-MODIFIED:20260107T171415Z
UID:10288798-1758099600-1758114000@stmichaels-litchfield.org
SUMMARY:Church Office Open
DESCRIPTION:
URL:https://stmichaels-litchfield.org/event/church-office-open-2-2-2-2/2025-09-17/
LOCATION:Church Office\, 25 South Street\, Litchfield\, CT\, 06759\, United States
CATEGORIES:Church Office Event
END:VEVENT
BEGIN:VEVENT
DTSTART;TZID=America/New_York:20250917T100000
DTEND;TZID=America/New_York:20250917T130000
DTSTAMP:20260419T124934
CREATED:20240206T174237Z
LAST-MODIFIED:20240223T173652Z
UID:10017100-1758103200-1758114000@stmichaels-litchfield.org
SUMMARY:Church Office Open
DESCRIPTION:
URL:https://stmichaels-litchfield.org/event/church-office-open-3-4-2/2025-09-17/
LOCATION:Church Office\, 25 South Street\, Litchfield\, CT\, 06759\, United States
END:VEVENT
BEGIN:VEVENT
DTSTART;TZID=America/New_York:20250917T190000
DTEND;TZID=America/New_York:20250917T203000
DTSTAMP:20260419T124934
CREATED:20230817T183342Z
LAST-MODIFIED:20230817T183342Z
UID:10013104-1758135600-1758141000@stmichaels-litchfield.org
SUMMARY:Choir Rehearsal in Parish House Music Room
DESCRIPTION:
URL:https://stmichaels-litchfield.org/event/choir-rehearsal-in-parish-house-music-room/2025-09-17/
LOCATION:Parish House Music Room
CATEGORIES:Church Event
END:VEVENT
BEGIN:VEVENT
DTSTART;TZID=America/New_York:20250917T193000
DTEND;TZID=America/New_York:20250917T210000
DTSTAMP:20260419T124934
CREATED:20211108T180816Z
LAST-MODIFIED:20230714T003135Z
UID:10012428-1758137400-1758142800@stmichaels-litchfield.org
SUMMARY:NA meeting in Community House
DESCRIPTION:
URL:https://stmichaels-litchfield.org/event/narcotics-anonymous/2025-09-17/
LOCATION:Community House in Library from April 9th forward
CATEGORIES:AA/NA Events
END:VEVENT
BEGIN:VEVENT
DTSTART;TZID=America/New_York:20250918T090000
DTEND;TZID=America/New_York:20250918T130000
DTSTAMP:20260419T124934
CREATED:20240206T174110Z
LAST-MODIFIED:20260107T171415Z
UID:10288799-1758186000-1758200400@stmichaels-litchfield.org
SUMMARY:Church Office Open
DESCRIPTION:
URL:https://stmichaels-litchfield.org/event/church-office-open-2-2-2-2/2025-09-18/
LOCATION:Church Office\, 25 South Street\, Litchfield\, CT\, 06759\, United States
CATEGORIES:Church Office Event
END:VEVENT
BEGIN:VEVENT
DTSTART;TZID=America/New_York:20250918T100000
DTEND;TZID=America/New_York:20250918T130000
DTSTAMP:20260419T124934
CREATED:20240206T174423Z
LAST-MODIFIED:20240223T173813Z
UID:10017361-1758189600-1758200400@stmichaels-litchfield.org
SUMMARY:Church Office Open
DESCRIPTION:
URL:https://stmichaels-litchfield.org/event/church-office-open-4-5-2/2025-09-18/
LOCATION:Church Office\, 25 South Street\, Litchfield\, CT\, 06759\, United States
END:VEVENT
BEGIN:VEVENT
DTSTART;TZID=America/New_York:20250918T143000
DTEND;TZID=America/New_York:20250918T163000
DTSTAMP:20260419T124934
CREATED:20250115T162847Z
LAST-MODIFIED:20250115T162847Z
UID:10019679-1758205800-1758213000@stmichaels-litchfield.org
SUMMARY:Italian Club
DESCRIPTION:
URL:https://stmichaels-litchfield.org/event/italian-club-2/2025-09-18/
LOCATION:Community House in Library from April 9th forward
END:VEVENT
BEGIN:VEVENT
DTSTART;TZID=America/New_York:20250919T070000
DTEND;TZID=America/New_York:20250919T073000
DTSTAMP:20260419T124934
CREATED:20230606T184551Z
LAST-MODIFIED:20230619T142647Z
UID:10006027-1758265200-1758267000@stmichaels-litchfield.org
SUMMARY:AA Meeting in the Parish House Library
DESCRIPTION:
URL:https://stmichaels-litchfield.org/event/aa-meeting-in-the-library/2025-09-19/
LOCATION:Parish House Library\, 25 South Street\, Litchfield\, CT\, 06759\, United States
CATEGORIES:AA/NA Events
END:VEVENT
BEGIN:VEVENT
DTSTART;TZID=America/New_York:20250919T100000
DTEND;TZID=America/New_York:20250919T130000
DTSTAMP:20260419T124934
CREATED:20240223T172033Z
LAST-MODIFIED:20240223T172034Z
UID:10016317-1758276000-1758286800@stmichaels-litchfield.org
SUMMARY:Church Office Open
DESCRIPTION:
URL:https://stmichaels-litchfield.org/event/summer-schedule-church-office-closed-2-2/2025-09-19/
LOCATION:Church Office\, 25 South Street\, Litchfield\, CT\, 06759\, United States
CATEGORIES:Church Office Event
END:VEVENT
BEGIN:VEVENT
DTSTART;TZID=America/New_York:20250919T133000
DTEND;TZID=America/New_York:20250919T153000
DTSTAMP:20260419T124934
CREATED:20250115T163522Z
LAST-MODIFIED:20250115T163522Z
UID:10019728-1758288600-1758295800@stmichaels-litchfield.org
SUMMARY:Italian Club
DESCRIPTION:
URL:https://stmichaels-litchfield.org/event/italian-club-3/2025-09-19/
LOCATION:Community House in Library from April 9th forward
CATEGORIES:Other Groups
END:VEVENT
BEGIN:VEVENT
DTSTART;TZID=America/New_York:20250920T083000
DTEND;TZID=America/New_York:20250920T093000
DTSTAMP:20260419T124934
CREATED:20230619T143626Z
LAST-MODIFIED:20230619T143720Z
UID:10010681-1758357000-1758360600@stmichaels-litchfield.org
SUMMARY:AA Meeting in Parish House Library
DESCRIPTION:
URL:https://stmichaels-litchfield.org/event/aa-meeting-in-community-house-2/2025-09-20/
LOCATION:Community House in Library from April 9th forward
CATEGORIES:AA/NA Events
END:VEVENT
BEGIN:VEVENT
DTSTART;TZID=America/New_York:20250920T100000
DTEND;TZID=America/New_York:20250920T170000
DTSTAMP:20260419T124934
CREATED:20250714T144052Z
LAST-MODIFIED:20250714T144052Z
UID:10287213-1758362400-1758387600@stmichaels-litchfield.org
SUMMARY:Sulivan & Blanchette Wedding Shower
DESCRIPTION:
URL:https://stmichaels-litchfield.org/event/sulivan-blanchette-wedding-shower/
LOCATION:Community House in Library from April 9th forward
CATEGORIES:Wedding
END:VEVENT
BEGIN:VEVENT
DTSTART;TZID=America/New_York:20250921T080000
DTEND;TZID=America/New_York:20250921T090000
DTSTAMP:20260419T124934
CREATED:20211108T181651Z
LAST-MODIFIED:20260327T134504Z
UID:10020372-1758441600-1758445200@stmichaels-litchfield.org
SUMMARY:Eucharist\, Rite I
DESCRIPTION:Spoken\, no music
URL:https://stmichaels-litchfield.org/event/sunday-eucharist/2025-09-21/
LOCATION:Chapel\, 25 South Street\, Litchfield\, CT\, 06759\, United States
CATEGORIES:Church Event,Parish Events
END:VEVENT
BEGIN:VEVENT
DTSTART;TZID=America/New_York:20250921T100000
DTEND;TZID=America/New_York:20250921T110000
DTSTAMP:20260419T124934
CREATED:20250403T150154Z
LAST-MODIFIED:20250806T192031Z
UID:10012687-1758448800-1758452400@stmichaels-litchfield.org
SUMMARY:Sunday Eucharist\, Rite II
DESCRIPTION:Rite II with music \nFollowed by Coffee Hour in the Community House
URL:https://stmichaels-litchfield.org/event/sunday-eucharist-2-3/2025-09-21/
LOCATION:Church and Community House
CATEGORIES:Church Event,Parish Events
END:VEVENT
BEGIN:VEVENT
DTSTART;TZID=America/New_York:20250921T110000
DTEND;TZID=America/New_York:20250921T140000
DTSTAMP:20260419T124934
CREATED:20230711T182541Z
LAST-MODIFIED:20250806T192214Z
UID:10012026-1758452400-1758463200@stmichaels-litchfield.org
SUMMARY:Coffee and Fellowship in the Community House
DESCRIPTION:
URL:https://stmichaels-litchfield.org/event/coffee-and-congregation-in-the-community-house/2025-09-21/
LOCATION:Community House in Library from April 9th forward
CATEGORIES:Church Event
END:VEVENT
BEGIN:VEVENT
DTSTART;TZID=America/New_York:20250921T190000
DTEND;TZID=America/New_York:20250921T200000
DTSTAMP:20260419T124934
CREATED:20230619T142544Z
LAST-MODIFIED:20260416T160049Z
UID:10009871-1758481200-1758484800@stmichaels-litchfield.org
SUMMARY:AA Meeting in Community House
DESCRIPTION:
URL:https://stmichaels-litchfield.org/event/aa-meeting-in-community-house/2025-09-21/
LOCATION:Community House in Library from April 9th forward
END:VEVENT
BEGIN:VEVENT
DTSTART;TZID=America/New_York:20250922T070000
DTEND;TZID=America/New_York:20250922T073000
DTSTAMP:20260419T124934
CREATED:20230606T184551Z
LAST-MODIFIED:20230619T142647Z
UID:10006028-1758524400-1758526200@stmichaels-litchfield.org
SUMMARY:AA Meeting in the Parish House Library
DESCRIPTION:
URL:https://stmichaels-litchfield.org/event/aa-meeting-in-the-library/2025-09-22/
LOCATION:Parish House Library\, 25 South Street\, Litchfield\, CT\, 06759\, United States
CATEGORIES:AA/NA Events
END:VEVENT
BEGIN:VEVENT
DTSTART;TZID=America/New_York:20250922T090000
DTEND;TZID=America/New_York:20250922T130000
DTSTAMP:20260419T124934
CREATED:20240206T174110Z
LAST-MODIFIED:20260107T171415Z
UID:10288800-1758531600-1758546000@stmichaels-litchfield.org
SUMMARY:Church Office Open
DESCRIPTION:
URL:https://stmichaels-litchfield.org/event/church-office-open-2-2-2-2/2025-09-22/
LOCATION:Church Office\, 25 South Street\, Litchfield\, CT\, 06759\, United States
CATEGORIES:Church Office Event
END:VEVENT
BEGIN:VEVENT
DTSTART;TZID=America/New_York:20250922T100000
DTEND;TZID=America/New_York:20250922T130000
DTSTAMP:20260419T124934
CREATED:20240206T173900Z
LAST-MODIFIED:20240223T172212Z
UID:10016579-1758535200-1758546000@stmichaels-litchfield.org
SUMMARY:Church Office Open
DESCRIPTION:
URL:https://stmichaels-litchfield.org/event/church-office-open-7-5-2/2025-09-22/
LOCATION:Church Office\, 25 South Street\, Litchfield\, CT\, 06759\, United States
END:VEVENT
BEGIN:VEVENT
DTSTART;TZID=America/New_York:20250922T133000
DTEND;TZID=America/New_York:20250922T150000
DTSTAMP:20260419T124934
CREATED:20250922T151122Z
LAST-MODIFIED:20250922T151122Z
UID:10287345-1758547800-1758553200@stmichaels-litchfield.org
SUMMARY:Sr. Rosemarie Planning Mtg
DESCRIPTION:
URL:https://stmichaels-litchfield.org/event/sr-rosemarie-planning-mtg/
LOCATION:Community House in Library from April 9th forward
CATEGORIES:Other Groups
END:VEVENT
BEGIN:VEVENT
DTSTART;TZID=America/New_York:20250923T090000
DTEND;TZID=America/New_York:20250923T110000
DTSTAMP:20260419T124934
CREATED:20250922T132742Z
LAST-MODIFIED:20250922T132742Z
UID:10287344-1758618000-1758625200@stmichaels-litchfield.org
SUMMARY:Greenwoods Mtg
DESCRIPTION:
URL:https://stmichaels-litchfield.org/event/greenwoods-mtg-6/
LOCATION:Community House in Library from April 9th forward
CATEGORIES:Greenwoods Counseling
END:VEVENT
BEGIN:VEVENT
DTSTART;TZID=America/New_York:20250923T090000
DTEND;TZID=America/New_York:20250923T130000
DTSTAMP:20260419T124934
CREATED:20240206T174110Z
LAST-MODIFIED:20260107T171415Z
UID:10020778-1758618000-1758632400@stmichaels-litchfield.org
SUMMARY:Church Office Open
DESCRIPTION:
URL:https://stmichaels-litchfield.org/event/church-office-open-2-2-2-2/2025-09-23/
LOCATION:Church Office\, 25 South Street\, Litchfield\, CT\, 06759\, United States
CATEGORIES:Church Office Event
END:VEVENT
BEGIN:VEVENT
DTSTART;TZID=America/New_York:20250923T190000
DTEND;TZID=America/New_York:20250923T200000
DTSTAMP:20260419T124934
CREATED:20211108T175914Z
LAST-MODIFIED:20260130T014621Z
UID:10010075-1758654000-1758657600@stmichaels-litchfield.org
SUMMARY:AA Meeting in Community House
DESCRIPTION:
URL:https://stmichaels-litchfield.org/event/aa-group-in-community-house-2/2025-09-23/
LOCATION:Community House in Library from April 9th forward
CATEGORIES:AA/NA Events
END:VEVENT
BEGIN:VEVENT
DTSTART;TZID=America/New_York:20250924T070000
DTEND;TZID=America/New_York:20250924T073000
DTSTAMP:20260419T124934
CREATED:20230606T184551Z
LAST-MODIFIED:20230619T142647Z
UID:10006029-1758697200-1758699000@stmichaels-litchfield.org
SUMMARY:AA Meeting in the Parish House Library
DESCRIPTION:
URL:https://stmichaels-litchfield.org/event/aa-meeting-in-the-library/2025-09-24/
LOCATION:Parish House Library\, 25 South Street\, Litchfield\, CT\, 06759\, United States
CATEGORIES:AA/NA Events
END:VEVENT
BEGIN:VEVENT
DTSTART;TZID=America/New_York:20250924T083000
DTEND;TZID=America/New_York:20250924T110000
DTSTAMP:20260419T124934
CREATED:20250109T152013Z
LAST-MODIFIED:20250109T152013Z
UID:10019413-1758702600-1758711600@stmichaels-litchfield.org
SUMMARY:Greenwoods Counseling
DESCRIPTION:
URL:https://stmichaels-litchfield.org/event/greenwoods-counseling-7/2025-09-24/
CATEGORIES:Greenwoods Counseling
END:VEVENT
BEGIN:VEVENT
DTSTART;TZID=America/New_York:20250924T090000
DTEND;TZID=America/New_York:20250924T130000
DTSTAMP:20260419T124934
CREATED:20240206T174110Z
LAST-MODIFIED:20260107T171415Z
UID:10288801-1758704400-1758718800@stmichaels-litchfield.org
SUMMARY:Church Office Open
DESCRIPTION:
URL:https://stmichaels-litchfield.org/event/church-office-open-2-2-2-2/2025-09-24/
LOCATION:Church Office\, 25 South Street\, Litchfield\, CT\, 06759\, United States
CATEGORIES:Church Office Event
END:VEVENT
BEGIN:VEVENT
DTSTART;TZID=America/New_York:20250924T100000
DTEND;TZID=America/New_York:20250924T130000
DTSTAMP:20260419T124934
CREATED:20240206T174237Z
LAST-MODIFIED:20240223T173652Z
UID:10017101-1758708000-1758718800@stmichaels-litchfield.org
SUMMARY:Church Office Open
DESCRIPTION:
URL:https://stmichaels-litchfield.org/event/church-office-open-3-4-2/2025-09-24/
LOCATION:Church Office\, 25 South Street\, Litchfield\, CT\, 06759\, United States
END:VEVENT
BEGIN:VEVENT
DTSTART;TZID=America/New_York:20250924T110000
DTEND;TZID=America/New_York:20250924T133000
DTSTAMP:20260419T124934
CREATED:20231012T152740Z
LAST-MODIFIED:20231012T152740Z
UID:10013901-1758711600-1758720600@stmichaels-litchfield.org
SUMMARY:Greenwoods Counselling All Staff Meeting in the Community House
DESCRIPTION:
URL:https://stmichaels-litchfield.org/event/greenwoods-counselling-all-staff-meeting-in-the-community-house/2025-09-24/
LOCATION:Community House in Library from April 9th forward
CATEGORIES:Greenwoods Counseling
END:VEVENT
BEGIN:VEVENT
DTSTART;TZID=America/New_York:20250924T190000
DTEND;TZID=America/New_York:20250924T203000
DTSTAMP:20260419T124934
CREATED:20230817T183342Z
LAST-MODIFIED:20230817T183342Z
UID:10013105-1758740400-1758745800@stmichaels-litchfield.org
SUMMARY:Choir Rehearsal in Parish House Music Room
DESCRIPTION:
URL:https://stmichaels-litchfield.org/event/choir-rehearsal-in-parish-house-music-room/2025-09-24/
LOCATION:Parish House Music Room
CATEGORIES:Church Event
END:VEVENT
BEGIN:VEVENT
DTSTART;TZID=America/New_York:20250924T193000
DTEND;TZID=America/New_York:20250924T210000
DTSTAMP:20260419T124934
CREATED:20211108T180816Z
LAST-MODIFIED:20230714T003135Z
UID:10012429-1758742200-1758747600@stmichaels-litchfield.org
SUMMARY:NA meeting in Community House
DESCRIPTION:
URL:https://stmichaels-litchfield.org/event/narcotics-anonymous/2025-09-24/
LOCATION:Community House in Library from April 9th forward
CATEGORIES:AA/NA Events
END:VEVENT
END:VCALENDAR