BEGIN:VCALENDAR
VERSION:2.0
PRODID:-//St. Michael&#039;s Church - ECPv6.15.20//NONSGML v1.0//EN
CALSCALE:GREGORIAN
METHOD:PUBLISH
X-ORIGINAL-URL:https://stmichaels-litchfield.org
X-WR-CALDESC:Events for St. Michael&#039;s Church
REFRESH-INTERVAL;VALUE=DURATION:PT1H
X-Robots-Tag:noindex
X-PUBLISHED-TTL:PT1H
BEGIN:VTIMEZONE
TZID:America/New_York
BEGIN:DAYLIGHT
TZOFFSETFROM:-0500
TZOFFSETTO:-0400
TZNAME:EDT
DTSTART:20250309T070000
END:DAYLIGHT
BEGIN:STANDARD
TZOFFSETFROM:-0400
TZOFFSETTO:-0500
TZNAME:EST
DTSTART:20251102T060000
END:STANDARD
BEGIN:DAYLIGHT
TZOFFSETFROM:-0500
TZOFFSETTO:-0400
TZNAME:EDT
DTSTART:20260308T070000
END:DAYLIGHT
BEGIN:STANDARD
TZOFFSETFROM:-0400
TZOFFSETTO:-0500
TZNAME:EST
DTSTART:20261101T060000
END:STANDARD
BEGIN:DAYLIGHT
TZOFFSETFROM:-0500
TZOFFSETTO:-0400
TZNAME:EDT
DTSTART:20270314T070000
END:DAYLIGHT
BEGIN:STANDARD
TZOFFSETFROM:-0400
TZOFFSETTO:-0500
TZNAME:EST
DTSTART:20271107T060000
END:STANDARD
END:VTIMEZONE
BEGIN:VEVENT
DTSTART;TZID=America/New_York:20260624T193000
DTEND;TZID=America/New_York:20260624T210000
DTSTAMP:20260419T204046
CREATED:20211108T180816Z
LAST-MODIFIED:20230714T003135Z
UID:10012468-1782329400-1782334800@stmichaels-litchfield.org
SUMMARY:NA meeting in Community House
DESCRIPTION:
URL:https://stmichaels-litchfield.org/event/narcotics-anonymous/2026-06-24/
LOCATION:Community House in Library from April 9th forward
CATEGORIES:AA/NA Events
END:VEVENT
BEGIN:VEVENT
DTSTART;TZID=America/New_York:20260625T093000
DTEND;TZID=America/New_York:20260625T143000
DTSTAMP:20260419T204046
CREATED:20260128T181432Z
LAST-MODIFIED:20260128T181726Z
UID:10291509-1782379800-1782397800@stmichaels-litchfield.org
SUMMARY:Church Office Open
DESCRIPTION:
URL:https://stmichaels-litchfield.org/event/church-office-open-14/2026-06-25/
LOCATION:Church Office\, 25 South Street\, Litchfield\, CT\, 06759\, United States
CATEGORIES:Church Office Event
END:VEVENT
BEGIN:VEVENT
DTSTART;TZID=America/New_York:20260625T143000
DTEND;TZID=America/New_York:20260625T163000
DTSTAMP:20260419T204046
CREATED:20260224T180134Z
LAST-MODIFIED:20260325T134517Z
UID:10293247-1782397800-1782405000@stmichaels-litchfield.org
SUMMARY:Italian Club in Library
DESCRIPTION:
URL:https://stmichaels-litchfield.org/event/italian-club-5-2/2026-06-25/
LOCATION:Community House in Library from April 9th forward
CATEGORIES:Other Groups
END:VEVENT
BEGIN:VEVENT
DTSTART;TZID=America/New_York:20260626T070000
DTEND;TZID=America/New_York:20260626T073000
DTSTAMP:20260419T204046
CREATED:20230606T184551Z
LAST-MODIFIED:20230619T142647Z
UID:10006147-1782457200-1782459000@stmichaels-litchfield.org
SUMMARY:AA Meeting in the Parish House Library
DESCRIPTION:
URL:https://stmichaels-litchfield.org/event/aa-meeting-in-the-library/2026-06-26/
LOCATION:Parish House Library\, 25 South Street\, Litchfield\, CT\, 06759\, United States
CATEGORIES:AA/NA Events
END:VEVENT
BEGIN:VEVENT
DTSTART;TZID=America/New_York:20260626T093000
DTEND;TZID=America/New_York:20260626T143000
DTSTAMP:20260419T204046
CREATED:20260128T181432Z
LAST-MODIFIED:20260128T181726Z
UID:10291510-1782466200-1782484200@stmichaels-litchfield.org
SUMMARY:Church Office Open
DESCRIPTION:
URL:https://stmichaels-litchfield.org/event/church-office-open-14/2026-06-26/
LOCATION:Church Office\, 25 South Street\, Litchfield\, CT\, 06759\, United States
CATEGORIES:Church Office Event
END:VEVENT
BEGIN:VEVENT
DTSTART;TZID=America/New_York:20260626T133000
DTEND;TZID=America/New_York:20260626T153000
DTSTAMP:20260419T204046
CREATED:20260224T175355Z
LAST-MODIFIED:20260224T175356Z
UID:10293234-1782480600-1782487800@stmichaels-litchfield.org
SUMMARY:Italian Club in Library
DESCRIPTION:
URL:https://stmichaels-litchfield.org/event/italian-club-6-2/2026-06-26/
LOCATION:Community House in Library from April 9th forward
CATEGORIES:Other Groups
END:VEVENT
BEGIN:VEVENT
DTSTART;TZID=America/New_York:20260627T083000
DTEND;TZID=America/New_York:20260627T093000
DTSTAMP:20260419T204046
CREATED:20230619T143626Z
LAST-MODIFIED:20230619T143720Z
UID:10010721-1782549000-1782552600@stmichaels-litchfield.org
SUMMARY:AA Meeting in Parish House Library
DESCRIPTION:
URL:https://stmichaels-litchfield.org/event/aa-meeting-in-community-house-2/2026-06-27/
LOCATION:Community House in Library from April 9th forward
CATEGORIES:AA/NA Events
END:VEVENT
BEGIN:VEVENT
DTSTART;TZID=America/New_York:20260628T080000
DTEND;TZID=America/New_York:20260628T090000
DTSTAMP:20260419T204046
CREATED:20211108T181651Z
LAST-MODIFIED:20260327T134504Z
UID:10020412-1782633600-1782637200@stmichaels-litchfield.org
SUMMARY:Eucharist\, Rite I
DESCRIPTION:Spoken\, no music
URL:https://stmichaels-litchfield.org/event/sunday-eucharist/2026-06-28/
LOCATION:Chapel\, 25 South Street\, Litchfield\, CT\, 06759\, United States
CATEGORIES:Church Event,Parish Events
END:VEVENT
BEGIN:VEVENT
DTSTART;TZID=America/New_York:20260628T100000
DTEND;TZID=America/New_York:20260628T110000
DTSTAMP:20260419T204046
CREATED:20250403T150154Z
LAST-MODIFIED:20250806T192031Z
UID:10012727-1782640800-1782644400@stmichaels-litchfield.org
SUMMARY:Sunday Eucharist\, Rite II
DESCRIPTION:Rite II with music \nFollowed by Coffee Hour in the Community House
URL:https://stmichaels-litchfield.org/event/sunday-eucharist-2-3/2026-06-28/
LOCATION:Church and Community House
CATEGORIES:Church Event,Parish Events
END:VEVENT
BEGIN:VEVENT
DTSTART;TZID=America/New_York:20260628T110000
DTEND;TZID=America/New_York:20260628T140000
DTSTAMP:20260419T204046
CREATED:20230711T182541Z
LAST-MODIFIED:20250806T192214Z
UID:10012066-1782644400-1782655200@stmichaels-litchfield.org
SUMMARY:Coffee and Fellowship in the Community House
DESCRIPTION:
URL:https://stmichaels-litchfield.org/event/coffee-and-congregation-in-the-community-house/2026-06-28/
LOCATION:Community House in Library from April 9th forward
CATEGORIES:Church Event
END:VEVENT
BEGIN:VEVENT
DTSTART;TZID=America/New_York:20260628T190000
DTEND;TZID=America/New_York:20260628T200000
DTSTAMP:20260419T204046
CREATED:20230619T142544Z
LAST-MODIFIED:20260416T160049Z
UID:10009911-1782673200-1782676800@stmichaels-litchfield.org
SUMMARY:AA Meeting in Community House
DESCRIPTION:
URL:https://stmichaels-litchfield.org/event/aa-meeting-in-community-house/2026-06-28/
LOCATION:Community House in Library from April 9th forward
END:VEVENT
BEGIN:VEVENT
DTSTART;VALUE=DATE:20260629
DTEND;VALUE=DATE:20260630
DTSTAMP:20260419T204046
CREATED:20260128T181321Z
LAST-MODIFIED:20260128T181322Z
UID:10291162-1782691200-1782777599@stmichaels-litchfield.org
SUMMARY:Church Office Closed
DESCRIPTION:
URL:https://stmichaels-litchfield.org/event/summer-schedule-church-office-closed-2-2-2-3/2026-06-29/
LOCATION:Church Office\, 25 South Street\, Litchfield\, CT\, 06759\, United States
CATEGORIES:Church Office Event
END:VEVENT
BEGIN:VEVENT
DTSTART;TZID=America/New_York:20260629T070000
DTEND;TZID=America/New_York:20260629T073000
DTSTAMP:20260419T204046
CREATED:20230606T184551Z
LAST-MODIFIED:20230619T142647Z
UID:10006148-1782716400-1782718200@stmichaels-litchfield.org
SUMMARY:AA Meeting in the Parish House Library
DESCRIPTION:
URL:https://stmichaels-litchfield.org/event/aa-meeting-in-the-library/2026-06-29/
LOCATION:Parish House Library\, 25 South Street\, Litchfield\, CT\, 06759\, United States
CATEGORIES:AA/NA Events
END:VEVENT
BEGIN:VEVENT
DTSTART;TZID=America/New_York:20260629T200000
DTEND;TZID=America/New_York:20260629T213000
DTSTAMP:20260419T204046
CREATED:20260218T173517Z
LAST-MODIFIED:20260218T173517Z
UID:10292585-1782763200-1782768600@stmichaels-litchfield.org
SUMMARY:AA meeting in the Community House
DESCRIPTION:
URL:https://stmichaels-litchfield.org/event/aa-meeting-in-the-community-house-2/2026-06-29/
END:VEVENT
BEGIN:VEVENT
DTSTART;TZID=America/New_York:20260630T093000
DTEND;TZID=America/New_York:20260630T143000
DTSTAMP:20260419T204046
CREATED:20260128T181432Z
LAST-MODIFIED:20260128T181726Z
UID:10291511-1782811800-1782829800@stmichaels-litchfield.org
SUMMARY:Church Office Open
DESCRIPTION:
URL:https://stmichaels-litchfield.org/event/church-office-open-14/2026-06-30/
LOCATION:Church Office\, 25 South Street\, Litchfield\, CT\, 06759\, United States
CATEGORIES:Church Office Event
END:VEVENT
BEGIN:VEVENT
DTSTART;TZID=America/New_York:20260630T160000
DTEND;TZID=America/New_York:20260630T173000
DTSTAMP:20260419T204046
CREATED:20260331T205128Z
LAST-MODIFIED:20260331T205254Z
UID:10294709-1782835200-1782840600@stmichaels-litchfield.org
SUMMARY:Priest Search Committee
DESCRIPTION:
URL:https://stmichaels-litchfield.org/event/priest-search-committee-3-2-5/2026-06-30/
LOCATION:Parish House Library\, 25 South Street\, Litchfield\, CT\, 06759\, United States
END:VEVENT
BEGIN:VEVENT
DTSTART;TZID=America/New_York:20260630T190000
DTEND;TZID=America/New_York:20260630T200000
DTSTAMP:20260419T204046
CREATED:20211108T175914Z
LAST-MODIFIED:20260130T014621Z
UID:10010115-1782846000-1782849600@stmichaels-litchfield.org
SUMMARY:AA Meeting in Community House
DESCRIPTION:
URL:https://stmichaels-litchfield.org/event/aa-group-in-community-house-2/2026-06-30/
LOCATION:Community House in Library from April 9th forward
CATEGORIES:AA/NA Events
END:VEVENT
BEGIN:VEVENT
DTSTART;TZID=America/New_York:20260701T070000
DTEND;TZID=America/New_York:20260701T073000
DTSTAMP:20260419T204046
CREATED:20230606T184551Z
LAST-MODIFIED:20230619T142647Z
UID:10006149-1782889200-1782891000@stmichaels-litchfield.org
SUMMARY:AA Meeting in the Parish House Library
DESCRIPTION:
URL:https://stmichaels-litchfield.org/event/aa-meeting-in-the-library/2026-07-01/
LOCATION:Parish House Library\, 25 South Street\, Litchfield\, CT\, 06759\, United States
CATEGORIES:AA/NA Events
END:VEVENT
BEGIN:VEVENT
DTSTART;TZID=America/New_York:20260701T083000
DTEND;TZID=America/New_York:20260701T110000
DTSTAMP:20260419T204046
CREATED:20250109T152013Z
LAST-MODIFIED:20250109T152013Z
UID:10019453-1782894600-1782903600@stmichaels-litchfield.org
SUMMARY:Greenwoods Counseling
DESCRIPTION:
URL:https://stmichaels-litchfield.org/event/greenwoods-counseling-7/2026-07-01/
CATEGORIES:Greenwoods Counseling
END:VEVENT
BEGIN:VEVENT
DTSTART;TZID=America/New_York:20260701T093000
DTEND;TZID=America/New_York:20260701T143000
DTSTAMP:20260419T204046
CREATED:20260128T181432Z
LAST-MODIFIED:20260128T181726Z
UID:10291512-1782898200-1782916200@stmichaels-litchfield.org
SUMMARY:Church Office Open
DESCRIPTION:
URL:https://stmichaels-litchfield.org/event/church-office-open-14/2026-07-01/
LOCATION:Church Office\, 25 South Street\, Litchfield\, CT\, 06759\, United States
CATEGORIES:Church Office Event
END:VEVENT
BEGIN:VEVENT
DTSTART;TZID=America/New_York:20260701T173000
DTEND;TZID=America/New_York:20260701T180000
DTSTAMP:20260419T204046
CREATED:20260327T155546Z
LAST-MODIFIED:20260327T155546Z
UID:10294450-1782927000-1782928800@stmichaels-litchfield.org
SUMMARY:Chanted Evening Prayer
DESCRIPTION:
URL:https://stmichaels-litchfield.org/event/chanted-evening-prayer-3/2026-07-01/
LOCATION:Chapel\, 25 South Street\, Litchfield\, CT\, 06759\, United States
CATEGORIES:Church Event
END:VEVENT
BEGIN:VEVENT
DTSTART;TZID=America/New_York:20260701T190000
DTEND;TZID=America/New_York:20260701T203000
DTSTAMP:20260419T204046
CREATED:20230817T183342Z
LAST-MODIFIED:20230817T183342Z
UID:10013145-1782932400-1782937800@stmichaels-litchfield.org
SUMMARY:Choir Rehearsal in Parish House Music Room
DESCRIPTION:
URL:https://stmichaels-litchfield.org/event/choir-rehearsal-in-parish-house-music-room/2026-07-01/
LOCATION:Parish House Music Room
CATEGORIES:Church Event
END:VEVENT
BEGIN:VEVENT
DTSTART;TZID=America/New_York:20260701T193000
DTEND;TZID=America/New_York:20260701T210000
DTSTAMP:20260419T204046
CREATED:20211108T180816Z
LAST-MODIFIED:20230714T003135Z
UID:10012469-1782934200-1782939600@stmichaels-litchfield.org
SUMMARY:NA meeting in Community House
DESCRIPTION:
URL:https://stmichaels-litchfield.org/event/narcotics-anonymous/2026-07-01/
LOCATION:Community House in Library from April 9th forward
CATEGORIES:AA/NA Events
END:VEVENT
BEGIN:VEVENT
DTSTART;TZID=America/New_York:20260702T093000
DTEND;TZID=America/New_York:20260702T143000
DTSTAMP:20260419T204046
CREATED:20260128T181432Z
LAST-MODIFIED:20260128T181726Z
UID:10291513-1782984600-1783002600@stmichaels-litchfield.org
SUMMARY:Church Office Open
DESCRIPTION:
URL:https://stmichaels-litchfield.org/event/church-office-open-14/2026-07-02/
LOCATION:Church Office\, 25 South Street\, Litchfield\, CT\, 06759\, United States
CATEGORIES:Church Office Event
END:VEVENT
BEGIN:VEVENT
DTSTART;TZID=America/New_York:20260702T143000
DTEND;TZID=America/New_York:20260702T163000
DTSTAMP:20260419T204046
CREATED:20260224T180134Z
LAST-MODIFIED:20260325T134517Z
UID:10293248-1783002600-1783009800@stmichaels-litchfield.org
SUMMARY:Italian Club in Library
DESCRIPTION:
URL:https://stmichaels-litchfield.org/event/italian-club-5-2/2026-07-02/
LOCATION:Community House in Library from April 9th forward
CATEGORIES:Other Groups
END:VEVENT
BEGIN:VEVENT
DTSTART;TZID=America/New_York:20260702T190000
DTEND;TZID=America/New_York:20260702T220000
DTSTAMP:20260419T204046
CREATED:20230810T152445Z
LAST-MODIFIED:20230823T141209Z
UID:10012923-1783018800-1783029600@stmichaels-litchfield.org
SUMMARY:SOTG Board meeting in the Parish House Library
DESCRIPTION:
URL:https://stmichaels-litchfield.org/event/sotg-board-meeting-2/2026-07-02/
LOCATION:Parish House Library\, 25 South Street\, Litchfield\, CT\, 06759\, United States
CATEGORIES:School on the Green Event
END:VEVENT
BEGIN:VEVENT
DTSTART;TZID=America/New_York:20260703T070000
DTEND;TZID=America/New_York:20260703T073000
DTSTAMP:20260419T204046
CREATED:20230606T184551Z
LAST-MODIFIED:20230619T142647Z
UID:10006150-1783062000-1783063800@stmichaels-litchfield.org
SUMMARY:AA Meeting in the Parish House Library
DESCRIPTION:
URL:https://stmichaels-litchfield.org/event/aa-meeting-in-the-library/2026-07-03/
LOCATION:Parish House Library\, 25 South Street\, Litchfield\, CT\, 06759\, United States
CATEGORIES:AA/NA Events
END:VEVENT
BEGIN:VEVENT
DTSTART;TZID=America/New_York:20260703T093000
DTEND;TZID=America/New_York:20260703T143000
DTSTAMP:20260419T204046
CREATED:20260128T181432Z
LAST-MODIFIED:20260128T181726Z
UID:10291514-1783071000-1783089000@stmichaels-litchfield.org
SUMMARY:Church Office Open
DESCRIPTION:
URL:https://stmichaels-litchfield.org/event/church-office-open-14/2026-07-03/
LOCATION:Church Office\, 25 South Street\, Litchfield\, CT\, 06759\, United States
CATEGORIES:Church Office Event
END:VEVENT
BEGIN:VEVENT
DTSTART;TZID=America/New_York:20260703T133000
DTEND;TZID=America/New_York:20260703T153000
DTSTAMP:20260419T204046
CREATED:20260224T175355Z
LAST-MODIFIED:20260224T175356Z
UID:10293235-1783085400-1783092600@stmichaels-litchfield.org
SUMMARY:Italian Club in Library
DESCRIPTION:
URL:https://stmichaels-litchfield.org/event/italian-club-6-2/2026-07-03/
LOCATION:Community House in Library from April 9th forward
CATEGORIES:Other Groups
END:VEVENT
BEGIN:VEVENT
DTSTART;TZID=America/New_York:20260704T083000
DTEND;TZID=America/New_York:20260704T093000
DTSTAMP:20260419T204046
CREATED:20230619T143626Z
LAST-MODIFIED:20230619T143720Z
UID:10010722-1783153800-1783157400@stmichaels-litchfield.org
SUMMARY:AA Meeting in Parish House Library
DESCRIPTION:
URL:https://stmichaels-litchfield.org/event/aa-meeting-in-community-house-2/2026-07-04/
LOCATION:Community House in Library from April 9th forward
CATEGORIES:AA/NA Events
END:VEVENT
END:VCALENDAR