BEGIN:VCALENDAR
VERSION:2.0
PRODID:-//St. Michael&#039;s Church - ECPv6.15.20//NONSGML v1.0//EN
CALSCALE:GREGORIAN
METHOD:PUBLISH
X-ORIGINAL-URL:https://stmichaels-litchfield.org
X-WR-CALDESC:Events for St. Michael&#039;s Church
REFRESH-INTERVAL;VALUE=DURATION:PT1H
X-Robots-Tag:noindex
X-PUBLISHED-TTL:PT1H
BEGIN:VTIMEZONE
TZID:America/New_York
BEGIN:DAYLIGHT
TZOFFSETFROM:-0500
TZOFFSETTO:-0400
TZNAME:EDT
DTSTART:20250309T070000
END:DAYLIGHT
BEGIN:STANDARD
TZOFFSETFROM:-0400
TZOFFSETTO:-0500
TZNAME:EST
DTSTART:20251102T060000
END:STANDARD
BEGIN:DAYLIGHT
TZOFFSETFROM:-0500
TZOFFSETTO:-0400
TZNAME:EDT
DTSTART:20260308T070000
END:DAYLIGHT
BEGIN:STANDARD
TZOFFSETFROM:-0400
TZOFFSETTO:-0500
TZNAME:EST
DTSTART:20261101T060000
END:STANDARD
BEGIN:DAYLIGHT
TZOFFSETFROM:-0500
TZOFFSETTO:-0400
TZNAME:EDT
DTSTART:20270314T070000
END:DAYLIGHT
BEGIN:STANDARD
TZOFFSETFROM:-0400
TZOFFSETTO:-0500
TZNAME:EST
DTSTART:20271107T060000
END:STANDARD
END:VTIMEZONE
BEGIN:VEVENT
DTSTART;TZID=America/New_York:20260728T093000
DTEND;TZID=America/New_York:20260728T143000
DTSTAMP:20260419T190704
CREATED:20260128T181432Z
LAST-MODIFIED:20260128T181726Z
UID:10291527-1785231000-1785249000@stmichaels-litchfield.org
SUMMARY:Church Office Open
DESCRIPTION:
URL:https://stmichaels-litchfield.org/event/church-office-open-14/2026-07-28/
LOCATION:Church Office\, 25 South Street\, Litchfield\, CT\, 06759\, United States
CATEGORIES:Church Office Event
END:VEVENT
BEGIN:VEVENT
DTSTART;TZID=America/New_York:20260728T160000
DTEND;TZID=America/New_York:20260728T173000
DTSTAMP:20260419T190704
CREATED:20260331T205128Z
LAST-MODIFIED:20260331T205254Z
UID:10294713-1785254400-1785259800@stmichaels-litchfield.org
SUMMARY:Priest Search Committee
DESCRIPTION:
URL:https://stmichaels-litchfield.org/event/priest-search-committee-3-2-5/2026-07-28/
LOCATION:Parish House Library\, 25 South Street\, Litchfield\, CT\, 06759\, United States
END:VEVENT
BEGIN:VEVENT
DTSTART;TZID=America/New_York:20260728T190000
DTEND;TZID=America/New_York:20260728T200000
DTSTAMP:20260419T190704
CREATED:20211108T175914Z
LAST-MODIFIED:20260130T014621Z
UID:10010119-1785265200-1785268800@stmichaels-litchfield.org
SUMMARY:AA Meeting in Community House
DESCRIPTION:
URL:https://stmichaels-litchfield.org/event/aa-group-in-community-house-2/2026-07-28/
LOCATION:Community House in Library from April 9th forward
CATEGORIES:AA/NA Events
END:VEVENT
BEGIN:VEVENT
DTSTART;TZID=America/New_York:20260729T070000
DTEND;TZID=America/New_York:20260729T073000
DTSTAMP:20260419T190704
CREATED:20230606T184551Z
LAST-MODIFIED:20230619T142647Z
UID:10006161-1785308400-1785310200@stmichaels-litchfield.org
SUMMARY:AA Meeting in the Parish House Library
DESCRIPTION:
URL:https://stmichaels-litchfield.org/event/aa-meeting-in-the-library/2026-07-29/
LOCATION:Parish House Library\, 25 South Street\, Litchfield\, CT\, 06759\, United States
CATEGORIES:AA/NA Events
END:VEVENT
BEGIN:VEVENT
DTSTART;TZID=America/New_York:20260729T083000
DTEND;TZID=America/New_York:20260729T110000
DTSTAMP:20260419T190704
CREATED:20250109T152013Z
LAST-MODIFIED:20250109T152013Z
UID:10019457-1785313800-1785322800@stmichaels-litchfield.org
SUMMARY:Greenwoods Counseling
DESCRIPTION:
URL:https://stmichaels-litchfield.org/event/greenwoods-counseling-7/2026-07-29/
CATEGORIES:Greenwoods Counseling
END:VEVENT
BEGIN:VEVENT
DTSTART;TZID=America/New_York:20260729T093000
DTEND;TZID=America/New_York:20260729T143000
DTSTAMP:20260419T190704
CREATED:20260128T181432Z
LAST-MODIFIED:20260128T181726Z
UID:10291528-1785317400-1785335400@stmichaels-litchfield.org
SUMMARY:Church Office Open
DESCRIPTION:
URL:https://stmichaels-litchfield.org/event/church-office-open-14/2026-07-29/
LOCATION:Church Office\, 25 South Street\, Litchfield\, CT\, 06759\, United States
CATEGORIES:Church Office Event
END:VEVENT
BEGIN:VEVENT
DTSTART;TZID=America/New_York:20260729T110000
DTEND;TZID=America/New_York:20260729T133000
DTSTAMP:20260419T190704
CREATED:20231012T152740Z
LAST-MODIFIED:20231012T152740Z
UID:10013911-1785322800-1785331800@stmichaels-litchfield.org
SUMMARY:Greenwoods Counselling All Staff Meeting in the Community House
DESCRIPTION:
URL:https://stmichaels-litchfield.org/event/greenwoods-counselling-all-staff-meeting-in-the-community-house/2026-07-29/
LOCATION:Community House in Library from April 9th forward
CATEGORIES:Greenwoods Counseling
END:VEVENT
BEGIN:VEVENT
DTSTART;TZID=America/New_York:20260729T173000
DTEND;TZID=America/New_York:20260729T180000
DTSTAMP:20260419T190704
CREATED:20260327T155546Z
LAST-MODIFIED:20260327T155546Z
UID:10294454-1785346200-1785348000@stmichaels-litchfield.org
SUMMARY:Chanted Evening Prayer
DESCRIPTION:
URL:https://stmichaels-litchfield.org/event/chanted-evening-prayer-3/2026-07-29/
LOCATION:Chapel\, 25 South Street\, Litchfield\, CT\, 06759\, United States
CATEGORIES:Church Event
END:VEVENT
BEGIN:VEVENT
DTSTART;TZID=America/New_York:20260729T190000
DTEND;TZID=America/New_York:20260729T203000
DTSTAMP:20260419T190704
CREATED:20230817T183342Z
LAST-MODIFIED:20230817T183342Z
UID:10013149-1785351600-1785357000@stmichaels-litchfield.org
SUMMARY:Choir Rehearsal in Parish House Music Room
DESCRIPTION:
URL:https://stmichaels-litchfield.org/event/choir-rehearsal-in-parish-house-music-room/2026-07-29/
LOCATION:Parish House Music Room
CATEGORIES:Church Event
END:VEVENT
BEGIN:VEVENT
DTSTART;TZID=America/New_York:20260729T193000
DTEND;TZID=America/New_York:20260729T210000
DTSTAMP:20260419T190704
CREATED:20211108T180816Z
LAST-MODIFIED:20230714T003135Z
UID:10012473-1785353400-1785358800@stmichaels-litchfield.org
SUMMARY:NA meeting in Community House
DESCRIPTION:
URL:https://stmichaels-litchfield.org/event/narcotics-anonymous/2026-07-29/
LOCATION:Community House in Library from April 9th forward
CATEGORIES:AA/NA Events
END:VEVENT
BEGIN:VEVENT
DTSTART;TZID=America/New_York:20260730T093000
DTEND;TZID=America/New_York:20260730T143000
DTSTAMP:20260419T190704
CREATED:20260128T181432Z
LAST-MODIFIED:20260128T181726Z
UID:10291529-1785403800-1785421800@stmichaels-litchfield.org
SUMMARY:Church Office Open
DESCRIPTION:
URL:https://stmichaels-litchfield.org/event/church-office-open-14/2026-07-30/
LOCATION:Church Office\, 25 South Street\, Litchfield\, CT\, 06759\, United States
CATEGORIES:Church Office Event
END:VEVENT
BEGIN:VEVENT
DTSTART;TZID=America/New_York:20260731T070000
DTEND;TZID=America/New_York:20260731T073000
DTSTAMP:20260419T190704
CREATED:20230606T184551Z
LAST-MODIFIED:20230619T142647Z
UID:10006162-1785481200-1785483000@stmichaels-litchfield.org
SUMMARY:AA Meeting in the Parish House Library
DESCRIPTION:
URL:https://stmichaels-litchfield.org/event/aa-meeting-in-the-library/2026-07-31/
LOCATION:Parish House Library\, 25 South Street\, Litchfield\, CT\, 06759\, United States
CATEGORIES:AA/NA Events
END:VEVENT
BEGIN:VEVENT
DTSTART;TZID=America/New_York:20260731T093000
DTEND;TZID=America/New_York:20260731T143000
DTSTAMP:20260419T190704
CREATED:20260128T181432Z
LAST-MODIFIED:20260128T181726Z
UID:10291530-1785490200-1785508200@stmichaels-litchfield.org
SUMMARY:Church Office Open
DESCRIPTION:
URL:https://stmichaels-litchfield.org/event/church-office-open-14/2026-07-31/
LOCATION:Church Office\, 25 South Street\, Litchfield\, CT\, 06759\, United States
CATEGORIES:Church Office Event
END:VEVENT
BEGIN:VEVENT
DTSTART;TZID=America/New_York:20260801T083000
DTEND;TZID=America/New_York:20260801T093000
DTSTAMP:20260419T190704
CREATED:20230619T143626Z
LAST-MODIFIED:20230619T143720Z
UID:10010726-1785573000-1785576600@stmichaels-litchfield.org
SUMMARY:AA Meeting in Parish House Library
DESCRIPTION:
URL:https://stmichaels-litchfield.org/event/aa-meeting-in-community-house-2/2026-08-01/
LOCATION:Community House in Library from April 9th forward
CATEGORIES:AA/NA Events
END:VEVENT
BEGIN:VEVENT
DTSTART;TZID=America/New_York:20260802T080000
DTEND;TZID=America/New_York:20260802T090000
DTSTAMP:20260419T190704
CREATED:20211108T181651Z
LAST-MODIFIED:20260327T134504Z
UID:10020417-1785657600-1785661200@stmichaels-litchfield.org
SUMMARY:Eucharist\, Rite I
DESCRIPTION:Spoken\, no music
URL:https://stmichaels-litchfield.org/event/sunday-eucharist/2026-08-02/
LOCATION:Chapel\, 25 South Street\, Litchfield\, CT\, 06759\, United States
CATEGORIES:Church Event,Parish Events
END:VEVENT
BEGIN:VEVENT
DTSTART;TZID=America/New_York:20260802T100000
DTEND;TZID=America/New_York:20260802T110000
DTSTAMP:20260419T190704
CREATED:20250403T150154Z
LAST-MODIFIED:20250806T192031Z
UID:10012732-1785664800-1785668400@stmichaels-litchfield.org
SUMMARY:Sunday Eucharist\, Rite II
DESCRIPTION:Rite II with music \nFollowed by Coffee Hour in the Community House
URL:https://stmichaels-litchfield.org/event/sunday-eucharist-2-3/2026-08-02/
LOCATION:Church and Community House
CATEGORIES:Church Event,Parish Events
END:VEVENT
BEGIN:VEVENT
DTSTART;TZID=America/New_York:20260802T110000
DTEND;TZID=America/New_York:20260802T140000
DTSTAMP:20260419T190704
CREATED:20230711T182541Z
LAST-MODIFIED:20250806T192214Z
UID:10012071-1785668400-1785679200@stmichaels-litchfield.org
SUMMARY:Coffee and Fellowship in the Community House
DESCRIPTION:
URL:https://stmichaels-litchfield.org/event/coffee-and-congregation-in-the-community-house/2026-08-02/
LOCATION:Community House in Library from April 9th forward
CATEGORIES:Church Event
END:VEVENT
BEGIN:VEVENT
DTSTART;TZID=America/New_York:20260802T190000
DTEND;TZID=America/New_York:20260802T200000
DTSTAMP:20260419T190704
CREATED:20230619T142544Z
LAST-MODIFIED:20260416T160049Z
UID:10009916-1785697200-1785700800@stmichaels-litchfield.org
SUMMARY:AA Meeting in Community House
DESCRIPTION:
URL:https://stmichaels-litchfield.org/event/aa-meeting-in-community-house/2026-08-02/
LOCATION:Community House in Library from April 9th forward
END:VEVENT
BEGIN:VEVENT
DTSTART;VALUE=DATE:20260803
DTEND;VALUE=DATE:20260804
DTSTAMP:20260419T190704
CREATED:20260128T181321Z
LAST-MODIFIED:20260128T181322Z
UID:10291167-1785715200-1785801599@stmichaels-litchfield.org
SUMMARY:Church Office Closed
DESCRIPTION:
URL:https://stmichaels-litchfield.org/event/summer-schedule-church-office-closed-2-2-2-3/2026-08-03/
LOCATION:Church Office\, 25 South Street\, Litchfield\, CT\, 06759\, United States
CATEGORIES:Church Office Event
END:VEVENT
BEGIN:VEVENT
DTSTART;TZID=America/New_York:20260803T070000
DTEND;TZID=America/New_York:20260803T073000
DTSTAMP:20260419T190704
CREATED:20230606T184551Z
LAST-MODIFIED:20230619T142647Z
UID:10006163-1785740400-1785742200@stmichaels-litchfield.org
SUMMARY:AA Meeting in the Parish House Library
DESCRIPTION:
URL:https://stmichaels-litchfield.org/event/aa-meeting-in-the-library/2026-08-03/
LOCATION:Parish House Library\, 25 South Street\, Litchfield\, CT\, 06759\, United States
CATEGORIES:AA/NA Events
END:VEVENT
BEGIN:VEVENT
DTSTART;TZID=America/New_York:20260803T200000
DTEND;TZID=America/New_York:20260803T213000
DTSTAMP:20260419T190704
CREATED:20260218T173517Z
LAST-MODIFIED:20260218T173517Z
UID:10292590-1785787200-1785792600@stmichaels-litchfield.org
SUMMARY:AA meeting in the Community House
DESCRIPTION:
URL:https://stmichaels-litchfield.org/event/aa-meeting-in-the-community-house-2/2026-08-03/
END:VEVENT
BEGIN:VEVENT
DTSTART;TZID=America/New_York:20260804T093000
DTEND;TZID=America/New_York:20260804T143000
DTSTAMP:20260419T190704
CREATED:20260128T181432Z
LAST-MODIFIED:20260128T181726Z
UID:10291531-1785835800-1785853800@stmichaels-litchfield.org
SUMMARY:Church Office Open
DESCRIPTION:
URL:https://stmichaels-litchfield.org/event/church-office-open-14/2026-08-04/
LOCATION:Church Office\, 25 South Street\, Litchfield\, CT\, 06759\, United States
CATEGORIES:Church Office Event
END:VEVENT
BEGIN:VEVENT
DTSTART;TZID=America/New_York:20260804T160000
DTEND;TZID=America/New_York:20260804T173000
DTSTAMP:20260419T190704
CREATED:20260331T205128Z
LAST-MODIFIED:20260331T205254Z
UID:10294714-1785859200-1785864600@stmichaels-litchfield.org
SUMMARY:Priest Search Committee
DESCRIPTION:
URL:https://stmichaels-litchfield.org/event/priest-search-committee-3-2-5/2026-08-04/
LOCATION:Parish House Library\, 25 South Street\, Litchfield\, CT\, 06759\, United States
END:VEVENT
BEGIN:VEVENT
DTSTART;TZID=America/New_York:20260804T171500
DTEND;TZID=America/New_York:20260804T183000
DTSTAMP:20260419T190704
CREATED:20231227T151453Z
LAST-MODIFIED:20260317T155826Z
UID:10293641-1785863700-1785868200@stmichaels-litchfield.org
SUMMARY:Property Committee Meeting in Parish House Library
DESCRIPTION:
URL:https://stmichaels-litchfield.org/event/property-committee-meeting-in-parish-house-library-3/2026-08-04/
LOCATION:Parish House Library\, 25 South Street\, Litchfield\, CT\, 06759\, United States
CATEGORIES:Church Event
END:VEVENT
BEGIN:VEVENT
DTSTART;TZID=America/New_York:20260804T190000
DTEND;TZID=America/New_York:20260804T200000
DTSTAMP:20260419T190704
CREATED:20211108T175914Z
LAST-MODIFIED:20260130T014621Z
UID:10010120-1785870000-1785873600@stmichaels-litchfield.org
SUMMARY:AA Meeting in Community House
DESCRIPTION:
URL:https://stmichaels-litchfield.org/event/aa-group-in-community-house-2/2026-08-04/
LOCATION:Community House in Library from April 9th forward
CATEGORIES:AA/NA Events
END:VEVENT
BEGIN:VEVENT
DTSTART;TZID=America/New_York:20260805T070000
DTEND;TZID=America/New_York:20260805T073000
DTSTAMP:20260419T190704
CREATED:20230606T184551Z
LAST-MODIFIED:20230619T142647Z
UID:10006164-1785913200-1785915000@stmichaels-litchfield.org
SUMMARY:AA Meeting in the Parish House Library
DESCRIPTION:
URL:https://stmichaels-litchfield.org/event/aa-meeting-in-the-library/2026-08-05/
LOCATION:Parish House Library\, 25 South Street\, Litchfield\, CT\, 06759\, United States
CATEGORIES:AA/NA Events
END:VEVENT
BEGIN:VEVENT
DTSTART;TZID=America/New_York:20260805T083000
DTEND;TZID=America/New_York:20260805T110000
DTSTAMP:20260419T190704
CREATED:20250109T152013Z
LAST-MODIFIED:20250109T152013Z
UID:10019458-1785918600-1785927600@stmichaels-litchfield.org
SUMMARY:Greenwoods Counseling
DESCRIPTION:
URL:https://stmichaels-litchfield.org/event/greenwoods-counseling-7/2026-08-05/
CATEGORIES:Greenwoods Counseling
END:VEVENT
BEGIN:VEVENT
DTSTART;TZID=America/New_York:20260805T093000
DTEND;TZID=America/New_York:20260805T143000
DTSTAMP:20260419T190704
CREATED:20260128T181432Z
LAST-MODIFIED:20260128T181726Z
UID:10291532-1785922200-1785940200@stmichaels-litchfield.org
SUMMARY:Church Office Open
DESCRIPTION:
URL:https://stmichaels-litchfield.org/event/church-office-open-14/2026-08-05/
LOCATION:Church Office\, 25 South Street\, Litchfield\, CT\, 06759\, United States
CATEGORIES:Church Office Event
END:VEVENT
BEGIN:VEVENT
DTSTART;TZID=America/New_York:20260805T173000
DTEND;TZID=America/New_York:20260805T180000
DTSTAMP:20260419T190704
CREATED:20260327T155546Z
LAST-MODIFIED:20260327T155546Z
UID:10294455-1785951000-1785952800@stmichaels-litchfield.org
SUMMARY:Chanted Evening Prayer
DESCRIPTION:
URL:https://stmichaels-litchfield.org/event/chanted-evening-prayer-3/2026-08-05/
LOCATION:Chapel\, 25 South Street\, Litchfield\, CT\, 06759\, United States
CATEGORIES:Church Event
END:VEVENT
BEGIN:VEVENT
DTSTART;TZID=America/New_York:20260805T190000
DTEND;TZID=America/New_York:20260805T203000
DTSTAMP:20260419T190704
CREATED:20230817T183342Z
LAST-MODIFIED:20230817T183342Z
UID:10013150-1785956400-1785961800@stmichaels-litchfield.org
SUMMARY:Choir Rehearsal in Parish House Music Room
DESCRIPTION:
URL:https://stmichaels-litchfield.org/event/choir-rehearsal-in-parish-house-music-room/2026-08-05/
LOCATION:Parish House Music Room
CATEGORIES:Church Event
END:VEVENT
END:VCALENDAR