BEGIN:VCALENDAR
VERSION:2.0
PRODID:-//St. Michael&#039;s Church - ECPv6.15.20//NONSGML v1.0//EN
CALSCALE:GREGORIAN
METHOD:PUBLISH
X-ORIGINAL-URL:https://stmichaels-litchfield.org
X-WR-CALDESC:Events for St. Michael&#039;s Church
REFRESH-INTERVAL;VALUE=DURATION:PT1H
X-Robots-Tag:noindex
X-PUBLISHED-TTL:PT1H
BEGIN:VTIMEZONE
TZID:America/New_York
BEGIN:DAYLIGHT
TZOFFSETFROM:-0500
TZOFFSETTO:-0400
TZNAME:EDT
DTSTART:20250309T070000
END:DAYLIGHT
BEGIN:STANDARD
TZOFFSETFROM:-0400
TZOFFSETTO:-0500
TZNAME:EST
DTSTART:20251102T060000
END:STANDARD
BEGIN:DAYLIGHT
TZOFFSETFROM:-0500
TZOFFSETTO:-0400
TZNAME:EDT
DTSTART:20260308T070000
END:DAYLIGHT
BEGIN:STANDARD
TZOFFSETFROM:-0400
TZOFFSETTO:-0500
TZNAME:EST
DTSTART:20261101T060000
END:STANDARD
BEGIN:DAYLIGHT
TZOFFSETFROM:-0500
TZOFFSETTO:-0400
TZNAME:EDT
DTSTART:20270314T070000
END:DAYLIGHT
BEGIN:STANDARD
TZOFFSETFROM:-0400
TZOFFSETTO:-0500
TZNAME:EST
DTSTART:20271107T060000
END:STANDARD
END:VTIMEZONE
BEGIN:VEVENT
DTSTART;TZID=America/New_York:20261104T193000
DTEND;TZID=America/New_York:20261104T210000
DTSTAMP:20260420T030656
CREATED:20211108T180816Z
LAST-MODIFIED:20230714T003135Z
UID:10012487-1793820600-1793826000@stmichaels-litchfield.org
SUMMARY:NA meeting in Community House
DESCRIPTION:
URL:https://stmichaels-litchfield.org/event/narcotics-anonymous/2026-11-04/
LOCATION:Community House in Library from April 9th forward
CATEGORIES:AA/NA Events
END:VEVENT
BEGIN:VEVENT
DTSTART;TZID=America/New_York:20261105T093000
DTEND;TZID=America/New_York:20261105T143000
DTSTAMP:20260420T030656
CREATED:20260128T181432Z
LAST-MODIFIED:20260128T181726Z
UID:10291585-1793871000-1793889000@stmichaels-litchfield.org
SUMMARY:Church Office Open
DESCRIPTION:
URL:https://stmichaels-litchfield.org/event/church-office-open-14/2026-11-05/
LOCATION:Church Office\, 25 South Street\, Litchfield\, CT\, 06759\, United States
CATEGORIES:Church Office Event
END:VEVENT
BEGIN:VEVENT
DTSTART;TZID=America/New_York:20261105T190000
DTEND;TZID=America/New_York:20261105T220000
DTSTAMP:20260420T030656
CREATED:20230810T152445Z
LAST-MODIFIED:20230823T141209Z
UID:10012927-1793905200-1793916000@stmichaels-litchfield.org
SUMMARY:SOTG Board meeting in the Parish House Library
DESCRIPTION:
URL:https://stmichaels-litchfield.org/event/sotg-board-meeting-2/2026-11-05/
LOCATION:Parish House Library\, 25 South Street\, Litchfield\, CT\, 06759\, United States
CATEGORIES:School on the Green Event
END:VEVENT
BEGIN:VEVENT
DTSTART;TZID=America/New_York:20261106T070000
DTEND;TZID=America/New_York:20261106T073000
DTSTAMP:20260420T030656
CREATED:20230606T184551Z
LAST-MODIFIED:20230619T142647Z
UID:10006204-1793948400-1793950200@stmichaels-litchfield.org
SUMMARY:AA Meeting in the Parish House Library
DESCRIPTION:
URL:https://stmichaels-litchfield.org/event/aa-meeting-in-the-library/2026-11-06/
LOCATION:Parish House Library\, 25 South Street\, Litchfield\, CT\, 06759\, United States
CATEGORIES:AA/NA Events
END:VEVENT
BEGIN:VEVENT
DTSTART;TZID=America/New_York:20261106T093000
DTEND;TZID=America/New_York:20261106T143000
DTSTAMP:20260420T030656
CREATED:20260128T181432Z
LAST-MODIFIED:20260128T181726Z
UID:10291586-1793957400-1793975400@stmichaels-litchfield.org
SUMMARY:Church Office Open
DESCRIPTION:
URL:https://stmichaels-litchfield.org/event/church-office-open-14/2026-11-06/
LOCATION:Church Office\, 25 South Street\, Litchfield\, CT\, 06759\, United States
CATEGORIES:Church Office Event
END:VEVENT
BEGIN:VEVENT
DTSTART;TZID=America/New_York:20261107T083000
DTEND;TZID=America/New_York:20261107T093000
DTSTAMP:20260420T030656
CREATED:20230619T143626Z
LAST-MODIFIED:20230619T143720Z
UID:10010740-1794040200-1794043800@stmichaels-litchfield.org
SUMMARY:AA Meeting in Parish House Library
DESCRIPTION:
URL:https://stmichaels-litchfield.org/event/aa-meeting-in-community-house-2/2026-11-07/
LOCATION:Community House in Library from April 9th forward
CATEGORIES:AA/NA Events
END:VEVENT
BEGIN:VEVENT
DTSTART;TZID=America/New_York:20261108T080000
DTEND;TZID=America/New_York:20261108T090000
DTSTAMP:20260420T030656
CREATED:20211108T181651Z
LAST-MODIFIED:20260327T134504Z
UID:10020431-1794124800-1794128400@stmichaels-litchfield.org
SUMMARY:Eucharist\, Rite I
DESCRIPTION:Spoken\, no music
URL:https://stmichaels-litchfield.org/event/sunday-eucharist/2026-11-08/
LOCATION:Chapel\, 25 South Street\, Litchfield\, CT\, 06759\, United States
CATEGORIES:Church Event,Parish Events
END:VEVENT
BEGIN:VEVENT
DTSTART;TZID=America/New_York:20261108T100000
DTEND;TZID=America/New_York:20261108T110000
DTSTAMP:20260420T030656
CREATED:20250403T150154Z
LAST-MODIFIED:20250806T192031Z
UID:10012746-1794132000-1794135600@stmichaels-litchfield.org
SUMMARY:Sunday Eucharist\, Rite II
DESCRIPTION:Rite II with music \nFollowed by Coffee Hour in the Community House
URL:https://stmichaels-litchfield.org/event/sunday-eucharist-2-3/2026-11-08/
LOCATION:Church and Community House
CATEGORIES:Church Event,Parish Events
END:VEVENT
BEGIN:VEVENT
DTSTART;TZID=America/New_York:20261108T110000
DTEND;TZID=America/New_York:20261108T140000
DTSTAMP:20260420T030656
CREATED:20230711T182541Z
LAST-MODIFIED:20250806T192214Z
UID:10012085-1794135600-1794146400@stmichaels-litchfield.org
SUMMARY:Coffee and Fellowship in the Community House
DESCRIPTION:
URL:https://stmichaels-litchfield.org/event/coffee-and-congregation-in-the-community-house/2026-11-08/
LOCATION:Community House in Library from April 9th forward
CATEGORIES:Church Event
END:VEVENT
BEGIN:VEVENT
DTSTART;TZID=America/New_York:20261108T112000
DTEND;TZID=America/New_York:20261108T123000
DTSTAMP:20260420T030657
CREATED:20260408T170910Z
LAST-MODIFIED:20260408T170910Z
UID:10296050-1794136800-1794141000@stmichaels-litchfield.org
SUMMARY:Vestry Meeting
DESCRIPTION:
URL:https://stmichaels-litchfield.org/event/vestry-meeting-4/2026-11-08/
CATEGORIES:Church Event,Parish Events
END:VEVENT
BEGIN:VEVENT
DTSTART;TZID=America/New_York:20261108T190000
DTEND;TZID=America/New_York:20261108T200000
DTSTAMP:20260420T030657
CREATED:20230619T142544Z
LAST-MODIFIED:20260416T160049Z
UID:10009930-1794164400-1794168000@stmichaels-litchfield.org
SUMMARY:AA Meeting in Community House
DESCRIPTION:
URL:https://stmichaels-litchfield.org/event/aa-meeting-in-community-house/2026-11-08/
LOCATION:Community House in Library from April 9th forward
END:VEVENT
BEGIN:VEVENT
DTSTART;VALUE=DATE:20261109
DTEND;VALUE=DATE:20261110
DTSTAMP:20260420T030657
CREATED:20260128T181321Z
LAST-MODIFIED:20260128T181322Z
UID:10291181-1794182400-1794268799@stmichaels-litchfield.org
SUMMARY:Church Office Closed
DESCRIPTION:
URL:https://stmichaels-litchfield.org/event/summer-schedule-church-office-closed-2-2-2-3/2026-11-09/
LOCATION:Church Office\, 25 South Street\, Litchfield\, CT\, 06759\, United States
CATEGORIES:Church Office Event
END:VEVENT
BEGIN:VEVENT
DTSTART;TZID=America/New_York:20261109T070000
DTEND;TZID=America/New_York:20261109T073000
DTSTAMP:20260420T030657
CREATED:20230606T184551Z
LAST-MODIFIED:20230619T142647Z
UID:10006205-1794207600-1794209400@stmichaels-litchfield.org
SUMMARY:AA Meeting in the Parish House Library
DESCRIPTION:
URL:https://stmichaels-litchfield.org/event/aa-meeting-in-the-library/2026-11-09/
LOCATION:Parish House Library\, 25 South Street\, Litchfield\, CT\, 06759\, United States
CATEGORIES:AA/NA Events
END:VEVENT
BEGIN:VEVENT
DTSTART;TZID=America/New_York:20261109T200000
DTEND;TZID=America/New_York:20261109T213000
DTSTAMP:20260420T030657
CREATED:20260218T173517Z
LAST-MODIFIED:20260218T173517Z
UID:10292604-1794254400-1794259800@stmichaels-litchfield.org
SUMMARY:AA meeting in the Community House
DESCRIPTION:
URL:https://stmichaels-litchfield.org/event/aa-meeting-in-the-community-house-2/2026-11-09/
END:VEVENT
BEGIN:VEVENT
DTSTART;TZID=America/New_York:20261110T093000
DTEND;TZID=America/New_York:20261110T143000
DTSTAMP:20260420T030657
CREATED:20260128T181432Z
LAST-MODIFIED:20260128T181726Z
UID:10291587-1794303000-1794321000@stmichaels-litchfield.org
SUMMARY:Church Office Open
DESCRIPTION:
URL:https://stmichaels-litchfield.org/event/church-office-open-14/2026-11-10/
LOCATION:Church Office\, 25 South Street\, Litchfield\, CT\, 06759\, United States
CATEGORIES:Church Office Event
END:VEVENT
BEGIN:VEVENT
DTSTART;TZID=America/New_York:20261110T120000
DTEND;TZID=America/New_York:20261110T130000
DTSTAMP:20260420T030657
CREATED:20260223T205039Z
LAST-MODIFIED:20260223T205039Z
UID:10293173-1794312000-1794315600@stmichaels-litchfield.org
SUMMARY:Lunch with Meredith
DESCRIPTION:
URL:https://stmichaels-litchfield.org/event/lunch-with-meredith-2/2026-11-10/
LOCATION:Community House in Library from April 9th forward
CATEGORIES:Church Event,Parish Events
END:VEVENT
BEGIN:VEVENT
DTSTART;TZID=America/New_York:20261110T151500
DTEND;TZID=America/New_York:20261110T163000
DTSTAMP:20260420T030657
CREATED:20260223T204456Z
LAST-MODIFIED:20260304T185946Z
UID:10293561-1794323700-1794328200@stmichaels-litchfield.org
SUMMARY:Property Committee meeting in Parish House Library
DESCRIPTION:
URL:https://stmichaels-litchfield.org/event/property-committee-meeting-in-parish-house-library-4/2026-11-10/
LOCATION:Parish House Library\, 25 South Street\, Litchfield\, CT\, 06759\, United States
CATEGORIES:Church Event
END:VEVENT
BEGIN:VEVENT
DTSTART;TZID=America/New_York:20261110T160000
DTEND;TZID=America/New_York:20261110T173000
DTSTAMP:20260420T030657
CREATED:20260331T205128Z
LAST-MODIFIED:20260331T205254Z
UID:10294728-1794326400-1794331800@stmichaels-litchfield.org
SUMMARY:Priest Search Committee
DESCRIPTION:
URL:https://stmichaels-litchfield.org/event/priest-search-committee-3-2-5/2026-11-10/
LOCATION:Parish House Library\, 25 South Street\, Litchfield\, CT\, 06759\, United States
END:VEVENT
BEGIN:VEVENT
DTSTART;TZID=America/New_York:20261110T190000
DTEND;TZID=America/New_York:20261110T200000
DTSTAMP:20260420T030657
CREATED:20211108T175914Z
LAST-MODIFIED:20260130T014621Z
UID:10010134-1794337200-1794340800@stmichaels-litchfield.org
SUMMARY:AA Meeting in Community House
DESCRIPTION:
URL:https://stmichaels-litchfield.org/event/aa-group-in-community-house-2/2026-11-10/
LOCATION:Community House in Library from April 9th forward
CATEGORIES:AA/NA Events
END:VEVENT
BEGIN:VEVENT
DTSTART;TZID=America/New_York:20261111T070000
DTEND;TZID=America/New_York:20261111T073000
DTSTAMP:20260420T030657
CREATED:20230606T184551Z
LAST-MODIFIED:20230619T142647Z
UID:10006206-1794380400-1794382200@stmichaels-litchfield.org
SUMMARY:AA Meeting in the Parish House Library
DESCRIPTION:
URL:https://stmichaels-litchfield.org/event/aa-meeting-in-the-library/2026-11-11/
LOCATION:Parish House Library\, 25 South Street\, Litchfield\, CT\, 06759\, United States
CATEGORIES:AA/NA Events
END:VEVENT
BEGIN:VEVENT
DTSTART;TZID=America/New_York:20261111T083000
DTEND;TZID=America/New_York:20261111T110000
DTSTAMP:20260420T030657
CREATED:20250109T152013Z
LAST-MODIFIED:20250109T152013Z
UID:10019472-1794385800-1794394800@stmichaels-litchfield.org
SUMMARY:Greenwoods Counseling
DESCRIPTION:
URL:https://stmichaels-litchfield.org/event/greenwoods-counseling-7/2026-11-11/
CATEGORIES:Greenwoods Counseling
END:VEVENT
BEGIN:VEVENT
DTSTART;TZID=America/New_York:20261111T093000
DTEND;TZID=America/New_York:20261111T143000
DTSTAMP:20260420T030657
CREATED:20260128T181432Z
LAST-MODIFIED:20260128T181726Z
UID:10291588-1794389400-1794407400@stmichaels-litchfield.org
SUMMARY:Church Office Open
DESCRIPTION:
URL:https://stmichaels-litchfield.org/event/church-office-open-14/2026-11-11/
LOCATION:Church Office\, 25 South Street\, Litchfield\, CT\, 06759\, United States
CATEGORIES:Church Office Event
END:VEVENT
BEGIN:VEVENT
DTSTART;TZID=America/New_York:20261111T173000
DTEND;TZID=America/New_York:20261111T180000
DTSTAMP:20260420T030657
CREATED:20260327T155546Z
LAST-MODIFIED:20260327T155546Z
UID:10294469-1794418200-1794420000@stmichaels-litchfield.org
SUMMARY:Chanted Evening Prayer
DESCRIPTION:
URL:https://stmichaels-litchfield.org/event/chanted-evening-prayer-3/2026-11-11/
LOCATION:Chapel\, 25 South Street\, Litchfield\, CT\, 06759\, United States
CATEGORIES:Church Event
END:VEVENT
BEGIN:VEVENT
DTSTART;TZID=America/New_York:20261111T190000
DTEND;TZID=America/New_York:20261111T203000
DTSTAMP:20260420T030657
CREATED:20230817T183342Z
LAST-MODIFIED:20230817T183342Z
UID:10013164-1794423600-1794429000@stmichaels-litchfield.org
SUMMARY:Choir Rehearsal in Parish House Music Room
DESCRIPTION:
URL:https://stmichaels-litchfield.org/event/choir-rehearsal-in-parish-house-music-room/2026-11-11/
LOCATION:Parish House Music Room
CATEGORIES:Church Event
END:VEVENT
BEGIN:VEVENT
DTSTART;TZID=America/New_York:20261111T193000
DTEND;TZID=America/New_York:20261111T210000
DTSTAMP:20260420T030657
CREATED:20211108T180816Z
LAST-MODIFIED:20230714T003135Z
UID:10012488-1794425400-1794430800@stmichaels-litchfield.org
SUMMARY:NA meeting in Community House
DESCRIPTION:
URL:https://stmichaels-litchfield.org/event/narcotics-anonymous/2026-11-11/
LOCATION:Community House in Library from April 9th forward
CATEGORIES:AA/NA Events
END:VEVENT
BEGIN:VEVENT
DTSTART;TZID=America/New_York:20261112T093000
DTEND;TZID=America/New_York:20261112T143000
DTSTAMP:20260420T030657
CREATED:20260128T181432Z
LAST-MODIFIED:20260128T181726Z
UID:10291589-1794475800-1794493800@stmichaels-litchfield.org
SUMMARY:Church Office Open
DESCRIPTION:
URL:https://stmichaels-litchfield.org/event/church-office-open-14/2026-11-12/
LOCATION:Church Office\, 25 South Street\, Litchfield\, CT\, 06759\, United States
CATEGORIES:Church Office Event
END:VEVENT
BEGIN:VEVENT
DTSTART;TZID=America/New_York:20261113T070000
DTEND;TZID=America/New_York:20261113T073000
DTSTAMP:20260420T030657
CREATED:20230606T184551Z
LAST-MODIFIED:20230619T142647Z
UID:10006207-1794553200-1794555000@stmichaels-litchfield.org
SUMMARY:AA Meeting in the Parish House Library
DESCRIPTION:
URL:https://stmichaels-litchfield.org/event/aa-meeting-in-the-library/2026-11-13/
LOCATION:Parish House Library\, 25 South Street\, Litchfield\, CT\, 06759\, United States
CATEGORIES:AA/NA Events
END:VEVENT
BEGIN:VEVENT
DTSTART;TZID=America/New_York:20261113T093000
DTEND;TZID=America/New_York:20261113T143000
DTSTAMP:20260420T030657
CREATED:20260128T181432Z
LAST-MODIFIED:20260128T181726Z
UID:10291590-1794562200-1794580200@stmichaels-litchfield.org
SUMMARY:Church Office Open
DESCRIPTION:
URL:https://stmichaels-litchfield.org/event/church-office-open-14/2026-11-13/
LOCATION:Church Office\, 25 South Street\, Litchfield\, CT\, 06759\, United States
CATEGORIES:Church Office Event
END:VEVENT
BEGIN:VEVENT
DTSTART;TZID=America/New_York:20261114T083000
DTEND;TZID=America/New_York:20261114T093000
DTSTAMP:20260420T030657
CREATED:20230619T143626Z
LAST-MODIFIED:20230619T143720Z
UID:10010741-1794645000-1794648600@stmichaels-litchfield.org
SUMMARY:AA Meeting in Parish House Library
DESCRIPTION:
URL:https://stmichaels-litchfield.org/event/aa-meeting-in-community-house-2/2026-11-14/
LOCATION:Community House in Library from April 9th forward
CATEGORIES:AA/NA Events
END:VEVENT
BEGIN:VEVENT
DTSTART;TZID=America/New_York:20261115T080000
DTEND;TZID=America/New_York:20261115T090000
DTSTAMP:20260420T030657
CREATED:20211108T181651Z
LAST-MODIFIED:20260327T134504Z
UID:10020432-1794729600-1794733200@stmichaels-litchfield.org
SUMMARY:Eucharist\, Rite I
DESCRIPTION:Spoken\, no music
URL:https://stmichaels-litchfield.org/event/sunday-eucharist/2026-11-15/
LOCATION:Chapel\, 25 South Street\, Litchfield\, CT\, 06759\, United States
CATEGORIES:Church Event,Parish Events
END:VEVENT
END:VCALENDAR