BEGIN:VCALENDAR
VERSION:2.0
PRODID:-//St. Michael&#039;s Church - ECPv6.15.20//NONSGML v1.0//EN
CALSCALE:GREGORIAN
METHOD:PUBLISH
X-ORIGINAL-URL:https://stmichaels-litchfield.org
X-WR-CALDESC:Events for St. Michael&#039;s Church
REFRESH-INTERVAL;VALUE=DURATION:PT1H
X-Robots-Tag:noindex
X-PUBLISHED-TTL:PT1H
BEGIN:VTIMEZONE
TZID:America/New_York
BEGIN:DAYLIGHT
TZOFFSETFROM:-0500
TZOFFSETTO:-0400
TZNAME:EDT
DTSTART:20260308T070000
END:DAYLIGHT
BEGIN:STANDARD
TZOFFSETFROM:-0400
TZOFFSETTO:-0500
TZNAME:EST
DTSTART:20261101T060000
END:STANDARD
BEGIN:DAYLIGHT
TZOFFSETFROM:-0500
TZOFFSETTO:-0400
TZNAME:EDT
DTSTART:20270314T070000
END:DAYLIGHT
BEGIN:STANDARD
TZOFFSETFROM:-0400
TZOFFSETTO:-0500
TZNAME:EST
DTSTART:20271107T060000
END:STANDARD
BEGIN:DAYLIGHT
TZOFFSETFROM:-0500
TZOFFSETTO:-0400
TZNAME:EDT
DTSTART:20280312T070000
END:DAYLIGHT
BEGIN:STANDARD
TZOFFSETFROM:-0400
TZOFFSETTO:-0500
TZNAME:EST
DTSTART:20281105T060000
END:STANDARD
END:VTIMEZONE
BEGIN:VEVENT
DTSTART;TZID=America/New_York:20271123T190000
DTEND;TZID=America/New_York:20271123T200000
DTSTAMP:20260422T234939
CREATED:20211108T175914Z
LAST-MODIFIED:20260130T014621Z
UID:10010188-1826996400-1827000000@stmichaels-litchfield.org
SUMMARY:AA Meeting in Community House
DESCRIPTION:
URL:https://stmichaels-litchfield.org/event/aa-group-in-community-house-2/2027-11-23/
LOCATION:Community House in Library from April 9th forward
CATEGORIES:AA/NA Events
END:VEVENT
BEGIN:VEVENT
DTSTART;TZID=America/New_York:20271124T070000
DTEND;TZID=America/New_York:20271124T073000
DTSTAMP:20260422T234939
CREATED:20230606T184551Z
LAST-MODIFIED:20230619T142647Z
UID:10006368-1827039600-1827041400@stmichaels-litchfield.org
SUMMARY:AA Meeting in the Parish House Library
DESCRIPTION:
URL:https://stmichaels-litchfield.org/event/aa-meeting-in-the-library/2027-11-24/
LOCATION:Parish House Library\, 25 South Street\, Litchfield\, CT\, 06759\, United States
CATEGORIES:AA/NA Events
END:VEVENT
BEGIN:VEVENT
DTSTART;TZID=America/New_York:20271124T083000
DTEND;TZID=America/New_York:20271124T110000
DTSTAMP:20260422T234939
CREATED:20250109T152013Z
LAST-MODIFIED:20250109T152013Z
UID:10019526-1827045000-1827054000@stmichaels-litchfield.org
SUMMARY:Greenwoods Counseling
DESCRIPTION:
URL:https://stmichaels-litchfield.org/event/greenwoods-counseling-7/2027-11-24/
CATEGORIES:Greenwoods Counseling
END:VEVENT
BEGIN:VEVENT
DTSTART;TZID=America/New_York:20271124T093000
DTEND;TZID=America/New_York:20271124T143000
DTSTAMP:20260422T234939
CREATED:20260128T181432Z
LAST-MODIFIED:20260128T181726Z
UID:10291804-1827048600-1827066600@stmichaels-litchfield.org
SUMMARY:Church Office Open
DESCRIPTION:
URL:https://stmichaels-litchfield.org/event/church-office-open-14/2027-11-24/
LOCATION:Church Office\, 25 South Street\, Litchfield\, CT\, 06759\, United States
CATEGORIES:Church Office Event
END:VEVENT
BEGIN:VEVENT
DTSTART;TZID=America/New_York:20271124T110000
DTEND;TZID=America/New_York:20271124T133000
DTSTAMP:20260422T234939
CREATED:20231012T152740Z
LAST-MODIFIED:20231012T152740Z
UID:10013927-1827054000-1827063000@stmichaels-litchfield.org
SUMMARY:Greenwoods Counselling All Staff Meeting in the Community House
DESCRIPTION:
URL:https://stmichaels-litchfield.org/event/greenwoods-counselling-all-staff-meeting-in-the-community-house/2027-11-24/
LOCATION:Community House in Library from April 9th forward
CATEGORIES:Greenwoods Counseling
END:VEVENT
BEGIN:VEVENT
DTSTART;TZID=America/New_York:20271124T173000
DTEND;TZID=America/New_York:20271124T180000
DTSTAMP:20260422T234939
CREATED:20260327T155546Z
LAST-MODIFIED:20260422T175057Z
UID:10294523-1827077400-1827079200@stmichaels-litchfield.org
SUMMARY:Chanted Evening Prayer
DESCRIPTION:
URL:https://stmichaels-litchfield.org/event/chanted-evening-prayer-3/2027-11-24/
LOCATION:Chapel\, 25 South Street\, Litchfield\, CT\, 06759\, United States
CATEGORIES:Church Event
END:VEVENT
BEGIN:VEVENT
DTSTART;TZID=America/New_York:20271124T190000
DTEND;TZID=America/New_York:20271124T203000
DTSTAMP:20260422T234939
CREATED:20230817T183342Z
LAST-MODIFIED:20230817T183342Z
UID:10013218-1827082800-1827088200@stmichaels-litchfield.org
SUMMARY:Choir Rehearsal in Parish House Music Room
DESCRIPTION:
URL:https://stmichaels-litchfield.org/event/choir-rehearsal-in-parish-house-music-room/2027-11-24/
LOCATION:Parish House Music Room
CATEGORIES:Church Event
END:VEVENT
BEGIN:VEVENT
DTSTART;TZID=America/New_York:20271124T193000
DTEND;TZID=America/New_York:20271124T210000
DTSTAMP:20260422T234939
CREATED:20211108T180816Z
LAST-MODIFIED:20230714T003135Z
UID:10012542-1827084600-1827090000@stmichaels-litchfield.org
SUMMARY:NA meeting in Community House
DESCRIPTION:
URL:https://stmichaels-litchfield.org/event/narcotics-anonymous/2027-11-24/
LOCATION:Community House in Library from April 9th forward
CATEGORIES:AA/NA Events
END:VEVENT
BEGIN:VEVENT
DTSTART;TZID=America/New_York:20271125T093000
DTEND;TZID=America/New_York:20271125T143000
DTSTAMP:20260422T234939
CREATED:20260128T181432Z
LAST-MODIFIED:20260128T181726Z
UID:10291805-1827135000-1827153000@stmichaels-litchfield.org
SUMMARY:Church Office Open
DESCRIPTION:
URL:https://stmichaels-litchfield.org/event/church-office-open-14/2027-11-25/
LOCATION:Church Office\, 25 South Street\, Litchfield\, CT\, 06759\, United States
CATEGORIES:Church Office Event
END:VEVENT
BEGIN:VEVENT
DTSTART;TZID=America/New_York:20271126T070000
DTEND;TZID=America/New_York:20271126T073000
DTSTAMP:20260422T234939
CREATED:20230606T184551Z
LAST-MODIFIED:20230619T142647Z
UID:10006369-1827212400-1827214200@stmichaels-litchfield.org
SUMMARY:AA Meeting in the Parish House Library
DESCRIPTION:
URL:https://stmichaels-litchfield.org/event/aa-meeting-in-the-library/2027-11-26/
LOCATION:Parish House Library\, 25 South Street\, Litchfield\, CT\, 06759\, United States
CATEGORIES:AA/NA Events
END:VEVENT
BEGIN:VEVENT
DTSTART;TZID=America/New_York:20271126T093000
DTEND;TZID=America/New_York:20271126T143000
DTSTAMP:20260422T234939
CREATED:20260128T181432Z
LAST-MODIFIED:20260128T181726Z
UID:10291806-1827221400-1827239400@stmichaels-litchfield.org
SUMMARY:Church Office Open
DESCRIPTION:
URL:https://stmichaels-litchfield.org/event/church-office-open-14/2027-11-26/
LOCATION:Church Office\, 25 South Street\, Litchfield\, CT\, 06759\, United States
CATEGORIES:Church Office Event
END:VEVENT
BEGIN:VEVENT
DTSTART;TZID=America/New_York:20271127T083000
DTEND;TZID=America/New_York:20271127T093000
DTSTAMP:20260422T234939
CREATED:20230619T143626Z
LAST-MODIFIED:20230619T143720Z
UID:10010795-1827304200-1827307800@stmichaels-litchfield.org
SUMMARY:AA Meeting in Parish House Library
DESCRIPTION:
URL:https://stmichaels-litchfield.org/event/aa-meeting-in-community-house-2/2027-11-27/
LOCATION:Community House in Library from April 9th forward
CATEGORIES:AA/NA Events
END:VEVENT
BEGIN:VEVENT
DTSTART;TZID=America/New_York:20271128T080000
DTEND;TZID=America/New_York:20271128T090000
DTSTAMP:20260422T234939
CREATED:20211108T181651Z
LAST-MODIFIED:20260327T134504Z
UID:10020486-1827388800-1827392400@stmichaels-litchfield.org
SUMMARY:Eucharist\, Rite I
DESCRIPTION:Spoken\, no music
URL:https://stmichaels-litchfield.org/event/sunday-eucharist/2027-11-28/
LOCATION:Chapel\, 25 South Street\, Litchfield\, CT\, 06759\, United States
CATEGORIES:Church Event,Parish Events
END:VEVENT
BEGIN:VEVENT
DTSTART;TZID=America/New_York:20271128T100000
DTEND;TZID=America/New_York:20271128T110000
DTSTAMP:20260422T234939
CREATED:20250403T150154Z
LAST-MODIFIED:20260422T181447Z
UID:10012801-1827396000-1827399600@stmichaels-litchfield.org
SUMMARY:Sunday Eucharist\, Rite II
DESCRIPTION:Rite II with music \nFollowed by Coffee Hour in the Community House
URL:https://stmichaels-litchfield.org/event/sunday-eucharist-2-3/2027-11-28/
LOCATION:Church\, 25 South Street\, Litchfield\, CT\, 06759\, United States
CATEGORIES:Church Event,Parish Events
END:VEVENT
BEGIN:VEVENT
DTSTART;TZID=America/New_York:20271128T110000
DTEND;TZID=America/New_York:20271128T140000
DTSTAMP:20260422T234939
CREATED:20230711T182541Z
LAST-MODIFIED:20250806T192214Z
UID:10012140-1827399600-1827410400@stmichaels-litchfield.org
SUMMARY:Coffee and Fellowship in the Community House
DESCRIPTION:
URL:https://stmichaels-litchfield.org/event/coffee-and-congregation-in-the-community-house/2027-11-28/
LOCATION:Community House in Library from April 9th forward
CATEGORIES:Church Event
END:VEVENT
BEGIN:VEVENT
DTSTART;TZID=America/New_York:20271128T190000
DTEND;TZID=America/New_York:20271128T200000
DTSTAMP:20260422T234939
CREATED:20230619T142544Z
LAST-MODIFIED:20260416T160049Z
UID:10009985-1827428400-1827432000@stmichaels-litchfield.org
SUMMARY:AA Meeting in Community House
DESCRIPTION:
URL:https://stmichaels-litchfield.org/event/aa-meeting-in-community-house/2027-11-28/
LOCATION:Community House in Library from April 9th forward
END:VEVENT
BEGIN:VEVENT
DTSTART;VALUE=DATE:20271129
DTEND;VALUE=DATE:20271130
DTSTAMP:20260422T234939
CREATED:20260128T181321Z
LAST-MODIFIED:20260128T181322Z
UID:10291236-1827446400-1827532799@stmichaels-litchfield.org
SUMMARY:Church Office Closed
DESCRIPTION:
URL:https://stmichaels-litchfield.org/event/summer-schedule-church-office-closed-2-2-2-3/2027-11-29/
LOCATION:Church Office\, 25 South Street\, Litchfield\, CT\, 06759\, United States
CATEGORIES:Church Office Event
END:VEVENT
BEGIN:VEVENT
DTSTART;TZID=America/New_York:20271129T070000
DTEND;TZID=America/New_York:20271129T073000
DTSTAMP:20260422T234939
CREATED:20230606T184551Z
LAST-MODIFIED:20230619T142647Z
UID:10006370-1827471600-1827473400@stmichaels-litchfield.org
SUMMARY:AA Meeting in the Parish House Library
DESCRIPTION:
URL:https://stmichaels-litchfield.org/event/aa-meeting-in-the-library/2027-11-29/
LOCATION:Parish House Library\, 25 South Street\, Litchfield\, CT\, 06759\, United States
CATEGORIES:AA/NA Events
END:VEVENT
BEGIN:VEVENT
DTSTART;TZID=America/New_York:20271129T200000
DTEND;TZID=America/New_York:20271129T213000
DTSTAMP:20260422T234939
CREATED:20260218T173517Z
LAST-MODIFIED:20260218T173517Z
UID:10292659-1827518400-1827523800@stmichaels-litchfield.org
SUMMARY:AA meeting in the Community House
DESCRIPTION:
URL:https://stmichaels-litchfield.org/event/aa-meeting-in-the-community-house-2/2027-11-29/
END:VEVENT
BEGIN:VEVENT
DTSTART;TZID=America/New_York:20271130T093000
DTEND;TZID=America/New_York:20271130T143000
DTSTAMP:20260422T234939
CREATED:20260128T181432Z
LAST-MODIFIED:20260128T181726Z
UID:10291807-1827567000-1827585000@stmichaels-litchfield.org
SUMMARY:Church Office Open
DESCRIPTION:
URL:https://stmichaels-litchfield.org/event/church-office-open-14/2027-11-30/
LOCATION:Church Office\, 25 South Street\, Litchfield\, CT\, 06759\, United States
CATEGORIES:Church Office Event
END:VEVENT
BEGIN:VEVENT
DTSTART;TZID=America/New_York:20271130T160000
DTEND;TZID=America/New_York:20271130T173000
DTSTAMP:20260422T234939
CREATED:20260331T205128Z
LAST-MODIFIED:20260331T205254Z
UID:10294783-1827590400-1827595800@stmichaels-litchfield.org
SUMMARY:Priest Search Committee
DESCRIPTION:
URL:https://stmichaels-litchfield.org/event/priest-search-committee-3-2-5/2027-11-30/
LOCATION:Parish House Library\, 25 South Street\, Litchfield\, CT\, 06759\, United States
END:VEVENT
BEGIN:VEVENT
DTSTART;TZID=America/New_York:20271130T190000
DTEND;TZID=America/New_York:20271130T200000
DTSTAMP:20260422T234939
CREATED:20211108T175914Z
LAST-MODIFIED:20260130T014621Z
UID:10010189-1827601200-1827604800@stmichaels-litchfield.org
SUMMARY:AA Meeting in Community House
DESCRIPTION:
URL:https://stmichaels-litchfield.org/event/aa-group-in-community-house-2/2027-11-30/
LOCATION:Community House in Library from April 9th forward
CATEGORIES:AA/NA Events
END:VEVENT
BEGIN:VEVENT
DTSTART;TZID=America/New_York:20271201T070000
DTEND;TZID=America/New_York:20271201T073000
DTSTAMP:20260422T234939
CREATED:20230606T184551Z
LAST-MODIFIED:20230619T142647Z
UID:10006371-1827644400-1827646200@stmichaels-litchfield.org
SUMMARY:AA Meeting in the Parish House Library
DESCRIPTION:
URL:https://stmichaels-litchfield.org/event/aa-meeting-in-the-library/2027-12-01/
LOCATION:Parish House Library\, 25 South Street\, Litchfield\, CT\, 06759\, United States
CATEGORIES:AA/NA Events
END:VEVENT
BEGIN:VEVENT
DTSTART;TZID=America/New_York:20271201T083000
DTEND;TZID=America/New_York:20271201T110000
DTSTAMP:20260422T234939
CREATED:20250109T152013Z
LAST-MODIFIED:20250109T152013Z
UID:10019527-1827649800-1827658800@stmichaels-litchfield.org
SUMMARY:Greenwoods Counseling
DESCRIPTION:
URL:https://stmichaels-litchfield.org/event/greenwoods-counseling-7/2027-12-01/
CATEGORIES:Greenwoods Counseling
END:VEVENT
BEGIN:VEVENT
DTSTART;TZID=America/New_York:20271201T093000
DTEND;TZID=America/New_York:20271201T143000
DTSTAMP:20260422T234939
CREATED:20260128T181432Z
LAST-MODIFIED:20260128T181726Z
UID:10291808-1827653400-1827671400@stmichaels-litchfield.org
SUMMARY:Church Office Open
DESCRIPTION:
URL:https://stmichaels-litchfield.org/event/church-office-open-14/2027-12-01/
LOCATION:Church Office\, 25 South Street\, Litchfield\, CT\, 06759\, United States
CATEGORIES:Church Office Event
END:VEVENT
BEGIN:VEVENT
DTSTART;TZID=America/New_York:20271201T173000
DTEND;TZID=America/New_York:20271201T180000
DTSTAMP:20260422T234939
CREATED:20260327T155546Z
LAST-MODIFIED:20260422T175057Z
UID:10294524-1827682200-1827684000@stmichaels-litchfield.org
SUMMARY:Chanted Evening Prayer
DESCRIPTION:
URL:https://stmichaels-litchfield.org/event/chanted-evening-prayer-3/2027-12-01/
LOCATION:Chapel\, 25 South Street\, Litchfield\, CT\, 06759\, United States
CATEGORIES:Church Event
END:VEVENT
BEGIN:VEVENT
DTSTART;TZID=America/New_York:20271201T190000
DTEND;TZID=America/New_York:20271201T203000
DTSTAMP:20260422T234939
CREATED:20230817T183342Z
LAST-MODIFIED:20230817T183342Z
UID:10013219-1827687600-1827693000@stmichaels-litchfield.org
SUMMARY:Choir Rehearsal in Parish House Music Room
DESCRIPTION:
URL:https://stmichaels-litchfield.org/event/choir-rehearsal-in-parish-house-music-room/2027-12-01/
LOCATION:Parish House Music Room
CATEGORIES:Church Event
END:VEVENT
BEGIN:VEVENT
DTSTART;TZID=America/New_York:20271201T193000
DTEND;TZID=America/New_York:20271201T210000
DTSTAMP:20260422T234939
CREATED:20211108T180816Z
LAST-MODIFIED:20230714T003135Z
UID:10012543-1827689400-1827694800@stmichaels-litchfield.org
SUMMARY:NA meeting in Community House
DESCRIPTION:
URL:https://stmichaels-litchfield.org/event/narcotics-anonymous/2027-12-01/
LOCATION:Community House in Library from April 9th forward
CATEGORIES:AA/NA Events
END:VEVENT
BEGIN:VEVENT
DTSTART;TZID=America/New_York:20271202T093000
DTEND;TZID=America/New_York:20271202T143000
DTSTAMP:20260422T234939
CREATED:20260128T181432Z
LAST-MODIFIED:20260128T181726Z
UID:10291809-1827739800-1827757800@stmichaels-litchfield.org
SUMMARY:Church Office Open
DESCRIPTION:
URL:https://stmichaels-litchfield.org/event/church-office-open-14/2027-12-02/
LOCATION:Church Office\, 25 South Street\, Litchfield\, CT\, 06759\, United States
CATEGORIES:Church Office Event
END:VEVENT
BEGIN:VEVENT
DTSTART;TZID=America/New_York:20271202T190000
DTEND;TZID=America/New_York:20271202T220000
DTSTAMP:20260422T234939
CREATED:20230810T152445Z
LAST-MODIFIED:20230823T141209Z
UID:10012938-1827774000-1827784800@stmichaels-litchfield.org
SUMMARY:SOTG Board meeting in the Parish House Library
DESCRIPTION:
URL:https://stmichaels-litchfield.org/event/sotg-board-meeting-2/2027-12-02/
LOCATION:Parish House Library\, 25 South Street\, Litchfield\, CT\, 06759\, United States
CATEGORIES:School on the Green Event
END:VEVENT
END:VCALENDAR