BEGIN:VCALENDAR
VERSION:2.0
PRODID:-//St. Michael&#039;s Church - ECPv6.15.20//NONSGML v1.0//EN
CALSCALE:GREGORIAN
METHOD:PUBLISH
X-ORIGINAL-URL:https://stmichaels-litchfield.org
X-WR-CALDESC:Events for St. Michael&#039;s Church
REFRESH-INTERVAL;VALUE=DURATION:PT1H
X-Robots-Tag:noindex
X-PUBLISHED-TTL:PT1H
BEGIN:VTIMEZONE
TZID:America/New_York
BEGIN:DAYLIGHT
TZOFFSETFROM:-0500
TZOFFSETTO:-0400
TZNAME:EDT
DTSTART:20260308T070000
END:DAYLIGHT
BEGIN:STANDARD
TZOFFSETFROM:-0400
TZOFFSETTO:-0500
TZNAME:EST
DTSTART:20261101T060000
END:STANDARD
BEGIN:DAYLIGHT
TZOFFSETFROM:-0500
TZOFFSETTO:-0400
TZNAME:EDT
DTSTART:20270314T070000
END:DAYLIGHT
BEGIN:STANDARD
TZOFFSETFROM:-0400
TZOFFSETTO:-0500
TZNAME:EST
DTSTART:20271107T060000
END:STANDARD
BEGIN:DAYLIGHT
TZOFFSETFROM:-0500
TZOFFSETTO:-0400
TZNAME:EDT
DTSTART:20280312T070000
END:DAYLIGHT
BEGIN:STANDARD
TZOFFSETFROM:-0400
TZOFFSETTO:-0500
TZNAME:EST
DTSTART:20281105T060000
END:STANDARD
END:VTIMEZONE
BEGIN:VEVENT
DTSTART;TZID=America/New_York:20271214T190000
DTEND;TZID=America/New_York:20271214T200000
DTSTAMP:20260422T234955
CREATED:20211108T175914Z
LAST-MODIFIED:20260130T014621Z
UID:10010191-1828810800-1828814400@stmichaels-litchfield.org
SUMMARY:AA Meeting in Community House
DESCRIPTION:
URL:https://stmichaels-litchfield.org/event/aa-group-in-community-house-2/2027-12-14/
LOCATION:Community House in Library from April 9th forward
CATEGORIES:AA/NA Events
END:VEVENT
BEGIN:VEVENT
DTSTART;TZID=America/New_York:20271215T070000
DTEND;TZID=America/New_York:20271215T073000
DTSTAMP:20260422T234955
CREATED:20230606T184551Z
LAST-MODIFIED:20230619T142647Z
UID:10006377-1828854000-1828855800@stmichaels-litchfield.org
SUMMARY:AA Meeting in the Parish House Library
DESCRIPTION:
URL:https://stmichaels-litchfield.org/event/aa-meeting-in-the-library/2027-12-15/
LOCATION:Parish House Library\, 25 South Street\, Litchfield\, CT\, 06759\, United States
CATEGORIES:AA/NA Events
END:VEVENT
BEGIN:VEVENT
DTSTART;TZID=America/New_York:20271215T083000
DTEND;TZID=America/New_York:20271215T110000
DTSTAMP:20260422T234955
CREATED:20250109T152013Z
LAST-MODIFIED:20250109T152013Z
UID:10019529-1828859400-1828868400@stmichaels-litchfield.org
SUMMARY:Greenwoods Counseling
DESCRIPTION:
URL:https://stmichaels-litchfield.org/event/greenwoods-counseling-7/2027-12-15/
CATEGORIES:Greenwoods Counseling
END:VEVENT
BEGIN:VEVENT
DTSTART;TZID=America/New_York:20271215T093000
DTEND;TZID=America/New_York:20271215T143000
DTSTAMP:20260422T234955
CREATED:20260128T181432Z
LAST-MODIFIED:20260128T181726Z
UID:10291816-1828863000-1828881000@stmichaels-litchfield.org
SUMMARY:Church Office Open
DESCRIPTION:
URL:https://stmichaels-litchfield.org/event/church-office-open-14/2027-12-15/
LOCATION:Church Office\, 25 South Street\, Litchfield\, CT\, 06759\, United States
CATEGORIES:Church Office Event
END:VEVENT
BEGIN:VEVENT
DTSTART;TZID=America/New_York:20271215T173000
DTEND;TZID=America/New_York:20271215T180000
DTSTAMP:20260422T234955
CREATED:20260327T155546Z
LAST-MODIFIED:20260422T175057Z
UID:10294526-1828891800-1828893600@stmichaels-litchfield.org
SUMMARY:Chanted Evening Prayer
DESCRIPTION:
URL:https://stmichaels-litchfield.org/event/chanted-evening-prayer-3/2027-12-15/
LOCATION:Chapel\, 25 South Street\, Litchfield\, CT\, 06759\, United States
CATEGORIES:Church Event
END:VEVENT
BEGIN:VEVENT
DTSTART;TZID=America/New_York:20271215T190000
DTEND;TZID=America/New_York:20271215T203000
DTSTAMP:20260422T234955
CREATED:20230817T183342Z
LAST-MODIFIED:20230817T183342Z
UID:10013221-1828897200-1828902600@stmichaels-litchfield.org
SUMMARY:Choir Rehearsal in Parish House Music Room
DESCRIPTION:
URL:https://stmichaels-litchfield.org/event/choir-rehearsal-in-parish-house-music-room/2027-12-15/
LOCATION:Parish House Music Room
CATEGORIES:Church Event
END:VEVENT
BEGIN:VEVENT
DTSTART;TZID=America/New_York:20271215T193000
DTEND;TZID=America/New_York:20271215T210000
DTSTAMP:20260422T234955
CREATED:20211108T180816Z
LAST-MODIFIED:20230714T003135Z
UID:10012545-1828899000-1828904400@stmichaels-litchfield.org
SUMMARY:NA meeting in Community House
DESCRIPTION:
URL:https://stmichaels-litchfield.org/event/narcotics-anonymous/2027-12-15/
LOCATION:Community House in Library from April 9th forward
CATEGORIES:AA/NA Events
END:VEVENT
BEGIN:VEVENT
DTSTART;TZID=America/New_York:20271216T093000
DTEND;TZID=America/New_York:20271216T143000
DTSTAMP:20260422T234955
CREATED:20260128T181432Z
LAST-MODIFIED:20260128T181726Z
UID:10291817-1828949400-1828967400@stmichaels-litchfield.org
SUMMARY:Church Office Open
DESCRIPTION:
URL:https://stmichaels-litchfield.org/event/church-office-open-14/2027-12-16/
LOCATION:Church Office\, 25 South Street\, Litchfield\, CT\, 06759\, United States
CATEGORIES:Church Office Event
END:VEVENT
BEGIN:VEVENT
DTSTART;TZID=America/New_York:20271217T070000
DTEND;TZID=America/New_York:20271217T073000
DTSTAMP:20260422T234955
CREATED:20230606T184551Z
LAST-MODIFIED:20230619T142647Z
UID:10006378-1829026800-1829028600@stmichaels-litchfield.org
SUMMARY:AA Meeting in the Parish House Library
DESCRIPTION:
URL:https://stmichaels-litchfield.org/event/aa-meeting-in-the-library/2027-12-17/
LOCATION:Parish House Library\, 25 South Street\, Litchfield\, CT\, 06759\, United States
CATEGORIES:AA/NA Events
END:VEVENT
BEGIN:VEVENT
DTSTART;TZID=America/New_York:20271217T093000
DTEND;TZID=America/New_York:20271217T143000
DTSTAMP:20260422T234955
CREATED:20260128T181432Z
LAST-MODIFIED:20260128T181726Z
UID:10291818-1829035800-1829053800@stmichaels-litchfield.org
SUMMARY:Church Office Open
DESCRIPTION:
URL:https://stmichaels-litchfield.org/event/church-office-open-14/2027-12-17/
LOCATION:Church Office\, 25 South Street\, Litchfield\, CT\, 06759\, United States
CATEGORIES:Church Office Event
END:VEVENT
BEGIN:VEVENT
DTSTART;TZID=America/New_York:20271218T083000
DTEND;TZID=America/New_York:20271218T093000
DTSTAMP:20260422T234955
CREATED:20230619T143626Z
LAST-MODIFIED:20230619T143720Z
UID:10010798-1829118600-1829122200@stmichaels-litchfield.org
SUMMARY:AA Meeting in Parish House Library
DESCRIPTION:
URL:https://stmichaels-litchfield.org/event/aa-meeting-in-community-house-2/2027-12-18/
LOCATION:Community House in Library from April 9th forward
CATEGORIES:AA/NA Events
END:VEVENT
BEGIN:VEVENT
DTSTART;TZID=America/New_York:20271219T080000
DTEND;TZID=America/New_York:20271219T090000
DTSTAMP:20260422T234955
CREATED:20211108T181651Z
LAST-MODIFIED:20260327T134504Z
UID:10020489-1829203200-1829206800@stmichaels-litchfield.org
SUMMARY:Eucharist\, Rite I
DESCRIPTION:Spoken\, no music
URL:https://stmichaels-litchfield.org/event/sunday-eucharist/2027-12-19/
LOCATION:Chapel\, 25 South Street\, Litchfield\, CT\, 06759\, United States
CATEGORIES:Church Event,Parish Events
END:VEVENT
BEGIN:VEVENT
DTSTART;TZID=America/New_York:20271219T100000
DTEND;TZID=America/New_York:20271219T110000
DTSTAMP:20260422T234955
CREATED:20250403T150154Z
LAST-MODIFIED:20260422T181447Z
UID:10012804-1829210400-1829214000@stmichaels-litchfield.org
SUMMARY:Sunday Eucharist\, Rite II
DESCRIPTION:Rite II with music \nFollowed by Coffee Hour in the Community House
URL:https://stmichaels-litchfield.org/event/sunday-eucharist-2-3/2027-12-19/
LOCATION:Church\, 25 South Street\, Litchfield\, CT\, 06759\, United States
CATEGORIES:Church Event,Parish Events
END:VEVENT
BEGIN:VEVENT
DTSTART;TZID=America/New_York:20271219T110000
DTEND;TZID=America/New_York:20271219T140000
DTSTAMP:20260422T234955
CREATED:20230711T182541Z
LAST-MODIFIED:20250806T192214Z
UID:10012143-1829214000-1829224800@stmichaels-litchfield.org
SUMMARY:Coffee and Fellowship in the Community House
DESCRIPTION:
URL:https://stmichaels-litchfield.org/event/coffee-and-congregation-in-the-community-house/2027-12-19/
LOCATION:Community House in Library from April 9th forward
CATEGORIES:Church Event
END:VEVENT
BEGIN:VEVENT
DTSTART;TZID=America/New_York:20271219T190000
DTEND;TZID=America/New_York:20271219T200000
DTSTAMP:20260422T234955
CREATED:20230619T142544Z
LAST-MODIFIED:20260416T160049Z
UID:10009988-1829242800-1829246400@stmichaels-litchfield.org
SUMMARY:AA Meeting in Community House
DESCRIPTION:
URL:https://stmichaels-litchfield.org/event/aa-meeting-in-community-house/2027-12-19/
LOCATION:Community House in Library from April 9th forward
END:VEVENT
BEGIN:VEVENT
DTSTART;VALUE=DATE:20271220
DTEND;VALUE=DATE:20271221
DTSTAMP:20260422T234955
CREATED:20260128T181321Z
LAST-MODIFIED:20260128T181322Z
UID:10291239-1829260800-1829347199@stmichaels-litchfield.org
SUMMARY:Church Office Closed
DESCRIPTION:
URL:https://stmichaels-litchfield.org/event/summer-schedule-church-office-closed-2-2-2-3/2027-12-20/
LOCATION:Church Office\, 25 South Street\, Litchfield\, CT\, 06759\, United States
CATEGORIES:Church Office Event
END:VEVENT
BEGIN:VEVENT
DTSTART;TZID=America/New_York:20271220T070000
DTEND;TZID=America/New_York:20271220T073000
DTSTAMP:20260422T234955
CREATED:20230606T184551Z
LAST-MODIFIED:20230619T142647Z
UID:10006379-1829286000-1829287800@stmichaels-litchfield.org
SUMMARY:AA Meeting in the Parish House Library
DESCRIPTION:
URL:https://stmichaels-litchfield.org/event/aa-meeting-in-the-library/2027-12-20/
LOCATION:Parish House Library\, 25 South Street\, Litchfield\, CT\, 06759\, United States
CATEGORIES:AA/NA Events
END:VEVENT
BEGIN:VEVENT
DTSTART;TZID=America/New_York:20271220T200000
DTEND;TZID=America/New_York:20271220T213000
DTSTAMP:20260422T234955
CREATED:20260218T173517Z
LAST-MODIFIED:20260218T173517Z
UID:10292662-1829332800-1829338200@stmichaels-litchfield.org
SUMMARY:AA meeting in the Community House
DESCRIPTION:
URL:https://stmichaels-litchfield.org/event/aa-meeting-in-the-community-house-2/2027-12-20/
END:VEVENT
BEGIN:VEVENT
DTSTART;TZID=America/New_York:20271221T093000
DTEND;TZID=America/New_York:20271221T143000
DTSTAMP:20260422T234955
CREATED:20260128T181432Z
LAST-MODIFIED:20260128T181726Z
UID:10291819-1829381400-1829399400@stmichaels-litchfield.org
SUMMARY:Church Office Open
DESCRIPTION:
URL:https://stmichaels-litchfield.org/event/church-office-open-14/2027-12-21/
LOCATION:Church Office\, 25 South Street\, Litchfield\, CT\, 06759\, United States
CATEGORIES:Church Office Event
END:VEVENT
BEGIN:VEVENT
DTSTART;TZID=America/New_York:20271221T160000
DTEND;TZID=America/New_York:20271221T173000
DTSTAMP:20260422T234955
CREATED:20260331T205128Z
LAST-MODIFIED:20260331T205254Z
UID:10294786-1829404800-1829410200@stmichaels-litchfield.org
SUMMARY:Priest Search Committee
DESCRIPTION:
URL:https://stmichaels-litchfield.org/event/priest-search-committee-3-2-5/2027-12-21/
LOCATION:Parish House Library\, 25 South Street\, Litchfield\, CT\, 06759\, United States
END:VEVENT
BEGIN:VEVENT
DTSTART;TZID=America/New_York:20271221T190000
DTEND;TZID=America/New_York:20271221T200000
DTSTAMP:20260422T234955
CREATED:20211108T175914Z
LAST-MODIFIED:20260130T014621Z
UID:10010192-1829415600-1829419200@stmichaels-litchfield.org
SUMMARY:AA Meeting in Community House
DESCRIPTION:
URL:https://stmichaels-litchfield.org/event/aa-group-in-community-house-2/2027-12-21/
LOCATION:Community House in Library from April 9th forward
CATEGORIES:AA/NA Events
END:VEVENT
BEGIN:VEVENT
DTSTART;TZID=America/New_York:20271222T070000
DTEND;TZID=America/New_York:20271222T073000
DTSTAMP:20260422T234955
CREATED:20230606T184551Z
LAST-MODIFIED:20230619T142647Z
UID:10006380-1829458800-1829460600@stmichaels-litchfield.org
SUMMARY:AA Meeting in the Parish House Library
DESCRIPTION:
URL:https://stmichaels-litchfield.org/event/aa-meeting-in-the-library/2027-12-22/
LOCATION:Parish House Library\, 25 South Street\, Litchfield\, CT\, 06759\, United States
CATEGORIES:AA/NA Events
END:VEVENT
BEGIN:VEVENT
DTSTART;TZID=America/New_York:20271222T083000
DTEND;TZID=America/New_York:20271222T110000
DTSTAMP:20260422T234955
CREATED:20250109T152013Z
LAST-MODIFIED:20250109T152013Z
UID:10019530-1829464200-1829473200@stmichaels-litchfield.org
SUMMARY:Greenwoods Counseling
DESCRIPTION:
URL:https://stmichaels-litchfield.org/event/greenwoods-counseling-7/2027-12-22/
CATEGORIES:Greenwoods Counseling
END:VEVENT
BEGIN:VEVENT
DTSTART;TZID=America/New_York:20271222T093000
DTEND;TZID=America/New_York:20271222T143000
DTSTAMP:20260422T234955
CREATED:20260128T181432Z
LAST-MODIFIED:20260128T181726Z
UID:10291820-1829467800-1829485800@stmichaels-litchfield.org
SUMMARY:Church Office Open
DESCRIPTION:
URL:https://stmichaels-litchfield.org/event/church-office-open-14/2027-12-22/
LOCATION:Church Office\, 25 South Street\, Litchfield\, CT\, 06759\, United States
CATEGORIES:Church Office Event
END:VEVENT
BEGIN:VEVENT
DTSTART;TZID=America/New_York:20271222T173000
DTEND;TZID=America/New_York:20271222T180000
DTSTAMP:20260422T234955
CREATED:20260327T155546Z
LAST-MODIFIED:20260422T175057Z
UID:10294527-1829496600-1829498400@stmichaels-litchfield.org
SUMMARY:Chanted Evening Prayer
DESCRIPTION:
URL:https://stmichaels-litchfield.org/event/chanted-evening-prayer-3/2027-12-22/
LOCATION:Chapel\, 25 South Street\, Litchfield\, CT\, 06759\, United States
CATEGORIES:Church Event
END:VEVENT
BEGIN:VEVENT
DTSTART;TZID=America/New_York:20271222T190000
DTEND;TZID=America/New_York:20271222T203000
DTSTAMP:20260422T234955
CREATED:20230817T183342Z
LAST-MODIFIED:20230817T183342Z
UID:10013222-1829502000-1829507400@stmichaels-litchfield.org
SUMMARY:Choir Rehearsal in Parish House Music Room
DESCRIPTION:
URL:https://stmichaels-litchfield.org/event/choir-rehearsal-in-parish-house-music-room/2027-12-22/
LOCATION:Parish House Music Room
CATEGORIES:Church Event
END:VEVENT
BEGIN:VEVENT
DTSTART;TZID=America/New_York:20271222T193000
DTEND;TZID=America/New_York:20271222T210000
DTSTAMP:20260422T234955
CREATED:20211108T180816Z
LAST-MODIFIED:20230714T003135Z
UID:10012546-1829503800-1829509200@stmichaels-litchfield.org
SUMMARY:NA meeting in Community House
DESCRIPTION:
URL:https://stmichaels-litchfield.org/event/narcotics-anonymous/2027-12-22/
LOCATION:Community House in Library from April 9th forward
CATEGORIES:AA/NA Events
END:VEVENT
BEGIN:VEVENT
DTSTART;TZID=America/New_York:20271223T093000
DTEND;TZID=America/New_York:20271223T143000
DTSTAMP:20260422T234955
CREATED:20260128T181432Z
LAST-MODIFIED:20260128T181726Z
UID:10291821-1829554200-1829572200@stmichaels-litchfield.org
SUMMARY:Church Office Open
DESCRIPTION:
URL:https://stmichaels-litchfield.org/event/church-office-open-14/2027-12-23/
LOCATION:Church Office\, 25 South Street\, Litchfield\, CT\, 06759\, United States
CATEGORIES:Church Office Event
END:VEVENT
BEGIN:VEVENT
DTSTART;TZID=America/New_York:20271224T070000
DTEND;TZID=America/New_York:20271224T073000
DTSTAMP:20260422T234955
CREATED:20230606T184551Z
LAST-MODIFIED:20230619T142647Z
UID:10006381-1829631600-1829633400@stmichaels-litchfield.org
SUMMARY:AA Meeting in the Parish House Library
DESCRIPTION:
URL:https://stmichaels-litchfield.org/event/aa-meeting-in-the-library/2027-12-24/
LOCATION:Parish House Library\, 25 South Street\, Litchfield\, CT\, 06759\, United States
CATEGORIES:AA/NA Events
END:VEVENT
BEGIN:VEVENT
DTSTART;TZID=America/New_York:20271224T093000
DTEND;TZID=America/New_York:20271224T143000
DTSTAMP:20260422T234955
CREATED:20260128T181432Z
LAST-MODIFIED:20260128T181726Z
UID:10291822-1829640600-1829658600@stmichaels-litchfield.org
SUMMARY:Church Office Open
DESCRIPTION:
URL:https://stmichaels-litchfield.org/event/church-office-open-14/2027-12-24/
LOCATION:Church Office\, 25 South Street\, Litchfield\, CT\, 06759\, United States
CATEGORIES:Church Office Event
END:VEVENT
END:VCALENDAR