BEGIN:VCALENDAR
VERSION:2.0
PRODID:-//St. Michael&#039;s Church - ECPv6.15.20//NONSGML v1.0//EN
CALSCALE:GREGORIAN
METHOD:PUBLISH
X-ORIGINAL-URL:https://stmichaels-litchfield.org
X-WR-CALDESC:Events for St. Michael&#039;s Church
REFRESH-INTERVAL;VALUE=DURATION:PT1H
X-Robots-Tag:noindex
X-PUBLISHED-TTL:PT1H
BEGIN:VTIMEZONE
TZID:America/New_York
BEGIN:DAYLIGHT
TZOFFSETFROM:-0500
TZOFFSETTO:-0400
TZNAME:EDT
DTSTART:20270314T070000
END:DAYLIGHT
BEGIN:STANDARD
TZOFFSETFROM:-0400
TZOFFSETTO:-0500
TZNAME:EST
DTSTART:20271107T060000
END:STANDARD
BEGIN:DAYLIGHT
TZOFFSETFROM:-0500
TZOFFSETTO:-0400
TZNAME:EDT
DTSTART:20280312T070000
END:DAYLIGHT
BEGIN:STANDARD
TZOFFSETFROM:-0400
TZOFFSETTO:-0500
TZNAME:EST
DTSTART:20281105T060000
END:STANDARD
BEGIN:DAYLIGHT
TZOFFSETFROM:-0500
TZOFFSETTO:-0400
TZNAME:EDT
DTSTART:20290311T070000
END:DAYLIGHT
BEGIN:STANDARD
TZOFFSETFROM:-0400
TZOFFSETTO:-0500
TZNAME:EST
DTSTART:20291104T060000
END:STANDARD
END:VTIMEZONE
BEGIN:VEVENT
DTSTART;TZID=America/New_York:20280204T070000
DTEND;TZID=America/New_York:20280204T073000
DTSTAMP:20260423T012742
CREATED:20230606T184551Z
LAST-MODIFIED:20230619T142647Z
UID:10006399-1833260400-1833262200@stmichaels-litchfield.org
SUMMARY:AA Meeting in the Parish House Library
DESCRIPTION:
URL:https://stmichaels-litchfield.org/event/aa-meeting-in-the-library/2028-02-04/
LOCATION:Parish House Library\, 25 South Street\, Litchfield\, CT\, 06759\, United States
CATEGORIES:AA/NA Events
END:VEVENT
BEGIN:VEVENT
DTSTART;TZID=America/New_York:20280204T093000
DTEND;TZID=America/New_York:20280204T143000
DTSTAMP:20260423T012742
CREATED:20260128T181432Z
LAST-MODIFIED:20260128T181726Z
UID:10291846-1833269400-1833287400@stmichaels-litchfield.org
SUMMARY:Church Office Open
DESCRIPTION:
URL:https://stmichaels-litchfield.org/event/church-office-open-14/2028-02-04/
LOCATION:Church Office\, 25 South Street\, Litchfield\, CT\, 06759\, United States
CATEGORIES:Church Office Event
END:VEVENT
BEGIN:VEVENT
DTSTART;TZID=America/New_York:20280205T083000
DTEND;TZID=America/New_York:20280205T093000
DTSTAMP:20260423T012742
CREATED:20230619T143626Z
LAST-MODIFIED:20230619T143720Z
UID:10010805-1833352200-1833355800@stmichaels-litchfield.org
SUMMARY:AA Meeting in Parish House Library
DESCRIPTION:
URL:https://stmichaels-litchfield.org/event/aa-meeting-in-community-house-2/2028-02-05/
LOCATION:Community House in Library from April 9th forward
CATEGORIES:AA/NA Events
END:VEVENT
BEGIN:VEVENT
DTSTART;TZID=America/New_York:20280206T080000
DTEND;TZID=America/New_York:20280206T090000
DTSTAMP:20260423T012742
CREATED:20211108T181651Z
LAST-MODIFIED:20260327T134504Z
UID:10020496-1833436800-1833440400@stmichaels-litchfield.org
SUMMARY:Eucharist\, Rite I
DESCRIPTION:Spoken\, no music
URL:https://stmichaels-litchfield.org/event/sunday-eucharist/2028-02-06/
LOCATION:Chapel\, 25 South Street\, Litchfield\, CT\, 06759\, United States
CATEGORIES:Church Event,Parish Events
END:VEVENT
BEGIN:VEVENT
DTSTART;TZID=America/New_York:20280206T100000
DTEND;TZID=America/New_York:20280206T110000
DTSTAMP:20260423T012742
CREATED:20250403T150154Z
LAST-MODIFIED:20260422T181447Z
UID:10012811-1833444000-1833447600@stmichaels-litchfield.org
SUMMARY:Sunday Eucharist\, Rite II
DESCRIPTION:Rite II with music \nFollowed by Coffee Hour in the Community House
URL:https://stmichaels-litchfield.org/event/sunday-eucharist-2-3/2028-02-06/
LOCATION:Church\, 25 South Street\, Litchfield\, CT\, 06759\, United States
CATEGORIES:Church Event,Parish Events
END:VEVENT
BEGIN:VEVENT
DTSTART;TZID=America/New_York:20280206T110000
DTEND;TZID=America/New_York:20280206T140000
DTSTAMP:20260423T012742
CREATED:20230711T182541Z
LAST-MODIFIED:20250806T192214Z
UID:10012150-1833447600-1833458400@stmichaels-litchfield.org
SUMMARY:Coffee and Fellowship in the Community House
DESCRIPTION:
URL:https://stmichaels-litchfield.org/event/coffee-and-congregation-in-the-community-house/2028-02-06/
LOCATION:Community House in Library from April 9th forward
CATEGORIES:Church Event
END:VEVENT
BEGIN:VEVENT
DTSTART;TZID=America/New_York:20280206T190000
DTEND;TZID=America/New_York:20280206T200000
DTSTAMP:20260423T012742
CREATED:20230619T142544Z
LAST-MODIFIED:20260416T160049Z
UID:10009995-1833476400-1833480000@stmichaels-litchfield.org
SUMMARY:AA Meeting in Community House
DESCRIPTION:
URL:https://stmichaels-litchfield.org/event/aa-meeting-in-community-house/2028-02-06/
LOCATION:Community House in Library from April 9th forward
END:VEVENT
BEGIN:VEVENT
DTSTART;VALUE=DATE:20280207
DTEND;VALUE=DATE:20280208
DTSTAMP:20260423T012742
CREATED:20260128T181321Z
LAST-MODIFIED:20260128T181322Z
UID:10291246-1833494400-1833580799@stmichaels-litchfield.org
SUMMARY:Church Office Closed
DESCRIPTION:
URL:https://stmichaels-litchfield.org/event/summer-schedule-church-office-closed-2-2-2-3/2028-02-07/
LOCATION:Church Office\, 25 South Street\, Litchfield\, CT\, 06759\, United States
CATEGORIES:Church Office Event
END:VEVENT
BEGIN:VEVENT
DTSTART;TZID=America/New_York:20280207T070000
DTEND;TZID=America/New_York:20280207T073000
DTSTAMP:20260423T012742
CREATED:20230606T184551Z
LAST-MODIFIED:20230619T142647Z
UID:10006400-1833519600-1833521400@stmichaels-litchfield.org
SUMMARY:AA Meeting in the Parish House Library
DESCRIPTION:
URL:https://stmichaels-litchfield.org/event/aa-meeting-in-the-library/2028-02-07/
LOCATION:Parish House Library\, 25 South Street\, Litchfield\, CT\, 06759\, United States
CATEGORIES:AA/NA Events
END:VEVENT
BEGIN:VEVENT
DTSTART;TZID=America/New_York:20280207T200000
DTEND;TZID=America/New_York:20280207T213000
DTSTAMP:20260423T012742
CREATED:20260218T173517Z
LAST-MODIFIED:20260218T173517Z
UID:10292669-1833566400-1833571800@stmichaels-litchfield.org
SUMMARY:AA meeting in the Community House
DESCRIPTION:
URL:https://stmichaels-litchfield.org/event/aa-meeting-in-the-community-house-2/2028-02-07/
END:VEVENT
BEGIN:VEVENT
DTSTART;TZID=America/New_York:20280208T093000
DTEND;TZID=America/New_York:20280208T143000
DTSTAMP:20260423T012742
CREATED:20260128T181432Z
LAST-MODIFIED:20260128T181726Z
UID:10291847-1833615000-1833633000@stmichaels-litchfield.org
SUMMARY:Church Office Open
DESCRIPTION:
URL:https://stmichaels-litchfield.org/event/church-office-open-14/2028-02-08/
LOCATION:Church Office\, 25 South Street\, Litchfield\, CT\, 06759\, United States
CATEGORIES:Church Office Event
END:VEVENT
BEGIN:VEVENT
DTSTART;TZID=America/New_York:20280208T120000
DTEND;TZID=America/New_York:20280208T130000
DTSTAMP:20260423T012742
CREATED:20260223T205039Z
LAST-MODIFIED:20260223T205039Z
UID:10293188-1833624000-1833627600@stmichaels-litchfield.org
SUMMARY:Lunch with Meredith
DESCRIPTION:
URL:https://stmichaels-litchfield.org/event/lunch-with-meredith-2/2028-02-08/
LOCATION:Community House in Library from April 9th forward
CATEGORIES:Church Event,Parish Events
END:VEVENT
BEGIN:VEVENT
DTSTART;TZID=America/New_York:20280208T151500
DTEND;TZID=America/New_York:20280208T163000
DTSTAMP:20260423T012742
CREATED:20260223T204456Z
LAST-MODIFIED:20260304T185946Z
UID:10293576-1833635700-1833640200@stmichaels-litchfield.org
SUMMARY:Property Committee meeting in Parish House Library
DESCRIPTION:
URL:https://stmichaels-litchfield.org/event/property-committee-meeting-in-parish-house-library-4/2028-02-08/
LOCATION:Parish House Library\, 25 South Street\, Litchfield\, CT\, 06759\, United States
CATEGORIES:Church Event
END:VEVENT
BEGIN:VEVENT
DTSTART;TZID=America/New_York:20280208T160000
DTEND;TZID=America/New_York:20280208T173000
DTSTAMP:20260423T012742
CREATED:20260331T205128Z
LAST-MODIFIED:20260331T205254Z
UID:10294793-1833638400-1833643800@stmichaels-litchfield.org
SUMMARY:Priest Search Committee
DESCRIPTION:
URL:https://stmichaels-litchfield.org/event/priest-search-committee-3-2-5/2028-02-08/
LOCATION:Parish House Library\, 25 South Street\, Litchfield\, CT\, 06759\, United States
END:VEVENT
BEGIN:VEVENT
DTSTART;TZID=America/New_York:20280208T190000
DTEND;TZID=America/New_York:20280208T200000
DTSTAMP:20260423T012742
CREATED:20211108T175914Z
LAST-MODIFIED:20260130T014621Z
UID:10010199-1833649200-1833652800@stmichaels-litchfield.org
SUMMARY:AA Meeting in Community House
DESCRIPTION:
URL:https://stmichaels-litchfield.org/event/aa-group-in-community-house-2/2028-02-08/
LOCATION:Community House in Library from April 9th forward
CATEGORIES:AA/NA Events
END:VEVENT
BEGIN:VEVENT
DTSTART;TZID=America/New_York:20280209T070000
DTEND;TZID=America/New_York:20280209T073000
DTSTAMP:20260423T012742
CREATED:20230606T184551Z
LAST-MODIFIED:20230619T142647Z
UID:10006401-1833692400-1833694200@stmichaels-litchfield.org
SUMMARY:AA Meeting in the Parish House Library
DESCRIPTION:
URL:https://stmichaels-litchfield.org/event/aa-meeting-in-the-library/2028-02-09/
LOCATION:Parish House Library\, 25 South Street\, Litchfield\, CT\, 06759\, United States
CATEGORIES:AA/NA Events
END:VEVENT
BEGIN:VEVENT
DTSTART;TZID=America/New_York:20280209T083000
DTEND;TZID=America/New_York:20280209T110000
DTSTAMP:20260423T012742
CREATED:20250109T152013Z
LAST-MODIFIED:20250109T152013Z
UID:10019537-1833697800-1833706800@stmichaels-litchfield.org
SUMMARY:Greenwoods Counseling
DESCRIPTION:
URL:https://stmichaels-litchfield.org/event/greenwoods-counseling-7/2028-02-09/
CATEGORIES:Greenwoods Counseling
END:VEVENT
BEGIN:VEVENT
DTSTART;TZID=America/New_York:20280209T093000
DTEND;TZID=America/New_York:20280209T143000
DTSTAMP:20260423T012743
CREATED:20260128T181432Z
LAST-MODIFIED:20260128T181726Z
UID:10291848-1833701400-1833719400@stmichaels-litchfield.org
SUMMARY:Church Office Open
DESCRIPTION:
URL:https://stmichaels-litchfield.org/event/church-office-open-14/2028-02-09/
LOCATION:Church Office\, 25 South Street\, Litchfield\, CT\, 06759\, United States
CATEGORIES:Church Office Event
END:VEVENT
BEGIN:VEVENT
DTSTART;TZID=America/New_York:20280209T173000
DTEND;TZID=America/New_York:20280209T180000
DTSTAMP:20260423T012743
CREATED:20260327T155546Z
LAST-MODIFIED:20260422T175057Z
UID:10294534-1833730200-1833732000@stmichaels-litchfield.org
SUMMARY:Chanted Evening Prayer
DESCRIPTION:
URL:https://stmichaels-litchfield.org/event/chanted-evening-prayer-3/2028-02-09/
LOCATION:Chapel\, 25 South Street\, Litchfield\, CT\, 06759\, United States
CATEGORIES:Church Event
END:VEVENT
BEGIN:VEVENT
DTSTART;TZID=America/New_York:20280209T190000
DTEND;TZID=America/New_York:20280209T203000
DTSTAMP:20260423T012743
CREATED:20230817T183342Z
LAST-MODIFIED:20230817T183342Z
UID:10013229-1833735600-1833741000@stmichaels-litchfield.org
SUMMARY:Choir Rehearsal in Parish House Music Room
DESCRIPTION:
URL:https://stmichaels-litchfield.org/event/choir-rehearsal-in-parish-house-music-room/2028-02-09/
LOCATION:Parish House Music Room
CATEGORIES:Church Event
END:VEVENT
BEGIN:VEVENT
DTSTART;TZID=America/New_York:20280209T193000
DTEND;TZID=America/New_York:20280209T210000
DTSTAMP:20260423T012743
CREATED:20211108T180816Z
LAST-MODIFIED:20230714T003135Z
UID:10012553-1833737400-1833742800@stmichaels-litchfield.org
SUMMARY:NA meeting in Community House
DESCRIPTION:
URL:https://stmichaels-litchfield.org/event/narcotics-anonymous/2028-02-09/
LOCATION:Community House in Library from April 9th forward
CATEGORIES:AA/NA Events
END:VEVENT
BEGIN:VEVENT
DTSTART;TZID=America/New_York:20280210T093000
DTEND;TZID=America/New_York:20280210T143000
DTSTAMP:20260423T012743
CREATED:20260128T181432Z
LAST-MODIFIED:20260128T181726Z
UID:10291849-1833787800-1833805800@stmichaels-litchfield.org
SUMMARY:Church Office Open
DESCRIPTION:
URL:https://stmichaels-litchfield.org/event/church-office-open-14/2028-02-10/
LOCATION:Church Office\, 25 South Street\, Litchfield\, CT\, 06759\, United States
CATEGORIES:Church Office Event
END:VEVENT
BEGIN:VEVENT
DTSTART;TZID=America/New_York:20280211T070000
DTEND;TZID=America/New_York:20280211T073000
DTSTAMP:20260423T012743
CREATED:20230606T184551Z
LAST-MODIFIED:20230619T142647Z
UID:10006402-1833865200-1833867000@stmichaels-litchfield.org
SUMMARY:AA Meeting in the Parish House Library
DESCRIPTION:
URL:https://stmichaels-litchfield.org/event/aa-meeting-in-the-library/2028-02-11/
LOCATION:Parish House Library\, 25 South Street\, Litchfield\, CT\, 06759\, United States
CATEGORIES:AA/NA Events
END:VEVENT
BEGIN:VEVENT
DTSTART;TZID=America/New_York:20280211T093000
DTEND;TZID=America/New_York:20280211T143000
DTSTAMP:20260423T012743
CREATED:20260128T181432Z
LAST-MODIFIED:20260128T181726Z
UID:10291850-1833874200-1833892200@stmichaels-litchfield.org
SUMMARY:Church Office Open
DESCRIPTION:
URL:https://stmichaels-litchfield.org/event/church-office-open-14/2028-02-11/
LOCATION:Church Office\, 25 South Street\, Litchfield\, CT\, 06759\, United States
CATEGORIES:Church Office Event
END:VEVENT
BEGIN:VEVENT
DTSTART;TZID=America/New_York:20280212T083000
DTEND;TZID=America/New_York:20280212T093000
DTSTAMP:20260423T012743
CREATED:20230619T143626Z
LAST-MODIFIED:20230619T143720Z
UID:10010806-1833957000-1833960600@stmichaels-litchfield.org
SUMMARY:AA Meeting in Parish House Library
DESCRIPTION:
URL:https://stmichaels-litchfield.org/event/aa-meeting-in-community-house-2/2028-02-12/
LOCATION:Community House in Library from April 9th forward
CATEGORIES:AA/NA Events
END:VEVENT
BEGIN:VEVENT
DTSTART;TZID=America/New_York:20280213T080000
DTEND;TZID=America/New_York:20280213T090000
DTSTAMP:20260423T012743
CREATED:20211108T181651Z
LAST-MODIFIED:20260327T134504Z
UID:10020497-1834041600-1834045200@stmichaels-litchfield.org
SUMMARY:Eucharist\, Rite I
DESCRIPTION:Spoken\, no music
URL:https://stmichaels-litchfield.org/event/sunday-eucharist/2028-02-13/
LOCATION:Chapel\, 25 South Street\, Litchfield\, CT\, 06759\, United States
CATEGORIES:Church Event,Parish Events
END:VEVENT
BEGIN:VEVENT
DTSTART;TZID=America/New_York:20280213T100000
DTEND;TZID=America/New_York:20280213T110000
DTSTAMP:20260423T012743
CREATED:20250403T150154Z
LAST-MODIFIED:20260422T181447Z
UID:10012812-1834048800-1834052400@stmichaels-litchfield.org
SUMMARY:Sunday Eucharist\, Rite II
DESCRIPTION:Rite II with music \nFollowed by Coffee Hour in the Community House
URL:https://stmichaels-litchfield.org/event/sunday-eucharist-2-3/2028-02-13/
LOCATION:Church\, 25 South Street\, Litchfield\, CT\, 06759\, United States
CATEGORIES:Church Event,Parish Events
END:VEVENT
BEGIN:VEVENT
DTSTART;TZID=America/New_York:20280213T110000
DTEND;TZID=America/New_York:20280213T140000
DTSTAMP:20260423T012743
CREATED:20230711T182541Z
LAST-MODIFIED:20250806T192214Z
UID:10012151-1834052400-1834063200@stmichaels-litchfield.org
SUMMARY:Coffee and Fellowship in the Community House
DESCRIPTION:
URL:https://stmichaels-litchfield.org/event/coffee-and-congregation-in-the-community-house/2028-02-13/
LOCATION:Community House in Library from April 9th forward
CATEGORIES:Church Event
END:VEVENT
BEGIN:VEVENT
DTSTART;TZID=America/New_York:20280213T112000
DTEND;TZID=America/New_York:20280213T123000
DTSTAMP:20260423T012743
CREATED:20260408T170910Z
LAST-MODIFIED:20260408T170910Z
UID:10296065-1834053600-1834057800@stmichaels-litchfield.org
SUMMARY:Vestry Meeting
DESCRIPTION:
URL:https://stmichaels-litchfield.org/event/vestry-meeting-4/2028-02-13/
CATEGORIES:Church Event,Parish Events
END:VEVENT
BEGIN:VEVENT
DTSTART;TZID=America/New_York:20280213T190000
DTEND;TZID=America/New_York:20280213T200000
DTSTAMP:20260423T012743
CREATED:20230619T142544Z
LAST-MODIFIED:20260416T160049Z
UID:10009996-1834081200-1834084800@stmichaels-litchfield.org
SUMMARY:AA Meeting in Community House
DESCRIPTION:
URL:https://stmichaels-litchfield.org/event/aa-meeting-in-community-house/2028-02-13/
LOCATION:Community House in Library from April 9th forward
END:VEVENT
END:VCALENDAR