BEGIN:VCALENDAR
VERSION:2.0
PRODID:-//St. Michael&#039;s Church - ECPv6.15.20//NONSGML v1.0//EN
CALSCALE:GREGORIAN
METHOD:PUBLISH
X-ORIGINAL-URL:https://stmichaels-litchfield.org
X-WR-CALDESC:Events for St. Michael&#039;s Church
REFRESH-INTERVAL;VALUE=DURATION:PT1H
X-Robots-Tag:noindex
X-PUBLISHED-TTL:PT1H
BEGIN:VTIMEZONE
TZID:America/New_York
BEGIN:DAYLIGHT
TZOFFSETFROM:-0500
TZOFFSETTO:-0400
TZNAME:EDT
DTSTART:20280312T070000
END:DAYLIGHT
BEGIN:STANDARD
TZOFFSETFROM:-0400
TZOFFSETTO:-0500
TZNAME:EST
DTSTART:20281105T060000
END:STANDARD
BEGIN:DAYLIGHT
TZOFFSETFROM:-0500
TZOFFSETTO:-0400
TZNAME:EDT
DTSTART:20290311T070000
END:DAYLIGHT
BEGIN:STANDARD
TZOFFSETFROM:-0400
TZOFFSETTO:-0500
TZNAME:EST
DTSTART:20291104T060000
END:STANDARD
BEGIN:DAYLIGHT
TZOFFSETFROM:-0500
TZOFFSETTO:-0400
TZNAME:EDT
DTSTART:20300310T070000
END:DAYLIGHT
BEGIN:STANDARD
TZOFFSETFROM:-0400
TZOFFSETTO:-0500
TZNAME:EST
DTSTART:20301103T060000
END:STANDARD
END:VTIMEZONE
BEGIN:VEVENT
DTSTART;TZID=America/New_York:20290103T083000
DTEND;TZID=America/New_York:20290103T110000
DTSTAMP:20260424T050313
CREATED:20250109T152013Z
LAST-MODIFIED:20250109T152013Z
UID:10019584-1862123400-1862132400@stmichaels-litchfield.org
SUMMARY:Greenwoods Counseling
DESCRIPTION:
URL:https://stmichaels-litchfield.org/event/greenwoods-counseling-7/2029-01-03/
CATEGORIES:Greenwoods Counseling
END:VEVENT
BEGIN:VEVENT
DTSTART;TZID=America/New_York:20290103T093000
DTEND;TZID=America/New_York:20290103T143000
DTSTAMP:20260424T050313
CREATED:20260128T181432Z
LAST-MODIFIED:20260128T181726Z
UID:10292036-1862127000-1862145000@stmichaels-litchfield.org
SUMMARY:Church Office Open
DESCRIPTION:
URL:https://stmichaels-litchfield.org/event/church-office-open-14/2029-01-03/
LOCATION:Church Office\, 25 South Street\, Litchfield\, CT\, 06759\, United States
CATEGORIES:Church Office Event
END:VEVENT
BEGIN:VEVENT
DTSTART;TZID=America/New_York:20290103T173000
DTEND;TZID=America/New_York:20290103T180000
DTSTAMP:20260424T050313
CREATED:20260327T155546Z
LAST-MODIFIED:20260422T175057Z
UID:10294581-1862155800-1862157600@stmichaels-litchfield.org
SUMMARY:Chanted Evening Prayer
DESCRIPTION:
URL:https://stmichaels-litchfield.org/event/chanted-evening-prayer-3/2029-01-03/
LOCATION:Chapel\, 25 South Street\, Litchfield\, CT\, 06759\, United States
CATEGORIES:Church Event
END:VEVENT
BEGIN:VEVENT
DTSTART;TZID=America/New_York:20290103T193000
DTEND;TZID=America/New_York:20290103T210000
DTSTAMP:20260424T050313
CREATED:20211108T180816Z
LAST-MODIFIED:20230714T003135Z
UID:10286749-1862163000-1862168400@stmichaels-litchfield.org
SUMMARY:NA meeting in Community House
DESCRIPTION:
URL:https://stmichaels-litchfield.org/event/narcotics-anonymous/2029-01-03/
LOCATION:Community House in Library from April 9th forward
CATEGORIES:AA/NA Events
END:VEVENT
BEGIN:VEVENT
DTSTART;TZID=America/New_York:20290104T093000
DTEND;TZID=America/New_York:20290104T143000
DTSTAMP:20260424T050313
CREATED:20260128T181432Z
LAST-MODIFIED:20260128T181726Z
UID:10292037-1862213400-1862231400@stmichaels-litchfield.org
SUMMARY:Church Office Open
DESCRIPTION:
URL:https://stmichaels-litchfield.org/event/church-office-open-14/2029-01-04/
LOCATION:Church Office\, 25 South Street\, Litchfield\, CT\, 06759\, United States
CATEGORIES:Church Office Event
END:VEVENT
BEGIN:VEVENT
DTSTART;TZID=America/New_York:20290105T070000
DTEND;TZID=America/New_York:20290105T073000
DTSTAMP:20260424T050313
CREATED:20230606T184551Z
LAST-MODIFIED:20230619T142647Z
UID:10286940-1862290800-1862292600@stmichaels-litchfield.org
SUMMARY:AA Meeting in the Parish House Library
DESCRIPTION:
URL:https://stmichaels-litchfield.org/event/aa-meeting-in-the-library/2029-01-05/
LOCATION:Parish House Library\, 25 South Street\, Litchfield\, CT\, 06759\, United States
CATEGORIES:AA/NA Events
END:VEVENT
BEGIN:VEVENT
DTSTART;TZID=America/New_York:20290105T093000
DTEND;TZID=America/New_York:20290105T143000
DTSTAMP:20260424T050313
CREATED:20260128T181432Z
LAST-MODIFIED:20260128T181726Z
UID:10292038-1862299800-1862317800@stmichaels-litchfield.org
SUMMARY:Church Office Open
DESCRIPTION:
URL:https://stmichaels-litchfield.org/event/church-office-open-14/2029-01-05/
LOCATION:Church Office\, 25 South Street\, Litchfield\, CT\, 06759\, United States
CATEGORIES:Church Office Event
END:VEVENT
BEGIN:VEVENT
DTSTART;TZID=America/New_York:20290107T080000
DTEND;TZID=America/New_York:20290107T090000
DTSTAMP:20260424T050313
CREATED:20211108T181651Z
LAST-MODIFIED:20260327T134504Z
UID:10020544-1862467200-1862470800@stmichaels-litchfield.org
SUMMARY:Eucharist\, Rite I
DESCRIPTION:Spoken\, no music
URL:https://stmichaels-litchfield.org/event/sunday-eucharist/2029-01-07/
LOCATION:Chapel\, 25 South Street\, Litchfield\, CT\, 06759\, United States
CATEGORIES:Church Event,Parish Events
END:VEVENT
BEGIN:VEVENT
DTSTART;TZID=America/New_York:20290107T100000
DTEND;TZID=America/New_York:20290107T110000
DTSTAMP:20260424T050313
CREATED:20250403T150154Z
LAST-MODIFIED:20260422T181447Z
UID:10020630-1862474400-1862478000@stmichaels-litchfield.org
SUMMARY:Sunday Eucharist\, Rite II
DESCRIPTION:Rite II with music \nFollowed by Coffee Hour in the Community House
URL:https://stmichaels-litchfield.org/event/sunday-eucharist-2-3/2029-01-07/
LOCATION:Church\, 25 South Street\, Litchfield\, CT\, 06759\, United States
CATEGORIES:Church Event,Parish Events
END:VEVENT
BEGIN:VEVENT
DTSTART;TZID=America/New_York:20290107T110000
DTEND;TZID=America/New_York:20290107T140000
DTSTAMP:20260424T050313
CREATED:20230711T182541Z
LAST-MODIFIED:20250806T192214Z
UID:10287234-1862478000-1862488800@stmichaels-litchfield.org
SUMMARY:Coffee and Fellowship in the Community House
DESCRIPTION:
URL:https://stmichaels-litchfield.org/event/coffee-and-congregation-in-the-community-house/2029-01-07/
LOCATION:Community House in Library from April 9th forward
CATEGORIES:Church Event
END:VEVENT
BEGIN:VEVENT
DTSTART;TZID=America/New_York:20290107T190000
DTEND;TZID=America/New_York:20290107T200000
DTSTAMP:20260424T050313
CREATED:20230619T142544Z
LAST-MODIFIED:20260416T160049Z
UID:10296133-1862506800-1862510400@stmichaels-litchfield.org
SUMMARY:AA Meeting in Community House
DESCRIPTION:
URL:https://stmichaels-litchfield.org/event/aa-meeting-in-community-house/2029-01-07/
LOCATION:Community House in Library from April 9th forward
END:VEVENT
BEGIN:VEVENT
DTSTART;VALUE=DATE:20290108
DTEND;VALUE=DATE:20290109
DTSTAMP:20260424T050313
CREATED:20260128T181321Z
LAST-MODIFIED:20260128T181322Z
UID:10291294-1862524800-1862611199@stmichaels-litchfield.org
SUMMARY:Church Office Closed
DESCRIPTION:
URL:https://stmichaels-litchfield.org/event/summer-schedule-church-office-closed-2-2-2-3/2029-01-08/
LOCATION:Church Office\, 25 South Street\, Litchfield\, CT\, 06759\, United States
CATEGORIES:Church Office Event
END:VEVENT
BEGIN:VEVENT
DTSTART;TZID=America/New_York:20290108T070000
DTEND;TZID=America/New_York:20290108T073000
DTSTAMP:20260424T050313
CREATED:20230606T184551Z
LAST-MODIFIED:20230619T142647Z
UID:10286941-1862550000-1862551800@stmichaels-litchfield.org
SUMMARY:AA Meeting in the Parish House Library
DESCRIPTION:
URL:https://stmichaels-litchfield.org/event/aa-meeting-in-the-library/2029-01-08/
LOCATION:Parish House Library\, 25 South Street\, Litchfield\, CT\, 06759\, United States
CATEGORIES:AA/NA Events
END:VEVENT
BEGIN:VEVENT
DTSTART;TZID=America/New_York:20290108T200000
DTEND;TZID=America/New_York:20290108T213000
DTSTAMP:20260424T050313
CREATED:20260218T173517Z
LAST-MODIFIED:20260218T173517Z
UID:10292717-1862596800-1862602200@stmichaels-litchfield.org
SUMMARY:AA meeting in the Community House
DESCRIPTION:
URL:https://stmichaels-litchfield.org/event/aa-meeting-in-the-community-house-2/2029-01-08/
END:VEVENT
BEGIN:VEVENT
DTSTART;TZID=America/New_York:20290109T093000
DTEND;TZID=America/New_York:20290109T143000
DTSTAMP:20260424T050313
CREATED:20260128T181432Z
LAST-MODIFIED:20260128T181726Z
UID:10292039-1862645400-1862663400@stmichaels-litchfield.org
SUMMARY:Church Office Open
DESCRIPTION:
URL:https://stmichaels-litchfield.org/event/church-office-open-14/2029-01-09/
LOCATION:Church Office\, 25 South Street\, Litchfield\, CT\, 06759\, United States
CATEGORIES:Church Office Event
END:VEVENT
BEGIN:VEVENT
DTSTART;TZID=America/New_York:20290109T120000
DTEND;TZID=America/New_York:20290109T130000
DTSTAMP:20260424T050313
CREATED:20260223T205039Z
LAST-MODIFIED:20260223T205039Z
UID:10293199-1862654400-1862658000@stmichaels-litchfield.org
SUMMARY:Lunch with Meredith
DESCRIPTION:
URL:https://stmichaels-litchfield.org/event/lunch-with-meredith-2/2029-01-09/
LOCATION:Community House in Library from April 9th forward
CATEGORIES:Church Event,Parish Events
END:VEVENT
BEGIN:VEVENT
DTSTART;TZID=America/New_York:20290109T151500
DTEND;TZID=America/New_York:20290109T163000
DTSTAMP:20260424T050313
CREATED:20260223T204456Z
LAST-MODIFIED:20260304T185946Z
UID:10293587-1862666100-1862670600@stmichaels-litchfield.org
SUMMARY:Property Committee meeting in Parish House Library
DESCRIPTION:
URL:https://stmichaels-litchfield.org/event/property-committee-meeting-in-parish-house-library-4/2029-01-09/
LOCATION:Parish House Library\, 25 South Street\, Litchfield\, CT\, 06759\, United States
CATEGORIES:Church Event
END:VEVENT
BEGIN:VEVENT
DTSTART;TZID=America/New_York:20290109T160000
DTEND;TZID=America/New_York:20290109T173000
DTSTAMP:20260424T050313
CREATED:20260331T205128Z
LAST-MODIFIED:20260331T205254Z
UID:10294841-1862668800-1862674200@stmichaels-litchfield.org
SUMMARY:Priest Search Committee
DESCRIPTION:
URL:https://stmichaels-litchfield.org/event/priest-search-committee-3-2-5/2029-01-09/
LOCATION:Parish House Library\, 25 South Street\, Litchfield\, CT\, 06759\, United States
END:VEVENT
BEGIN:VEVENT
DTSTART;TZID=America/New_York:20290109T190000
DTEND;TZID=America/New_York:20290109T200000
DTSTAMP:20260424T050313
CREATED:20211108T175914Z
LAST-MODIFIED:20260130T014621Z
UID:10286650-1862679600-1862683200@stmichaels-litchfield.org
SUMMARY:AA Meeting in Community House
DESCRIPTION:
URL:https://stmichaels-litchfield.org/event/aa-group-in-community-house-2/2029-01-09/
LOCATION:Community House in Library from April 9th forward
CATEGORIES:AA/NA Events
END:VEVENT
BEGIN:VEVENT
DTSTART;TZID=America/New_York:20290110T070000
DTEND;TZID=America/New_York:20290110T073000
DTSTAMP:20260424T050313
CREATED:20230606T184551Z
LAST-MODIFIED:20230619T142647Z
UID:10286942-1862722800-1862724600@stmichaels-litchfield.org
SUMMARY:AA Meeting in the Parish House Library
DESCRIPTION:
URL:https://stmichaels-litchfield.org/event/aa-meeting-in-the-library/2029-01-10/
LOCATION:Parish House Library\, 25 South Street\, Litchfield\, CT\, 06759\, United States
CATEGORIES:AA/NA Events
END:VEVENT
BEGIN:VEVENT
DTSTART;TZID=America/New_York:20290110T083000
DTEND;TZID=America/New_York:20290110T110000
DTSTAMP:20260424T050313
CREATED:20250109T152013Z
LAST-MODIFIED:20250109T152013Z
UID:10019585-1862728200-1862737200@stmichaels-litchfield.org
SUMMARY:Greenwoods Counseling
DESCRIPTION:
URL:https://stmichaels-litchfield.org/event/greenwoods-counseling-7/2029-01-10/
CATEGORIES:Greenwoods Counseling
END:VEVENT
BEGIN:VEVENT
DTSTART;TZID=America/New_York:20290110T093000
DTEND;TZID=America/New_York:20290110T143000
DTSTAMP:20260424T050313
CREATED:20260128T181432Z
LAST-MODIFIED:20260128T181726Z
UID:10292040-1862731800-1862749800@stmichaels-litchfield.org
SUMMARY:Church Office Open
DESCRIPTION:
URL:https://stmichaels-litchfield.org/event/church-office-open-14/2029-01-10/
LOCATION:Church Office\, 25 South Street\, Litchfield\, CT\, 06759\, United States
CATEGORIES:Church Office Event
END:VEVENT
BEGIN:VEVENT
DTSTART;TZID=America/New_York:20290110T173000
DTEND;TZID=America/New_York:20290110T180000
DTSTAMP:20260424T050313
CREATED:20260327T155546Z
LAST-MODIFIED:20260422T175057Z
UID:10294582-1862760600-1862762400@stmichaels-litchfield.org
SUMMARY:Chanted Evening Prayer
DESCRIPTION:
URL:https://stmichaels-litchfield.org/event/chanted-evening-prayer-3/2029-01-10/
LOCATION:Chapel\, 25 South Street\, Litchfield\, CT\, 06759\, United States
CATEGORIES:Church Event
END:VEVENT
BEGIN:VEVENT
DTSTART;TZID=America/New_York:20290110T193000
DTEND;TZID=America/New_York:20290110T210000
DTSTAMP:20260424T050313
CREATED:20211108T180816Z
LAST-MODIFIED:20230714T003135Z
UID:10286750-1862767800-1862773200@stmichaels-litchfield.org
SUMMARY:NA meeting in Community House
DESCRIPTION:
URL:https://stmichaels-litchfield.org/event/narcotics-anonymous/2029-01-10/
LOCATION:Community House in Library from April 9th forward
CATEGORIES:AA/NA Events
END:VEVENT
BEGIN:VEVENT
DTSTART;TZID=America/New_York:20290111T093000
DTEND;TZID=America/New_York:20290111T143000
DTSTAMP:20260424T050313
CREATED:20260128T181432Z
LAST-MODIFIED:20260128T181726Z
UID:10292041-1862818200-1862836200@stmichaels-litchfield.org
SUMMARY:Church Office Open
DESCRIPTION:
URL:https://stmichaels-litchfield.org/event/church-office-open-14/2029-01-11/
LOCATION:Church Office\, 25 South Street\, Litchfield\, CT\, 06759\, United States
CATEGORIES:Church Office Event
END:VEVENT
BEGIN:VEVENT
DTSTART;TZID=America/New_York:20290112T070000
DTEND;TZID=America/New_York:20290112T073000
DTSTAMP:20260424T050313
CREATED:20230606T184551Z
LAST-MODIFIED:20230619T142647Z
UID:10286943-1862895600-1862897400@stmichaels-litchfield.org
SUMMARY:AA Meeting in the Parish House Library
DESCRIPTION:
URL:https://stmichaels-litchfield.org/event/aa-meeting-in-the-library/2029-01-12/
LOCATION:Parish House Library\, 25 South Street\, Litchfield\, CT\, 06759\, United States
CATEGORIES:AA/NA Events
END:VEVENT
BEGIN:VEVENT
DTSTART;TZID=America/New_York:20290112T093000
DTEND;TZID=America/New_York:20290112T143000
DTSTAMP:20260424T050313
CREATED:20260128T181432Z
LAST-MODIFIED:20260128T181726Z
UID:10292042-1862904600-1862922600@stmichaels-litchfield.org
SUMMARY:Church Office Open
DESCRIPTION:
URL:https://stmichaels-litchfield.org/event/church-office-open-14/2029-01-12/
LOCATION:Church Office\, 25 South Street\, Litchfield\, CT\, 06759\, United States
CATEGORIES:Church Office Event
END:VEVENT
BEGIN:VEVENT
DTSTART;TZID=America/New_York:20290114T080000
DTEND;TZID=America/New_York:20290114T090000
DTSTAMP:20260424T050313
CREATED:20211108T181651Z
LAST-MODIFIED:20260327T134504Z
UID:10020545-1863072000-1863075600@stmichaels-litchfield.org
SUMMARY:Eucharist\, Rite I
DESCRIPTION:Spoken\, no music
URL:https://stmichaels-litchfield.org/event/sunday-eucharist/2029-01-14/
LOCATION:Chapel\, 25 South Street\, Litchfield\, CT\, 06759\, United States
CATEGORIES:Church Event,Parish Events
END:VEVENT
BEGIN:VEVENT
DTSTART;TZID=America/New_York:20290114T100000
DTEND;TZID=America/New_York:20290114T110000
DTSTAMP:20260424T050313
CREATED:20250403T150154Z
LAST-MODIFIED:20260422T181447Z
UID:10020631-1863079200-1863082800@stmichaels-litchfield.org
SUMMARY:Sunday Eucharist\, Rite II
DESCRIPTION:Rite II with music \nFollowed by Coffee Hour in the Community House
URL:https://stmichaels-litchfield.org/event/sunday-eucharist-2-3/2029-01-14/
LOCATION:Church\, 25 South Street\, Litchfield\, CT\, 06759\, United States
CATEGORIES:Church Event,Parish Events
END:VEVENT
BEGIN:VEVENT
DTSTART;TZID=America/New_York:20290114T110000
DTEND;TZID=America/New_York:20290114T140000
DTSTAMP:20260424T050313
CREATED:20230711T182541Z
LAST-MODIFIED:20250806T192214Z
UID:10287235-1863082800-1863093600@stmichaels-litchfield.org
SUMMARY:Coffee and Fellowship in the Community House
DESCRIPTION:
URL:https://stmichaels-litchfield.org/event/coffee-and-congregation-in-the-community-house/2029-01-14/
LOCATION:Community House in Library from April 9th forward
CATEGORIES:Church Event
END:VEVENT
END:VCALENDAR