BEGIN:VCALENDAR
VERSION:2.0
PRODID:-//St. Michael&#039;s Church - ECPv6.15.20//NONSGML v1.0//EN
CALSCALE:GREGORIAN
METHOD:PUBLISH
X-ORIGINAL-URL:https://stmichaels-litchfield.org
X-WR-CALDESC:Events for St. Michael&#039;s Church
REFRESH-INTERVAL;VALUE=DURATION:PT1H
X-Robots-Tag:noindex
X-PUBLISHED-TTL:PT1H
BEGIN:VTIMEZONE
TZID:America/New_York
BEGIN:DAYLIGHT
TZOFFSETFROM:-0500
TZOFFSETTO:-0400
TZNAME:EDT
DTSTART:20280312T070000
END:DAYLIGHT
BEGIN:STANDARD
TZOFFSETFROM:-0400
TZOFFSETTO:-0500
TZNAME:EST
DTSTART:20281105T060000
END:STANDARD
BEGIN:DAYLIGHT
TZOFFSETFROM:-0500
TZOFFSETTO:-0400
TZNAME:EDT
DTSTART:20290311T070000
END:DAYLIGHT
BEGIN:STANDARD
TZOFFSETFROM:-0400
TZOFFSETTO:-0500
TZNAME:EST
DTSTART:20291104T060000
END:STANDARD
BEGIN:DAYLIGHT
TZOFFSETFROM:-0500
TZOFFSETTO:-0400
TZNAME:EDT
DTSTART:20300310T070000
END:DAYLIGHT
BEGIN:STANDARD
TZOFFSETFROM:-0400
TZOFFSETTO:-0500
TZNAME:EST
DTSTART:20301103T060000
END:STANDARD
END:VTIMEZONE
BEGIN:VEVENT
DTSTART;TZID=America/New_York:20290829T070000
DTEND;TZID=America/New_York:20290829T073000
DTSTAMP:20260424T222713
CREATED:20230606T184551Z
LAST-MODIFIED:20230619T142647Z
UID:10287041-1882681200-1882683000@stmichaels-litchfield.org
SUMMARY:AA Meeting in the Parish House Library
DESCRIPTION:
URL:https://stmichaels-litchfield.org/event/aa-meeting-in-the-library/2029-08-29/
LOCATION:Parish House Library\, 25 South Street\, Litchfield\, CT\, 06759\, United States
CATEGORIES:AA/NA Events
END:VEVENT
BEGIN:VEVENT
DTSTART;TZID=America/New_York:20290829T083000
DTEND;TZID=America/New_York:20290829T110000
DTSTAMP:20260424T222713
CREATED:20250109T152013Z
LAST-MODIFIED:20250109T152013Z
UID:10019618-1882686600-1882695600@stmichaels-litchfield.org
SUMMARY:Greenwoods Counseling
DESCRIPTION:
URL:https://stmichaels-litchfield.org/event/greenwoods-counseling-7/2029-08-29/
CATEGORIES:Greenwoods Counseling
END:VEVENT
BEGIN:VEVENT
DTSTART;TZID=America/New_York:20290829T093000
DTEND;TZID=America/New_York:20290829T143000
DTSTAMP:20260424T222713
CREATED:20260128T181432Z
LAST-MODIFIED:20260128T181726Z
UID:10292172-1882690200-1882708200@stmichaels-litchfield.org
SUMMARY:Church Office Open
DESCRIPTION:
URL:https://stmichaels-litchfield.org/event/church-office-open-14/2029-08-29/
LOCATION:Church Office\, 25 South Street\, Litchfield\, CT\, 06759\, United States
CATEGORIES:Church Office Event
END:VEVENT
BEGIN:VEVENT
DTSTART;TZID=America/New_York:20290829T173000
DTEND;TZID=America/New_York:20290829T180000
DTSTAMP:20260424T222713
CREATED:20260327T155546Z
LAST-MODIFIED:20260422T175057Z
UID:10294615-1882719000-1882720800@stmichaels-litchfield.org
SUMMARY:Chanted Evening Prayer
DESCRIPTION:
URL:https://stmichaels-litchfield.org/event/chanted-evening-prayer-3/2029-08-29/
LOCATION:Chapel\, 25 South Street\, Litchfield\, CT\, 06759\, United States
CATEGORIES:Church Event
END:VEVENT
BEGIN:VEVENT
DTSTART;TZID=America/New_York:20290829T193000
DTEND;TZID=America/New_York:20290829T210000
DTSTAMP:20260424T222713
CREATED:20211108T180816Z
LAST-MODIFIED:20230714T003135Z
UID:10286783-1882726200-1882731600@stmichaels-litchfield.org
SUMMARY:NA meeting in Community House
DESCRIPTION:
URL:https://stmichaels-litchfield.org/event/narcotics-anonymous/2029-08-29/
LOCATION:Community House in Library from April 9th forward
CATEGORIES:AA/NA Events
END:VEVENT
BEGIN:VEVENT
DTSTART;TZID=America/New_York:20290830T093000
DTEND;TZID=America/New_York:20290830T143000
DTSTAMP:20260424T222713
CREATED:20260128T181432Z
LAST-MODIFIED:20260128T181726Z
UID:10292173-1882776600-1882794600@stmichaels-litchfield.org
SUMMARY:Church Office Open
DESCRIPTION:
URL:https://stmichaels-litchfield.org/event/church-office-open-14/2029-08-30/
LOCATION:Church Office\, 25 South Street\, Litchfield\, CT\, 06759\, United States
CATEGORIES:Church Office Event
END:VEVENT
BEGIN:VEVENT
DTSTART;TZID=America/New_York:20290831T070000
DTEND;TZID=America/New_York:20290831T073000
DTSTAMP:20260424T222713
CREATED:20230606T184551Z
LAST-MODIFIED:20230619T142647Z
UID:10287042-1882854000-1882855800@stmichaels-litchfield.org
SUMMARY:AA Meeting in the Parish House Library
DESCRIPTION:
URL:https://stmichaels-litchfield.org/event/aa-meeting-in-the-library/2029-08-31/
LOCATION:Parish House Library\, 25 South Street\, Litchfield\, CT\, 06759\, United States
CATEGORIES:AA/NA Events
END:VEVENT
BEGIN:VEVENT
DTSTART;TZID=America/New_York:20290831T093000
DTEND;TZID=America/New_York:20290831T143000
DTSTAMP:20260424T222713
CREATED:20260128T181432Z
LAST-MODIFIED:20260128T181726Z
UID:10292174-1882863000-1882881000@stmichaels-litchfield.org
SUMMARY:Church Office Open
DESCRIPTION:
URL:https://stmichaels-litchfield.org/event/church-office-open-14/2029-08-31/
LOCATION:Church Office\, 25 South Street\, Litchfield\, CT\, 06759\, United States
CATEGORIES:Church Office Event
END:VEVENT
BEGIN:VEVENT
DTSTART;TZID=America/New_York:20290902T080000
DTEND;TZID=America/New_York:20290902T090000
DTSTAMP:20260424T222713
CREATED:20211108T181651Z
LAST-MODIFIED:20260327T134504Z
UID:10020578-1883030400-1883034000@stmichaels-litchfield.org
SUMMARY:Eucharist\, Rite I
DESCRIPTION:Spoken\, no music
URL:https://stmichaels-litchfield.org/event/sunday-eucharist/2029-09-02/
LOCATION:Chapel\, 25 South Street\, Litchfield\, CT\, 06759\, United States
CATEGORIES:Church Event,Parish Events
END:VEVENT
BEGIN:VEVENT
DTSTART;TZID=America/New_York:20290902T100000
DTEND;TZID=America/New_York:20290902T110000
DTSTAMP:20260424T222713
CREATED:20250403T150154Z
LAST-MODIFIED:20260422T181447Z
UID:10020664-1883037600-1883041200@stmichaels-litchfield.org
SUMMARY:Sunday Eucharist\, Rite II
DESCRIPTION:Rite II with music \nFollowed by Coffee Hour in the Community House
URL:https://stmichaels-litchfield.org/event/sunday-eucharist-2-3/2029-09-02/
LOCATION:Church\, 25 South Street\, Litchfield\, CT\, 06759\, United States
CATEGORIES:Church Event,Parish Events
END:VEVENT
BEGIN:VEVENT
DTSTART;TZID=America/New_York:20290902T110000
DTEND;TZID=America/New_York:20290902T140000
DTSTAMP:20260424T222713
CREATED:20230711T182541Z
LAST-MODIFIED:20250806T192214Z
UID:10287268-1883041200-1883052000@stmichaels-litchfield.org
SUMMARY:Coffee and Fellowship in the Community House
DESCRIPTION:
URL:https://stmichaels-litchfield.org/event/coffee-and-congregation-in-the-community-house/2029-09-02/
LOCATION:Community House in Library from April 9th forward
CATEGORIES:Church Event
END:VEVENT
BEGIN:VEVENT
DTSTART;TZID=America/New_York:20290902T190000
DTEND;TZID=America/New_York:20290902T200000
DTSTAMP:20260424T222713
CREATED:20230619T142544Z
LAST-MODIFIED:20260416T160049Z
UID:10296167-1883070000-1883073600@stmichaels-litchfield.org
SUMMARY:AA Meeting in Community House
DESCRIPTION:
URL:https://stmichaels-litchfield.org/event/aa-meeting-in-community-house/2029-09-02/
LOCATION:Community House in Library from April 9th forward
END:VEVENT
BEGIN:VEVENT
DTSTART;VALUE=DATE:20290903
DTEND;VALUE=DATE:20290904
DTSTAMP:20260424T222713
CREATED:20260128T181321Z
LAST-MODIFIED:20260128T181322Z
UID:10291328-1883088000-1883174399@stmichaels-litchfield.org
SUMMARY:Church Office Closed
DESCRIPTION:
URL:https://stmichaels-litchfield.org/event/summer-schedule-church-office-closed-2-2-2-3/2029-09-03/
LOCATION:Church Office\, 25 South Street\, Litchfield\, CT\, 06759\, United States
CATEGORIES:Church Office Event
END:VEVENT
BEGIN:VEVENT
DTSTART;TZID=America/New_York:20290903T070000
DTEND;TZID=America/New_York:20290903T073000
DTSTAMP:20260424T222713
CREATED:20230606T184551Z
LAST-MODIFIED:20230619T142647Z
UID:10287043-1883113200-1883115000@stmichaels-litchfield.org
SUMMARY:AA Meeting in the Parish House Library
DESCRIPTION:
URL:https://stmichaels-litchfield.org/event/aa-meeting-in-the-library/2029-09-03/
LOCATION:Parish House Library\, 25 South Street\, Litchfield\, CT\, 06759\, United States
CATEGORIES:AA/NA Events
END:VEVENT
BEGIN:VEVENT
DTSTART;TZID=America/New_York:20290903T200000
DTEND;TZID=America/New_York:20290903T213000
DTSTAMP:20260424T222713
CREATED:20260218T173517Z
LAST-MODIFIED:20260218T173517Z
UID:10292751-1883160000-1883165400@stmichaels-litchfield.org
SUMMARY:AA meeting in the Community House
DESCRIPTION:
URL:https://stmichaels-litchfield.org/event/aa-meeting-in-the-community-house-2/2029-09-03/
END:VEVENT
BEGIN:VEVENT
DTSTART;TZID=America/New_York:20290904T093000
DTEND;TZID=America/New_York:20290904T143000
DTSTAMP:20260424T222713
CREATED:20260128T181432Z
LAST-MODIFIED:20260128T181726Z
UID:10292175-1883208600-1883226600@stmichaels-litchfield.org
SUMMARY:Church Office Open
DESCRIPTION:
URL:https://stmichaels-litchfield.org/event/church-office-open-14/2029-09-04/
LOCATION:Church Office\, 25 South Street\, Litchfield\, CT\, 06759\, United States
CATEGORIES:Church Office Event
END:VEVENT
BEGIN:VEVENT
DTSTART;TZID=America/New_York:20290904T160000
DTEND;TZID=America/New_York:20290904T173000
DTSTAMP:20260424T222713
CREATED:20260331T205128Z
LAST-MODIFIED:20260331T205254Z
UID:10294875-1883232000-1883237400@stmichaels-litchfield.org
SUMMARY:Priest Search Committee
DESCRIPTION:
URL:https://stmichaels-litchfield.org/event/priest-search-committee-3-2-5/2029-09-04/
LOCATION:Parish House Library\, 25 South Street\, Litchfield\, CT\, 06759\, United States
END:VEVENT
BEGIN:VEVENT
DTSTART;TZID=America/New_York:20290904T171500
DTEND;TZID=America/New_York:20290904T183000
DTSTAMP:20260424T222713
CREATED:20231227T151453Z
LAST-MODIFIED:20260317T155826Z
UID:10293678-1883236500-1883241000@stmichaels-litchfield.org
SUMMARY:Property Committee Meeting in Parish House Library
DESCRIPTION:
URL:https://stmichaels-litchfield.org/event/property-committee-meeting-in-parish-house-library-3/2029-09-04/
LOCATION:Parish House Library\, 25 South Street\, Litchfield\, CT\, 06759\, United States
CATEGORIES:Church Event
END:VEVENT
BEGIN:VEVENT
DTSTART;TZID=America/New_York:20290904T190000
DTEND;TZID=America/New_York:20290904T200000
DTSTAMP:20260424T222713
CREATED:20211108T175914Z
LAST-MODIFIED:20260130T014621Z
UID:10286684-1883242800-1883246400@stmichaels-litchfield.org
SUMMARY:AA Meeting in Community House
DESCRIPTION:
URL:https://stmichaels-litchfield.org/event/aa-group-in-community-house-2/2029-09-04/
LOCATION:Community House in Library from April 9th forward
CATEGORIES:AA/NA Events
END:VEVENT
BEGIN:VEVENT
DTSTART;TZID=America/New_York:20290905T070000
DTEND;TZID=America/New_York:20290905T073000
DTSTAMP:20260424T222713
CREATED:20230606T184551Z
LAST-MODIFIED:20230619T142647Z
UID:10287044-1883286000-1883287800@stmichaels-litchfield.org
SUMMARY:AA Meeting in the Parish House Library
DESCRIPTION:
URL:https://stmichaels-litchfield.org/event/aa-meeting-in-the-library/2029-09-05/
LOCATION:Parish House Library\, 25 South Street\, Litchfield\, CT\, 06759\, United States
CATEGORIES:AA/NA Events
END:VEVENT
BEGIN:VEVENT
DTSTART;TZID=America/New_York:20290905T083000
DTEND;TZID=America/New_York:20290905T110000
DTSTAMP:20260424T222713
CREATED:20250109T152013Z
LAST-MODIFIED:20250109T152013Z
UID:10019619-1883291400-1883300400@stmichaels-litchfield.org
SUMMARY:Greenwoods Counseling
DESCRIPTION:
URL:https://stmichaels-litchfield.org/event/greenwoods-counseling-7/2029-09-05/
CATEGORIES:Greenwoods Counseling
END:VEVENT
BEGIN:VEVENT
DTSTART;TZID=America/New_York:20290905T093000
DTEND;TZID=America/New_York:20290905T143000
DTSTAMP:20260424T222713
CREATED:20260128T181432Z
LAST-MODIFIED:20260128T181726Z
UID:10292176-1883295000-1883313000@stmichaels-litchfield.org
SUMMARY:Church Office Open
DESCRIPTION:
URL:https://stmichaels-litchfield.org/event/church-office-open-14/2029-09-05/
LOCATION:Church Office\, 25 South Street\, Litchfield\, CT\, 06759\, United States
CATEGORIES:Church Office Event
END:VEVENT
BEGIN:VEVENT
DTSTART;TZID=America/New_York:20290905T173000
DTEND;TZID=America/New_York:20290905T180000
DTSTAMP:20260424T222713
CREATED:20260327T155546Z
LAST-MODIFIED:20260422T175057Z
UID:10294616-1883323800-1883325600@stmichaels-litchfield.org
SUMMARY:Chanted Evening Prayer
DESCRIPTION:
URL:https://stmichaels-litchfield.org/event/chanted-evening-prayer-3/2029-09-05/
LOCATION:Chapel\, 25 South Street\, Litchfield\, CT\, 06759\, United States
CATEGORIES:Church Event
END:VEVENT
BEGIN:VEVENT
DTSTART;TZID=America/New_York:20290905T193000
DTEND;TZID=America/New_York:20290905T210000
DTSTAMP:20260424T222713
CREATED:20211108T180816Z
LAST-MODIFIED:20230714T003135Z
UID:10286784-1883331000-1883336400@stmichaels-litchfield.org
SUMMARY:NA meeting in Community House
DESCRIPTION:
URL:https://stmichaels-litchfield.org/event/narcotics-anonymous/2029-09-05/
LOCATION:Community House in Library from April 9th forward
CATEGORIES:AA/NA Events
END:VEVENT
BEGIN:VEVENT
DTSTART;TZID=America/New_York:20290906T093000
DTEND;TZID=America/New_York:20290906T143000
DTSTAMP:20260424T222713
CREATED:20260128T181432Z
LAST-MODIFIED:20260128T181726Z
UID:10292177-1883381400-1883399400@stmichaels-litchfield.org
SUMMARY:Church Office Open
DESCRIPTION:
URL:https://stmichaels-litchfield.org/event/church-office-open-14/2029-09-06/
LOCATION:Church Office\, 25 South Street\, Litchfield\, CT\, 06759\, United States
CATEGORIES:Church Office Event
END:VEVENT
BEGIN:VEVENT
DTSTART;TZID=America/New_York:20290907T070000
DTEND;TZID=America/New_York:20290907T073000
DTSTAMP:20260424T222713
CREATED:20230606T184551Z
LAST-MODIFIED:20230619T142647Z
UID:10287045-1883458800-1883460600@stmichaels-litchfield.org
SUMMARY:AA Meeting in the Parish House Library
DESCRIPTION:
URL:https://stmichaels-litchfield.org/event/aa-meeting-in-the-library/2029-09-07/
LOCATION:Parish House Library\, 25 South Street\, Litchfield\, CT\, 06759\, United States
CATEGORIES:AA/NA Events
END:VEVENT
BEGIN:VEVENT
DTSTART;TZID=America/New_York:20290907T093000
DTEND;TZID=America/New_York:20290907T143000
DTSTAMP:20260424T222713
CREATED:20260128T181432Z
LAST-MODIFIED:20260128T181726Z
UID:10292178-1883467800-1883485800@stmichaels-litchfield.org
SUMMARY:Church Office Open
DESCRIPTION:
URL:https://stmichaels-litchfield.org/event/church-office-open-14/2029-09-07/
LOCATION:Church Office\, 25 South Street\, Litchfield\, CT\, 06759\, United States
CATEGORIES:Church Office Event
END:VEVENT
BEGIN:VEVENT
DTSTART;TZID=America/New_York:20290909T080000
DTEND;TZID=America/New_York:20290909T090000
DTSTAMP:20260424T222713
CREATED:20211108T181651Z
LAST-MODIFIED:20260327T134504Z
UID:10020579-1883635200-1883638800@stmichaels-litchfield.org
SUMMARY:Eucharist\, Rite I
DESCRIPTION:Spoken\, no music
URL:https://stmichaels-litchfield.org/event/sunday-eucharist/2029-09-09/
LOCATION:Chapel\, 25 South Street\, Litchfield\, CT\, 06759\, United States
CATEGORIES:Church Event,Parish Events
END:VEVENT
BEGIN:VEVENT
DTSTART;TZID=America/New_York:20290909T100000
DTEND;TZID=America/New_York:20290909T110000
DTSTAMP:20260424T222713
CREATED:20250403T150154Z
LAST-MODIFIED:20260422T181447Z
UID:10020665-1883642400-1883646000@stmichaels-litchfield.org
SUMMARY:Sunday Eucharist\, Rite II
DESCRIPTION:Rite II with music \nFollowed by Coffee Hour in the Community House
URL:https://stmichaels-litchfield.org/event/sunday-eucharist-2-3/2029-09-09/
LOCATION:Church\, 25 South Street\, Litchfield\, CT\, 06759\, United States
CATEGORIES:Church Event,Parish Events
END:VEVENT
BEGIN:VEVENT
DTSTART;TZID=America/New_York:20290909T110000
DTEND;TZID=America/New_York:20290909T140000
DTSTAMP:20260424T222713
CREATED:20230711T182541Z
LAST-MODIFIED:20250806T192214Z
UID:10287269-1883646000-1883656800@stmichaels-litchfield.org
SUMMARY:Coffee and Fellowship in the Community House
DESCRIPTION:
URL:https://stmichaels-litchfield.org/event/coffee-and-congregation-in-the-community-house/2029-09-09/
LOCATION:Community House in Library from April 9th forward
CATEGORIES:Church Event
END:VEVENT
END:VCALENDAR