BEGIN:VCALENDAR
VERSION:2.0
PRODID:-//St. Michael&#039;s Church - ECPv6.15.20//NONSGML v1.0//EN
CALSCALE:GREGORIAN
METHOD:PUBLISH
X-WR-CALNAME:St. Michael&#039;s Church
X-ORIGINAL-URL:https://stmichaels-litchfield.org
X-WR-CALDESC:Events for St. Michael&#039;s Church
REFRESH-INTERVAL;VALUE=DURATION:PT1H
X-Robots-Tag:noindex
X-PUBLISHED-TTL:PT1H
BEGIN:VTIMEZONE
TZID:America/New_York
BEGIN:DAYLIGHT
TZOFFSETFROM:-0500
TZOFFSETTO:-0400
TZNAME:EDT
DTSTART:20220313T070000
END:DAYLIGHT
BEGIN:STANDARD
TZOFFSETFROM:-0400
TZOFFSETTO:-0500
TZNAME:EST
DTSTART:20221106T060000
END:STANDARD
BEGIN:DAYLIGHT
TZOFFSETFROM:-0500
TZOFFSETTO:-0400
TZNAME:EDT
DTSTART:20230312T070000
END:DAYLIGHT
BEGIN:STANDARD
TZOFFSETFROM:-0400
TZOFFSETTO:-0500
TZNAME:EST
DTSTART:20231105T060000
END:STANDARD
BEGIN:DAYLIGHT
TZOFFSETFROM:-0500
TZOFFSETTO:-0400
TZNAME:EDT
DTSTART:20240310T070000
END:DAYLIGHT
BEGIN:STANDARD
TZOFFSETFROM:-0400
TZOFFSETTO:-0500
TZNAME:EST
DTSTART:20241103T060000
END:STANDARD
END:VTIMEZONE
BEGIN:VEVENT
DTSTART;TZID=America/New_York:20230929T133000
DTEND;TZID=America/New_York:20230929T153000
DTSTAMP:20260421T080013
CREATED:20230807T145754Z
LAST-MODIFIED:20230807T145754Z
UID:10012629-1695994200-1696001400@stmichaels-litchfield.org
SUMMARY:Intermediate Italian in Parish House Library
DESCRIPTION:
URL:https://stmichaels-litchfield.org/event/intermediate-italian-in-parish-house-library/2023-09-29/
LOCATION:Parish House Library\, 25 South Street\, Litchfield\, CT\, 06759\, United States
CATEGORIES:Other Groups
END:VEVENT
BEGIN:VEVENT
DTSTART;TZID=America/New_York:20230930T083000
DTEND;TZID=America/New_York:20230930T093000
DTSTAMP:20260421T080013
CREATED:20230619T143626Z
LAST-MODIFIED:20230619T143720Z
UID:10010578-1696062600-1696066200@stmichaels-litchfield.org
SUMMARY:AA Meeting in Parish House Library
DESCRIPTION:
URL:https://stmichaels-litchfield.org/event/aa-meeting-in-community-house-2/2023-09-30/
LOCATION:Community House in Library from April 9th forward
CATEGORIES:AA/NA Events
END:VEVENT
BEGIN:VEVENT
DTSTART;TZID=America/New_York:20230930T100000
DTEND;TZID=America/New_York:20230930T140000
DTSTAMP:20260421T080013
CREATED:20230830T160915Z
LAST-MODIFIED:20230906T123654Z
UID:10013278-1696068000-1696082400@stmichaels-litchfield.org
SUMMARY:Dick Loyer Memorial Service in the Church
DESCRIPTION:
URL:https://stmichaels-litchfield.org/event/tentative-dick-loyer-memorial-service-in-the-church/
LOCATION:Church and Community House
CATEGORIES:Church Event
ORGANIZER;CN="Kathryn Flodquiest":MAILTO:klflodquiest@yahoo.com
END:VEVENT
BEGIN:VEVENT
DTSTART;TZID=America/New_York:20230930T110000
DTEND;TZID=America/New_York:20230930T180000
DTSTAMP:20260421T080013
CREATED:20230830T160804Z
LAST-MODIFIED:20230918T174128Z
UID:10013277-1696071600-1696096800@stmichaels-litchfield.org
SUMMARY:Dick Loyer Memorial Service Reception in Community House
DESCRIPTION:
URL:https://stmichaels-litchfield.org/event/tentative-dick-loyer-memorial-service-reception-in-community-house/
LOCATION:Community House in Library from April 9th forward
CATEGORIES:Church Event
ORGANIZER;CN="Kathryn Flodquiest":MAILTO:klflodquiest@yahoo.com
END:VEVENT
BEGIN:VEVENT
DTSTART;TZID=America/New_York:20231001T080000
DTEND;TZID=America/New_York:20231001T090000
DTSTAMP:20260421T080013
CREATED:20211108T181651Z
LAST-MODIFIED:20260327T134504Z
UID:10001943-1696147200-1696150800@stmichaels-litchfield.org
SUMMARY:Eucharist\, Rite I
DESCRIPTION:Spoken\, no music
URL:https://stmichaels-litchfield.org/event/sunday-eucharist/2023-10-01/
LOCATION:Chapel\, 25 South Street\, Litchfield\, CT\, 06759\, United States
CATEGORIES:Church Event,Parish Events
END:VEVENT
BEGIN:VEVENT
DTSTART;TZID=America/New_York:20231001T100000
DTEND;TZID=America/New_York:20231001T110000
DTSTAMP:20260421T080013
CREATED:20211108T181948Z
LAST-MODIFIED:20250403T150318Z
UID:10002377-1696154400-1696158000@stmichaels-litchfield.org
SUMMARY:Sunday Eucharist\, Rite II
DESCRIPTION:Rite II with Choir \nFollowed by Coffee Hour in the Community House
URL:https://stmichaels-litchfield.org/event/sunday-eucharist-2/2023-10-01/
CATEGORIES:Parish Events
END:VEVENT
BEGIN:VEVENT
DTSTART;TZID=America/New_York:20231001T110000
DTEND;TZID=America/New_York:20231001T140000
DTSTAMP:20260421T080013
CREATED:20230711T182541Z
LAST-MODIFIED:20250806T192214Z
UID:10011923-1696158000-1696168800@stmichaels-litchfield.org
SUMMARY:Coffee and Fellowship in the Community House
DESCRIPTION:
URL:https://stmichaels-litchfield.org/event/coffee-and-congregation-in-the-community-house/2023-10-01/
LOCATION:Community House in Library from April 9th forward
CATEGORIES:Church Event
END:VEVENT
BEGIN:VEVENT
DTSTART;TZID=America/New_York:20231001T160000
DTEND;TZID=America/New_York:20231001T173000
DTSTAMP:20260421T080013
CREATED:20230822T161655Z
LAST-MODIFIED:20230822T161655Z
UID:10013267-1696176000-1696181400@stmichaels-litchfield.org
SUMMARY:Youth Confirmation Class in Parish House Library
DESCRIPTION:
URL:https://stmichaels-litchfield.org/event/youth-confirmation-class-in-parish-house-library/2023-10-01/
LOCATION:Parish House Library\, 25 South Street\, Litchfield\, CT\, 06759\, United States
CATEGORIES:Church Event
END:VEVENT
BEGIN:VEVENT
DTSTART;TZID=America/New_York:20231001T190000
DTEND;TZID=America/New_York:20231001T200000
DTSTAMP:20260421T080013
CREATED:20230619T142544Z
LAST-MODIFIED:20260416T160049Z
UID:10009768-1696186800-1696190400@stmichaels-litchfield.org
SUMMARY:AA Meeting in Community House
DESCRIPTION:
URL:https://stmichaels-litchfield.org/event/aa-meeting-in-community-house/2023-10-01/
LOCATION:Community House in Library from April 9th forward
END:VEVENT
BEGIN:VEVENT
DTSTART;TZID=America/New_York:20231002T070000
DTEND;TZID=America/New_York:20231002T073000
DTSTAMP:20260421T080013
CREATED:20230606T184551Z
LAST-MODIFIED:20230619T142647Z
UID:10005719-1696230000-1696231800@stmichaels-litchfield.org
SUMMARY:AA Meeting in the Parish House Library
DESCRIPTION:
URL:https://stmichaels-litchfield.org/event/aa-meeting-in-the-library/2023-10-02/
LOCATION:Parish House Library\, 25 South Street\, Litchfield\, CT\, 06759\, United States
CATEGORIES:AA/NA Events
END:VEVENT
BEGIN:VEVENT
DTSTART;TZID=America/New_York:20231002T090000
DTEND;TZID=America/New_York:20231002T130000
DTSTAMP:20260421T080013
CREATED:20230711T185140Z
LAST-MODIFIED:20230711T185250Z
UID:10011125-1696237200-1696251600@stmichaels-litchfield.org
SUMMARY:Church Office Open
DESCRIPTION:
URL:https://stmichaels-litchfield.org/event/church-office-open-7/2023-10-02/
LOCATION:Church Office\, 25 South Street\, Litchfield\, CT\, 06759\, United States
END:VEVENT
BEGIN:VEVENT
DTSTART;TZID=America/New_York:20231003T100000
DTEND;TZID=America/New_York:20231003T140000
DTSTAMP:20260421T080013
CREATED:20230831T010204Z
LAST-MODIFIED:20230831T010205Z
UID:10013292-1696327200-1696341600@stmichaels-litchfield.org
SUMMARY:Church Office Open
DESCRIPTION:
URL:https://stmichaels-litchfield.org/event/church-office-open-2-2-2/2023-10-03/
LOCATION:Church Office\, 25 South Street\, Litchfield\, CT\, 06759\, United States
CATEGORIES:Church Office Event
END:VEVENT
BEGIN:VEVENT
DTSTART;TZID=America/New_York:20231003T190000
DTEND;TZID=America/New_York:20231003T200000
DTSTAMP:20260421T080013
CREATED:20211108T175914Z
LAST-MODIFIED:20260130T014621Z
UID:10001250-1696359600-1696363200@stmichaels-litchfield.org
SUMMARY:AA Meeting in Community House
DESCRIPTION:
URL:https://stmichaels-litchfield.org/event/aa-group-in-community-house-2/2023-10-03/
LOCATION:Community House in Library from April 9th forward
CATEGORIES:AA/NA Events
END:VEVENT
BEGIN:VEVENT
DTSTART;TZID=America/New_York:20231004T070000
DTEND;TZID=America/New_York:20231004T073000
DTSTAMP:20260421T080013
CREATED:20230606T184551Z
LAST-MODIFIED:20230619T142647Z
UID:10005720-1696402800-1696404600@stmichaels-litchfield.org
SUMMARY:AA Meeting in the Parish House Library
DESCRIPTION:
URL:https://stmichaels-litchfield.org/event/aa-meeting-in-the-library/2023-10-04/
LOCATION:Parish House Library\, 25 South Street\, Litchfield\, CT\, 06759\, United States
CATEGORIES:AA/NA Events
END:VEVENT
BEGIN:VEVENT
DTSTART;TZID=America/New_York:20231004T090000
DTEND;TZID=America/New_York:20231004T120000
DTSTAMP:20260421T080013
CREATED:20230627T162243Z
LAST-MODIFIED:20230711T181959Z
UID:10011863-1696410000-1696420800@stmichaels-litchfield.org
SUMMARY:Greenwoods Clinical Meeting in Community House
DESCRIPTION:
URL:https://stmichaels-litchfield.org/event/greenwoods-clinical-training/2023-10-04/
LOCATION:Community House in Library from April 9th forward
CATEGORIES:Greenwoods Counseling
ORGANIZER;CN="Michelle Sonnati":MAILTO:msonnati@greenwoodsreferrals.org
END:VEVENT
BEGIN:VEVENT
DTSTART;TZID=America/New_York:20231004T090000
DTEND;TZID=America/New_York:20231004T130000
DTSTAMP:20260421T080013
CREATED:20230619T134727Z
LAST-MODIFIED:20230619T134727Z
UID:10009129-1696410000-1696424400@stmichaels-litchfield.org
SUMMARY:Church Office Open
DESCRIPTION:
URL:https://stmichaels-litchfield.org/event/church-office-open-3/2023-10-04/
LOCATION:Church Office\, 25 South Street\, Litchfield\, CT\, 06759\, United States
END:VEVENT
BEGIN:VEVENT
DTSTART;TZID=America/New_York:20231004T190000
DTEND;TZID=America/New_York:20231004T203000
DTSTAMP:20260421T080013
CREATED:20230817T183342Z
LAST-MODIFIED:20230817T183342Z
UID:10013002-1696446000-1696451400@stmichaels-litchfield.org
SUMMARY:Choir Rehearsal in Parish House Music Room
DESCRIPTION:
URL:https://stmichaels-litchfield.org/event/choir-rehearsal-in-parish-house-music-room/2023-10-04/
LOCATION:Parish House Music Room
CATEGORIES:Church Event
END:VEVENT
BEGIN:VEVENT
DTSTART;TZID=America/New_York:20231005T080000
DTEND;TZID=America/New_York:20231005T093000
DTSTAMP:20260421T080013
CREATED:20230814T223011Z
LAST-MODIFIED:20230821T121935Z
UID:10012955-1696492800-1696498200@stmichaels-litchfield.org
SUMMARY:Adult Faith Formation Class in Parish House Library
DESCRIPTION:
URL:https://stmichaels-litchfield.org/event/faith-formation-class-in-parish-house-library/2023-10-05/
LOCATION:Parish House Library\, 25 South Street\, Litchfield\, CT\, 06759\, United States
CATEGORIES:Parish Events
END:VEVENT
BEGIN:VEVENT
DTSTART;TZID=America/New_York:20231005T090000
DTEND;TZID=America/New_York:20231005T130000
DTSTAMP:20260421T080013
CREATED:20230619T134952Z
LAST-MODIFIED:20230619T134952Z
UID:10009390-1696496400-1696510800@stmichaels-litchfield.org
SUMMARY:Church Office Open
DESCRIPTION:
URL:https://stmichaels-litchfield.org/event/church-office-open-4/2023-10-05/
LOCATION:Church Office\, 25 South Street\, Litchfield\, CT\, 06759\, United States
END:VEVENT
BEGIN:VEVENT
DTSTART;TZID=America/New_York:20231005T143000
DTEND;TZID=America/New_York:20231005T163000
DTSTAMP:20260421T080013
CREATED:20230807T145508Z
LAST-MODIFIED:20230807T145508Z
UID:10012618-1696516200-1696523400@stmichaels-litchfield.org
SUMMARY:Advanced Beginner Italian in Parish House Library
DESCRIPTION:
URL:https://stmichaels-litchfield.org/event/advanced-beginner-italian-in-parish-house-library/2023-10-05/
LOCATION:Parish House Library\, 25 South Street\, Litchfield\, CT\, 06759\, United States
CATEGORIES:Other Groups
END:VEVENT
BEGIN:VEVENT
DTSTART;TZID=America/New_York:20231005T190000
DTEND;TZID=America/New_York:20231005T220000
DTSTAMP:20260421T080013
CREATED:20230810T152445Z
LAST-MODIFIED:20230823T141209Z
UID:10012895-1696532400-1696543200@stmichaels-litchfield.org
SUMMARY:SOTG Board meeting in the Parish House Library
DESCRIPTION:
URL:https://stmichaels-litchfield.org/event/sotg-board-meeting-2/2023-10-05/
LOCATION:Parish House Library\, 25 South Street\, Litchfield\, CT\, 06759\, United States
CATEGORIES:School on the Green Event
END:VEVENT
BEGIN:VEVENT
DTSTART;TZID=America/New_York:20231006T070000
DTEND;TZID=America/New_York:20231006T073000
DTSTAMP:20260421T080013
CREATED:20230606T184551Z
LAST-MODIFIED:20230619T142647Z
UID:10005721-1696575600-1696577400@stmichaels-litchfield.org
SUMMARY:AA Meeting in the Parish House Library
DESCRIPTION:
URL:https://stmichaels-litchfield.org/event/aa-meeting-in-the-library/2023-10-06/
LOCATION:Parish House Library\, 25 South Street\, Litchfield\, CT\, 06759\, United States
CATEGORIES:AA/NA Events
END:VEVENT
BEGIN:VEVENT
DTSTART;TZID=America/New_York:20231006T080000
DTEND;TZID=America/New_York:20231006T170000
DTSTAMP:20260421T080013
CREATED:20230831T005121Z
LAST-MODIFIED:20230831T005956Z
UID:10013571-1696579200-1696611600@stmichaels-litchfield.org
SUMMARY:Church Office Closed on Fridays
DESCRIPTION:
URL:https://stmichaels-litchfield.org/event/summer-schedule-church-office-closed-2/2023-10-06/
LOCATION:Church Office\, 25 South Street\, Litchfield\, CT\, 06759\, United States
CATEGORIES:Church Office Event
END:VEVENT
BEGIN:VEVENT
DTSTART;TZID=America/New_York:20231006T133000
DTEND;TZID=America/New_York:20231006T153000
DTSTAMP:20260421T080013
CREATED:20230807T145754Z
LAST-MODIFIED:20230807T145754Z
UID:10012630-1696599000-1696606200@stmichaels-litchfield.org
SUMMARY:Intermediate Italian in Parish House Library
DESCRIPTION:
URL:https://stmichaels-litchfield.org/event/intermediate-italian-in-parish-house-library/2023-10-06/
LOCATION:Parish House Library\, 25 South Street\, Litchfield\, CT\, 06759\, United States
CATEGORIES:Other Groups
END:VEVENT
BEGIN:VEVENT
DTSTART;TZID=America/New_York:20231007T083000
DTEND;TZID=America/New_York:20231007T093000
DTSTAMP:20260421T080013
CREATED:20230619T143626Z
LAST-MODIFIED:20230619T143720Z
UID:10010579-1696667400-1696671000@stmichaels-litchfield.org
SUMMARY:AA Meeting in Parish House Library
DESCRIPTION:
URL:https://stmichaels-litchfield.org/event/aa-meeting-in-community-house-2/2023-10-07/
LOCATION:Community House in Library from April 9th forward
CATEGORIES:AA/NA Events
END:VEVENT
BEGIN:VEVENT
DTSTART;TZID=America/New_York:20231008T080000
DTEND;TZID=America/New_York:20231008T090000
DTSTAMP:20260421T080013
CREATED:20211108T181651Z
LAST-MODIFIED:20260327T134504Z
UID:10001944-1696752000-1696755600@stmichaels-litchfield.org
SUMMARY:Eucharist\, Rite I
DESCRIPTION:Spoken\, no music
URL:https://stmichaels-litchfield.org/event/sunday-eucharist/2023-10-08/
LOCATION:Chapel\, 25 South Street\, Litchfield\, CT\, 06759\, United States
CATEGORIES:Church Event,Parish Events
END:VEVENT
BEGIN:VEVENT
DTSTART;TZID=America/New_York:20231008T100000
DTEND;TZID=America/New_York:20231008T110000
DTSTAMP:20260421T080013
CREATED:20211108T181948Z
LAST-MODIFIED:20250403T150318Z
UID:10002378-1696759200-1696762800@stmichaels-litchfield.org
SUMMARY:Sunday Eucharist\, Rite II
DESCRIPTION:Rite II with Choir \nFollowed by Coffee Hour in the Community House
URL:https://stmichaels-litchfield.org/event/sunday-eucharist-2/2023-10-08/
CATEGORIES:Parish Events
END:VEVENT
BEGIN:VEVENT
DTSTART;TZID=America/New_York:20231008T110000
DTEND;TZID=America/New_York:20231008T140000
DTSTAMP:20260421T080013
CREATED:20230711T182541Z
LAST-MODIFIED:20250806T192214Z
UID:10011924-1696762800-1696773600@stmichaels-litchfield.org
SUMMARY:Coffee and Fellowship in the Community House
DESCRIPTION:
URL:https://stmichaels-litchfield.org/event/coffee-and-congregation-in-the-community-house/2023-10-08/
LOCATION:Community House in Library from April 9th forward
CATEGORIES:Church Event
END:VEVENT
BEGIN:VEVENT
DTSTART;TZID=America/New_York:20231008T160000
DTEND;TZID=America/New_York:20231008T173000
DTSTAMP:20260421T080013
CREATED:20230822T161655Z
LAST-MODIFIED:20230822T161655Z
UID:10013268-1696780800-1696786200@stmichaels-litchfield.org
SUMMARY:Youth Confirmation Class in Parish House Library
DESCRIPTION:
URL:https://stmichaels-litchfield.org/event/youth-confirmation-class-in-parish-house-library/2023-10-08/
LOCATION:Parish House Library\, 25 South Street\, Litchfield\, CT\, 06759\, United States
CATEGORIES:Church Event
END:VEVENT
BEGIN:VEVENT
DTSTART;TZID=America/New_York:20231008T190000
DTEND;TZID=America/New_York:20231008T200000
DTSTAMP:20260421T080013
CREATED:20230619T142544Z
LAST-MODIFIED:20260416T160049Z
UID:10009769-1696791600-1696795200@stmichaels-litchfield.org
SUMMARY:AA Meeting in Community House
DESCRIPTION:
URL:https://stmichaels-litchfield.org/event/aa-meeting-in-community-house/2023-10-08/
LOCATION:Community House in Library from April 9th forward
END:VEVENT
END:VCALENDAR