BEGIN:VCALENDAR
VERSION:2.0
PRODID:-//St. Michael&#039;s Church - ECPv6.15.20//NONSGML v1.0//EN
CALSCALE:GREGORIAN
METHOD:PUBLISH
X-WR-CALNAME:St. Michael&#039;s Church
X-ORIGINAL-URL:https://stmichaels-litchfield.org
X-WR-CALDESC:Events for St. Michael&#039;s Church
REFRESH-INTERVAL;VALUE=DURATION:PT1H
X-Robots-Tag:noindex
X-PUBLISHED-TTL:PT1H
BEGIN:VTIMEZONE
TZID:America/New_York
BEGIN:DAYLIGHT
TZOFFSETFROM:-0500
TZOFFSETTO:-0400
TZNAME:EDT
DTSTART:20260308T070000
END:DAYLIGHT
BEGIN:STANDARD
TZOFFSETFROM:-0400
TZOFFSETTO:-0500
TZNAME:EST
DTSTART:20261101T060000
END:STANDARD
BEGIN:DAYLIGHT
TZOFFSETFROM:-0500
TZOFFSETTO:-0400
TZNAME:EDT
DTSTART:20270314T070000
END:DAYLIGHT
BEGIN:STANDARD
TZOFFSETFROM:-0400
TZOFFSETTO:-0500
TZNAME:EST
DTSTART:20271107T060000
END:STANDARD
BEGIN:DAYLIGHT
TZOFFSETFROM:-0500
TZOFFSETTO:-0400
TZNAME:EDT
DTSTART:20280312T070000
END:DAYLIGHT
BEGIN:STANDARD
TZOFFSETFROM:-0400
TZOFFSETTO:-0500
TZNAME:EST
DTSTART:20281105T060000
END:STANDARD
END:VTIMEZONE
BEGIN:VEVENT
DTSTART;TZID=America/New_York:20270715T093000
DTEND;TZID=America/New_York:20270715T143000
DTSTAMP:20260422T175240
CREATED:20260128T181432Z
LAST-MODIFIED:20260128T181726Z
UID:10291729-1815643800-1815661800@stmichaels-litchfield.org
SUMMARY:Church Office Open
DESCRIPTION:
URL:https://stmichaels-litchfield.org/event/church-office-open-14/2027-07-15/
LOCATION:Church Office\, 25 South Street\, Litchfield\, CT\, 06759\, United States
CATEGORIES:Church Office Event
END:VEVENT
BEGIN:VEVENT
DTSTART;TZID=America/New_York:20270716T070000
DTEND;TZID=America/New_York:20270716T073000
DTSTAMP:20260422T175240
CREATED:20230606T184551Z
LAST-MODIFIED:20230619T142647Z
UID:10006312-1815721200-1815723000@stmichaels-litchfield.org
SUMMARY:AA Meeting in the Parish House Library
DESCRIPTION:
URL:https://stmichaels-litchfield.org/event/aa-meeting-in-the-library/2027-07-16/
LOCATION:Parish House Library\, 25 South Street\, Litchfield\, CT\, 06759\, United States
CATEGORIES:AA/NA Events
END:VEVENT
BEGIN:VEVENT
DTSTART;TZID=America/New_York:20270716T093000
DTEND;TZID=America/New_York:20270716T143000
DTSTAMP:20260422T175240
CREATED:20260128T181432Z
LAST-MODIFIED:20260128T181726Z
UID:10291730-1815730200-1815748200@stmichaels-litchfield.org
SUMMARY:Church Office Open
DESCRIPTION:
URL:https://stmichaels-litchfield.org/event/church-office-open-14/2027-07-16/
LOCATION:Church Office\, 25 South Street\, Litchfield\, CT\, 06759\, United States
CATEGORIES:Church Office Event
END:VEVENT
BEGIN:VEVENT
DTSTART;TZID=America/New_York:20270717T083000
DTEND;TZID=America/New_York:20270717T093000
DTSTAMP:20260422T175240
CREATED:20230619T143626Z
LAST-MODIFIED:20230619T143720Z
UID:10010776-1815813000-1815816600@stmichaels-litchfield.org
SUMMARY:AA Meeting in Parish House Library
DESCRIPTION:
URL:https://stmichaels-litchfield.org/event/aa-meeting-in-community-house-2/2027-07-17/
LOCATION:Community House in Library from April 9th forward
CATEGORIES:AA/NA Events
END:VEVENT
BEGIN:VEVENT
DTSTART;TZID=America/New_York:20270718T080000
DTEND;TZID=America/New_York:20270718T090000
DTSTAMP:20260422T175240
CREATED:20211108T181651Z
LAST-MODIFIED:20260327T134504Z
UID:10020467-1815897600-1815901200@stmichaels-litchfield.org
SUMMARY:Eucharist\, Rite I
DESCRIPTION:Spoken\, no music
URL:https://stmichaels-litchfield.org/event/sunday-eucharist/2027-07-18/
LOCATION:Chapel\, 25 South Street\, Litchfield\, CT\, 06759\, United States
CATEGORIES:Church Event,Parish Events
END:VEVENT
BEGIN:VEVENT
DTSTART;TZID=America/New_York:20270718T100000
DTEND;TZID=America/New_York:20270718T110000
DTSTAMP:20260422T175240
CREATED:20250403T150154Z
LAST-MODIFIED:20260422T181447Z
UID:10012782-1815904800-1815908400@stmichaels-litchfield.org
SUMMARY:Sunday Eucharist\, Rite II
DESCRIPTION:Rite II with music \nFollowed by Coffee Hour in the Community House
URL:https://stmichaels-litchfield.org/event/sunday-eucharist-2-3/2027-07-18/
LOCATION:Church\, 25 South Street\, Litchfield\, CT\, 06759\, United States
CATEGORIES:Church Event,Parish Events
END:VEVENT
BEGIN:VEVENT
DTSTART;TZID=America/New_York:20270718T110000
DTEND;TZID=America/New_York:20270718T140000
DTSTAMP:20260422T175240
CREATED:20230711T182541Z
LAST-MODIFIED:20250806T192214Z
UID:10012121-1815908400-1815919200@stmichaels-litchfield.org
SUMMARY:Coffee and Fellowship in the Community House
DESCRIPTION:
URL:https://stmichaels-litchfield.org/event/coffee-and-congregation-in-the-community-house/2027-07-18/
LOCATION:Community House in Library from April 9th forward
CATEGORIES:Church Event
END:VEVENT
BEGIN:VEVENT
DTSTART;TZID=America/New_York:20270718T190000
DTEND;TZID=America/New_York:20270718T200000
DTSTAMP:20260422T175240
CREATED:20230619T142544Z
LAST-MODIFIED:20260416T160049Z
UID:10009966-1815937200-1815940800@stmichaels-litchfield.org
SUMMARY:AA Meeting in Community House
DESCRIPTION:
URL:https://stmichaels-litchfield.org/event/aa-meeting-in-community-house/2027-07-18/
LOCATION:Community House in Library from April 9th forward
END:VEVENT
BEGIN:VEVENT
DTSTART;VALUE=DATE:20270719
DTEND;VALUE=DATE:20270720
DTSTAMP:20260422T175240
CREATED:20260128T181321Z
LAST-MODIFIED:20260128T181322Z
UID:10291217-1815955200-1816041599@stmichaels-litchfield.org
SUMMARY:Church Office Closed
DESCRIPTION:
URL:https://stmichaels-litchfield.org/event/summer-schedule-church-office-closed-2-2-2-3/2027-07-19/
LOCATION:Church Office\, 25 South Street\, Litchfield\, CT\, 06759\, United States
CATEGORIES:Church Office Event
END:VEVENT
BEGIN:VEVENT
DTSTART;TZID=America/New_York:20270719T070000
DTEND;TZID=America/New_York:20270719T073000
DTSTAMP:20260422T175240
CREATED:20230606T184551Z
LAST-MODIFIED:20230619T142647Z
UID:10006313-1815980400-1815982200@stmichaels-litchfield.org
SUMMARY:AA Meeting in the Parish House Library
DESCRIPTION:
URL:https://stmichaels-litchfield.org/event/aa-meeting-in-the-library/2027-07-19/
LOCATION:Parish House Library\, 25 South Street\, Litchfield\, CT\, 06759\, United States
CATEGORIES:AA/NA Events
END:VEVENT
BEGIN:VEVENT
DTSTART;TZID=America/New_York:20270719T200000
DTEND;TZID=America/New_York:20270719T213000
DTSTAMP:20260422T175240
CREATED:20260218T173517Z
LAST-MODIFIED:20260218T173517Z
UID:10292640-1816027200-1816032600@stmichaels-litchfield.org
SUMMARY:AA meeting in the Community House
DESCRIPTION:
URL:https://stmichaels-litchfield.org/event/aa-meeting-in-the-community-house-2/2027-07-19/
END:VEVENT
BEGIN:VEVENT
DTSTART;TZID=America/New_York:20270720T093000
DTEND;TZID=America/New_York:20270720T143000
DTSTAMP:20260422T175240
CREATED:20260128T181432Z
LAST-MODIFIED:20260128T181726Z
UID:10291731-1816075800-1816093800@stmichaels-litchfield.org
SUMMARY:Church Office Open
DESCRIPTION:
URL:https://stmichaels-litchfield.org/event/church-office-open-14/2027-07-20/
LOCATION:Church Office\, 25 South Street\, Litchfield\, CT\, 06759\, United States
CATEGORIES:Church Office Event
END:VEVENT
BEGIN:VEVENT
DTSTART;TZID=America/New_York:20270720T160000
DTEND;TZID=America/New_York:20270720T173000
DTSTAMP:20260422T175240
CREATED:20260331T205128Z
LAST-MODIFIED:20260331T205254Z
UID:10294764-1816099200-1816104600@stmichaels-litchfield.org
SUMMARY:Priest Search Committee
DESCRIPTION:
URL:https://stmichaels-litchfield.org/event/priest-search-committee-3-2-5/2027-07-20/
LOCATION:Parish House Library\, 25 South Street\, Litchfield\, CT\, 06759\, United States
END:VEVENT
BEGIN:VEVENT
DTSTART;TZID=America/New_York:20270720T190000
DTEND;TZID=America/New_York:20270720T200000
DTSTAMP:20260422T175240
CREATED:20211108T175914Z
LAST-MODIFIED:20260130T014621Z
UID:10010170-1816110000-1816113600@stmichaels-litchfield.org
SUMMARY:AA Meeting in Community House
DESCRIPTION:
URL:https://stmichaels-litchfield.org/event/aa-group-in-community-house-2/2027-07-20/
LOCATION:Community House in Library from April 9th forward
CATEGORIES:AA/NA Events
END:VEVENT
BEGIN:VEVENT
DTSTART;TZID=America/New_York:20270721T070000
DTEND;TZID=America/New_York:20270721T073000
DTSTAMP:20260422T175240
CREATED:20230606T184551Z
LAST-MODIFIED:20230619T142647Z
UID:10006314-1816153200-1816155000@stmichaels-litchfield.org
SUMMARY:AA Meeting in the Parish House Library
DESCRIPTION:
URL:https://stmichaels-litchfield.org/event/aa-meeting-in-the-library/2027-07-21/
LOCATION:Parish House Library\, 25 South Street\, Litchfield\, CT\, 06759\, United States
CATEGORIES:AA/NA Events
END:VEVENT
BEGIN:VEVENT
DTSTART;TZID=America/New_York:20270721T083000
DTEND;TZID=America/New_York:20270721T110000
DTSTAMP:20260422T175240
CREATED:20250109T152013Z
LAST-MODIFIED:20250109T152013Z
UID:10019508-1816158600-1816167600@stmichaels-litchfield.org
SUMMARY:Greenwoods Counseling
DESCRIPTION:
URL:https://stmichaels-litchfield.org/event/greenwoods-counseling-7/2027-07-21/
CATEGORIES:Greenwoods Counseling
END:VEVENT
BEGIN:VEVENT
DTSTART;TZID=America/New_York:20270721T093000
DTEND;TZID=America/New_York:20270721T143000
DTSTAMP:20260422T175240
CREATED:20260128T181432Z
LAST-MODIFIED:20260128T181726Z
UID:10291732-1816162200-1816180200@stmichaels-litchfield.org
SUMMARY:Church Office Open
DESCRIPTION:
URL:https://stmichaels-litchfield.org/event/church-office-open-14/2027-07-21/
LOCATION:Church Office\, 25 South Street\, Litchfield\, CT\, 06759\, United States
CATEGORIES:Church Office Event
END:VEVENT
BEGIN:VEVENT
DTSTART;TZID=America/New_York:20270721T173000
DTEND;TZID=America/New_York:20270721T180000
DTSTAMP:20260422T175240
CREATED:20260327T155546Z
LAST-MODIFIED:20260422T175057Z
UID:10294505-1816191000-1816192800@stmichaels-litchfield.org
SUMMARY:Chanted Evening Prayer
DESCRIPTION:
URL:https://stmichaels-litchfield.org/event/chanted-evening-prayer-3/2027-07-21/
LOCATION:Chapel\, 25 South Street\, Litchfield\, CT\, 06759\, United States
CATEGORIES:Church Event
END:VEVENT
BEGIN:VEVENT
DTSTART;TZID=America/New_York:20270721T190000
DTEND;TZID=America/New_York:20270721T203000
DTSTAMP:20260422T175240
CREATED:20230817T183342Z
LAST-MODIFIED:20230817T183342Z
UID:10013200-1816196400-1816201800@stmichaels-litchfield.org
SUMMARY:Choir Rehearsal in Parish House Music Room
DESCRIPTION:
URL:https://stmichaels-litchfield.org/event/choir-rehearsal-in-parish-house-music-room/2027-07-21/
LOCATION:Parish House Music Room
CATEGORIES:Church Event
END:VEVENT
BEGIN:VEVENT
DTSTART;TZID=America/New_York:20270721T193000
DTEND;TZID=America/New_York:20270721T210000
DTSTAMP:20260422T175240
CREATED:20211108T180816Z
LAST-MODIFIED:20230714T003135Z
UID:10012524-1816198200-1816203600@stmichaels-litchfield.org
SUMMARY:NA meeting in Community House
DESCRIPTION:
URL:https://stmichaels-litchfield.org/event/narcotics-anonymous/2027-07-21/
LOCATION:Community House in Library from April 9th forward
CATEGORIES:AA/NA Events
END:VEVENT
BEGIN:VEVENT
DTSTART;TZID=America/New_York:20270722T093000
DTEND;TZID=America/New_York:20270722T143000
DTSTAMP:20260422T175240
CREATED:20260128T181432Z
LAST-MODIFIED:20260128T181726Z
UID:10291733-1816248600-1816266600@stmichaels-litchfield.org
SUMMARY:Church Office Open
DESCRIPTION:
URL:https://stmichaels-litchfield.org/event/church-office-open-14/2027-07-22/
LOCATION:Church Office\, 25 South Street\, Litchfield\, CT\, 06759\, United States
CATEGORIES:Church Office Event
END:VEVENT
BEGIN:VEVENT
DTSTART;TZID=America/New_York:20270723T070000
DTEND;TZID=America/New_York:20270723T073000
DTSTAMP:20260422T175240
CREATED:20230606T184551Z
LAST-MODIFIED:20230619T142647Z
UID:10006315-1816326000-1816327800@stmichaels-litchfield.org
SUMMARY:AA Meeting in the Parish House Library
DESCRIPTION:
URL:https://stmichaels-litchfield.org/event/aa-meeting-in-the-library/2027-07-23/
LOCATION:Parish House Library\, 25 South Street\, Litchfield\, CT\, 06759\, United States
CATEGORIES:AA/NA Events
END:VEVENT
BEGIN:VEVENT
DTSTART;TZID=America/New_York:20270723T093000
DTEND;TZID=America/New_York:20270723T143000
DTSTAMP:20260422T175240
CREATED:20260128T181432Z
LAST-MODIFIED:20260128T181726Z
UID:10291734-1816335000-1816353000@stmichaels-litchfield.org
SUMMARY:Church Office Open
DESCRIPTION:
URL:https://stmichaels-litchfield.org/event/church-office-open-14/2027-07-23/
LOCATION:Church Office\, 25 South Street\, Litchfield\, CT\, 06759\, United States
CATEGORIES:Church Office Event
END:VEVENT
BEGIN:VEVENT
DTSTART;TZID=America/New_York:20270724T083000
DTEND;TZID=America/New_York:20270724T093000
DTSTAMP:20260422T175240
CREATED:20230619T143626Z
LAST-MODIFIED:20230619T143720Z
UID:10010777-1816417800-1816421400@stmichaels-litchfield.org
SUMMARY:AA Meeting in Parish House Library
DESCRIPTION:
URL:https://stmichaels-litchfield.org/event/aa-meeting-in-community-house-2/2027-07-24/
LOCATION:Community House in Library from April 9th forward
CATEGORIES:AA/NA Events
END:VEVENT
BEGIN:VEVENT
DTSTART;TZID=America/New_York:20270725T080000
DTEND;TZID=America/New_York:20270725T090000
DTSTAMP:20260422T175240
CREATED:20211108T181651Z
LAST-MODIFIED:20260327T134504Z
UID:10020468-1816502400-1816506000@stmichaels-litchfield.org
SUMMARY:Eucharist\, Rite I
DESCRIPTION:Spoken\, no music
URL:https://stmichaels-litchfield.org/event/sunday-eucharist/2027-07-25/
LOCATION:Chapel\, 25 South Street\, Litchfield\, CT\, 06759\, United States
CATEGORIES:Church Event,Parish Events
END:VEVENT
BEGIN:VEVENT
DTSTART;TZID=America/New_York:20270725T100000
DTEND;TZID=America/New_York:20270725T110000
DTSTAMP:20260422T175240
CREATED:20250403T150154Z
LAST-MODIFIED:20260422T181447Z
UID:10012783-1816509600-1816513200@stmichaels-litchfield.org
SUMMARY:Sunday Eucharist\, Rite II
DESCRIPTION:Rite II with music \nFollowed by Coffee Hour in the Community House
URL:https://stmichaels-litchfield.org/event/sunday-eucharist-2-3/2027-07-25/
LOCATION:Church\, 25 South Street\, Litchfield\, CT\, 06759\, United States
CATEGORIES:Church Event,Parish Events
END:VEVENT
BEGIN:VEVENT
DTSTART;TZID=America/New_York:20270725T110000
DTEND;TZID=America/New_York:20270725T140000
DTSTAMP:20260422T175240
CREATED:20230711T182541Z
LAST-MODIFIED:20250806T192214Z
UID:10012122-1816513200-1816524000@stmichaels-litchfield.org
SUMMARY:Coffee and Fellowship in the Community House
DESCRIPTION:
URL:https://stmichaels-litchfield.org/event/coffee-and-congregation-in-the-community-house/2027-07-25/
LOCATION:Community House in Library from April 9th forward
CATEGORIES:Church Event
END:VEVENT
BEGIN:VEVENT
DTSTART;TZID=America/New_York:20270725T190000
DTEND;TZID=America/New_York:20270725T200000
DTSTAMP:20260422T175240
CREATED:20230619T142544Z
LAST-MODIFIED:20260416T160049Z
UID:10009967-1816542000-1816545600@stmichaels-litchfield.org
SUMMARY:AA Meeting in Community House
DESCRIPTION:
URL:https://stmichaels-litchfield.org/event/aa-meeting-in-community-house/2027-07-25/
LOCATION:Community House in Library from April 9th forward
END:VEVENT
BEGIN:VEVENT
DTSTART;VALUE=DATE:20270726
DTEND;VALUE=DATE:20270727
DTSTAMP:20260422T175240
CREATED:20260128T181321Z
LAST-MODIFIED:20260128T181322Z
UID:10291218-1816560000-1816646399@stmichaels-litchfield.org
SUMMARY:Church Office Closed
DESCRIPTION:
URL:https://stmichaels-litchfield.org/event/summer-schedule-church-office-closed-2-2-2-3/2027-07-26/
LOCATION:Church Office\, 25 South Street\, Litchfield\, CT\, 06759\, United States
CATEGORIES:Church Office Event
END:VEVENT
BEGIN:VEVENT
DTSTART;TZID=America/New_York:20270726T070000
DTEND;TZID=America/New_York:20270726T073000
DTSTAMP:20260422T175240
CREATED:20230606T184551Z
LAST-MODIFIED:20230619T142647Z
UID:10006316-1816585200-1816587000@stmichaels-litchfield.org
SUMMARY:AA Meeting in the Parish House Library
DESCRIPTION:
URL:https://stmichaels-litchfield.org/event/aa-meeting-in-the-library/2027-07-26/
LOCATION:Parish House Library\, 25 South Street\, Litchfield\, CT\, 06759\, United States
CATEGORIES:AA/NA Events
END:VEVENT
END:VCALENDAR