BEGIN:VCALENDAR
VERSION:2.0
PRODID:-//St. Michael&#039;s Church - ECPv6.15.20//NONSGML v1.0//EN
CALSCALE:GREGORIAN
METHOD:PUBLISH
X-WR-CALNAME:St. Michael&#039;s Church
X-ORIGINAL-URL:https://stmichaels-litchfield.org
X-WR-CALDESC:Events for St. Michael&#039;s Church
REFRESH-INTERVAL;VALUE=DURATION:PT1H
X-Robots-Tag:noindex
X-PUBLISHED-TTL:PT1H
BEGIN:VTIMEZONE
TZID:America/New_York
BEGIN:DAYLIGHT
TZOFFSETFROM:-0500
TZOFFSETTO:-0400
TZNAME:EDT
DTSTART:20280312T070000
END:DAYLIGHT
BEGIN:STANDARD
TZOFFSETFROM:-0400
TZOFFSETTO:-0500
TZNAME:EST
DTSTART:20281105T060000
END:STANDARD
BEGIN:DAYLIGHT
TZOFFSETFROM:-0500
TZOFFSETTO:-0400
TZNAME:EDT
DTSTART:20290311T070000
END:DAYLIGHT
BEGIN:STANDARD
TZOFFSETFROM:-0400
TZOFFSETTO:-0500
TZNAME:EST
DTSTART:20291104T060000
END:STANDARD
BEGIN:DAYLIGHT
TZOFFSETFROM:-0500
TZOFFSETTO:-0400
TZNAME:EDT
DTSTART:20300310T070000
END:DAYLIGHT
BEGIN:STANDARD
TZOFFSETFROM:-0400
TZOFFSETTO:-0500
TZNAME:EST
DTSTART:20301103T060000
END:STANDARD
END:VTIMEZONE
BEGIN:VEVENT
DTSTART;TZID=America/New_York:20290117T093000
DTEND;TZID=America/New_York:20290117T143000
DTSTAMP:20260424T063224
CREATED:20260128T181432Z
LAST-MODIFIED:20260128T181726Z
UID:10292044-1863336600-1863354600@stmichaels-litchfield.org
SUMMARY:Church Office Open
DESCRIPTION:
URL:https://stmichaels-litchfield.org/event/church-office-open-14/2029-01-17/
LOCATION:Church Office\, 25 South Street\, Litchfield\, CT\, 06759\, United States
CATEGORIES:Church Office Event
END:VEVENT
BEGIN:VEVENT
DTSTART;TZID=America/New_York:20290117T173000
DTEND;TZID=America/New_York:20290117T180000
DTSTAMP:20260424T063224
CREATED:20260327T155546Z
LAST-MODIFIED:20260422T175057Z
UID:10294583-1863365400-1863367200@stmichaels-litchfield.org
SUMMARY:Chanted Evening Prayer
DESCRIPTION:
URL:https://stmichaels-litchfield.org/event/chanted-evening-prayer-3/2029-01-17/
LOCATION:Chapel\, 25 South Street\, Litchfield\, CT\, 06759\, United States
CATEGORIES:Church Event
END:VEVENT
BEGIN:VEVENT
DTSTART;TZID=America/New_York:20290117T193000
DTEND;TZID=America/New_York:20290117T210000
DTSTAMP:20260424T063224
CREATED:20211108T180816Z
LAST-MODIFIED:20230714T003135Z
UID:10286751-1863372600-1863378000@stmichaels-litchfield.org
SUMMARY:NA meeting in Community House
DESCRIPTION:
URL:https://stmichaels-litchfield.org/event/narcotics-anonymous/2029-01-17/
LOCATION:Community House in Library from April 9th forward
CATEGORIES:AA/NA Events
END:VEVENT
BEGIN:VEVENT
DTSTART;TZID=America/New_York:20290118T093000
DTEND;TZID=America/New_York:20290118T143000
DTSTAMP:20260424T063224
CREATED:20260128T181432Z
LAST-MODIFIED:20260128T181726Z
UID:10292045-1863423000-1863441000@stmichaels-litchfield.org
SUMMARY:Church Office Open
DESCRIPTION:
URL:https://stmichaels-litchfield.org/event/church-office-open-14/2029-01-18/
LOCATION:Church Office\, 25 South Street\, Litchfield\, CT\, 06759\, United States
CATEGORIES:Church Office Event
END:VEVENT
BEGIN:VEVENT
DTSTART;TZID=America/New_York:20290119T070000
DTEND;TZID=America/New_York:20290119T073000
DTSTAMP:20260424T063224
CREATED:20230606T184551Z
LAST-MODIFIED:20230619T142647Z
UID:10286946-1863500400-1863502200@stmichaels-litchfield.org
SUMMARY:AA Meeting in the Parish House Library
DESCRIPTION:
URL:https://stmichaels-litchfield.org/event/aa-meeting-in-the-library/2029-01-19/
LOCATION:Parish House Library\, 25 South Street\, Litchfield\, CT\, 06759\, United States
CATEGORIES:AA/NA Events
END:VEVENT
BEGIN:VEVENT
DTSTART;TZID=America/New_York:20290119T093000
DTEND;TZID=America/New_York:20290119T143000
DTSTAMP:20260424T063224
CREATED:20260128T181432Z
LAST-MODIFIED:20260128T181726Z
UID:10292046-1863509400-1863527400@stmichaels-litchfield.org
SUMMARY:Church Office Open
DESCRIPTION:
URL:https://stmichaels-litchfield.org/event/church-office-open-14/2029-01-19/
LOCATION:Church Office\, 25 South Street\, Litchfield\, CT\, 06759\, United States
CATEGORIES:Church Office Event
END:VEVENT
BEGIN:VEVENT
DTSTART;TZID=America/New_York:20290121T080000
DTEND;TZID=America/New_York:20290121T090000
DTSTAMP:20260424T063224
CREATED:20211108T181651Z
LAST-MODIFIED:20260327T134504Z
UID:10020546-1863676800-1863680400@stmichaels-litchfield.org
SUMMARY:Eucharist\, Rite I
DESCRIPTION:Spoken\, no music
URL:https://stmichaels-litchfield.org/event/sunday-eucharist/2029-01-21/
LOCATION:Chapel\, 25 South Street\, Litchfield\, CT\, 06759\, United States
CATEGORIES:Church Event,Parish Events
END:VEVENT
BEGIN:VEVENT
DTSTART;TZID=America/New_York:20290121T100000
DTEND;TZID=America/New_York:20290121T110000
DTSTAMP:20260424T063224
CREATED:20250403T150154Z
LAST-MODIFIED:20260422T181447Z
UID:10020632-1863684000-1863687600@stmichaels-litchfield.org
SUMMARY:Sunday Eucharist\, Rite II
DESCRIPTION:Rite II with music \nFollowed by Coffee Hour in the Community House
URL:https://stmichaels-litchfield.org/event/sunday-eucharist-2-3/2029-01-21/
LOCATION:Church\, 25 South Street\, Litchfield\, CT\, 06759\, United States
CATEGORIES:Church Event,Parish Events
END:VEVENT
BEGIN:VEVENT
DTSTART;TZID=America/New_York:20290121T110000
DTEND;TZID=America/New_York:20290121T140000
DTSTAMP:20260424T063224
CREATED:20230711T182541Z
LAST-MODIFIED:20250806T192214Z
UID:10287236-1863687600-1863698400@stmichaels-litchfield.org
SUMMARY:Coffee and Fellowship in the Community House
DESCRIPTION:
URL:https://stmichaels-litchfield.org/event/coffee-and-congregation-in-the-community-house/2029-01-21/
LOCATION:Community House in Library from April 9th forward
CATEGORIES:Church Event
END:VEVENT
BEGIN:VEVENT
DTSTART;TZID=America/New_York:20290121T190000
DTEND;TZID=America/New_York:20290121T200000
DTSTAMP:20260424T063224
CREATED:20230619T142544Z
LAST-MODIFIED:20260416T160049Z
UID:10296135-1863716400-1863720000@stmichaels-litchfield.org
SUMMARY:AA Meeting in Community House
DESCRIPTION:
URL:https://stmichaels-litchfield.org/event/aa-meeting-in-community-house/2029-01-21/
LOCATION:Community House in Library from April 9th forward
END:VEVENT
BEGIN:VEVENT
DTSTART;VALUE=DATE:20290122
DTEND;VALUE=DATE:20290123
DTSTAMP:20260424T063224
CREATED:20260128T181321Z
LAST-MODIFIED:20260128T181322Z
UID:10291296-1863734400-1863820799@stmichaels-litchfield.org
SUMMARY:Church Office Closed
DESCRIPTION:
URL:https://stmichaels-litchfield.org/event/summer-schedule-church-office-closed-2-2-2-3/2029-01-22/
LOCATION:Church Office\, 25 South Street\, Litchfield\, CT\, 06759\, United States
CATEGORIES:Church Office Event
END:VEVENT
BEGIN:VEVENT
DTSTART;TZID=America/New_York:20290122T070000
DTEND;TZID=America/New_York:20290122T073000
DTSTAMP:20260424T063224
CREATED:20230606T184551Z
LAST-MODIFIED:20230619T142647Z
UID:10286947-1863759600-1863761400@stmichaels-litchfield.org
SUMMARY:AA Meeting in the Parish House Library
DESCRIPTION:
URL:https://stmichaels-litchfield.org/event/aa-meeting-in-the-library/2029-01-22/
LOCATION:Parish House Library\, 25 South Street\, Litchfield\, CT\, 06759\, United States
CATEGORIES:AA/NA Events
END:VEVENT
BEGIN:VEVENT
DTSTART;TZID=America/New_York:20290122T200000
DTEND;TZID=America/New_York:20290122T213000
DTSTAMP:20260424T063224
CREATED:20260218T173517Z
LAST-MODIFIED:20260218T173517Z
UID:10292719-1863806400-1863811800@stmichaels-litchfield.org
SUMMARY:AA meeting in the Community House
DESCRIPTION:
URL:https://stmichaels-litchfield.org/event/aa-meeting-in-the-community-house-2/2029-01-22/
END:VEVENT
BEGIN:VEVENT
DTSTART;TZID=America/New_York:20290123T093000
DTEND;TZID=America/New_York:20290123T143000
DTSTAMP:20260424T063224
CREATED:20260128T181432Z
LAST-MODIFIED:20260128T181726Z
UID:10292047-1863855000-1863873000@stmichaels-litchfield.org
SUMMARY:Church Office Open
DESCRIPTION:
URL:https://stmichaels-litchfield.org/event/church-office-open-14/2029-01-23/
LOCATION:Church Office\, 25 South Street\, Litchfield\, CT\, 06759\, United States
CATEGORIES:Church Office Event
END:VEVENT
BEGIN:VEVENT
DTSTART;TZID=America/New_York:20290123T160000
DTEND;TZID=America/New_York:20290123T173000
DTSTAMP:20260424T063224
CREATED:20260331T205128Z
LAST-MODIFIED:20260331T205254Z
UID:10294843-1863878400-1863883800@stmichaels-litchfield.org
SUMMARY:Priest Search Committee
DESCRIPTION:
URL:https://stmichaels-litchfield.org/event/priest-search-committee-3-2-5/2029-01-23/
LOCATION:Parish House Library\, 25 South Street\, Litchfield\, CT\, 06759\, United States
END:VEVENT
BEGIN:VEVENT
DTSTART;TZID=America/New_York:20290123T190000
DTEND;TZID=America/New_York:20290123T200000
DTSTAMP:20260424T063224
CREATED:20211108T175914Z
LAST-MODIFIED:20260130T014621Z
UID:10286652-1863889200-1863892800@stmichaels-litchfield.org
SUMMARY:AA Meeting in Community House
DESCRIPTION:
URL:https://stmichaels-litchfield.org/event/aa-group-in-community-house-2/2029-01-23/
LOCATION:Community House in Library from April 9th forward
CATEGORIES:AA/NA Events
END:VEVENT
BEGIN:VEVENT
DTSTART;TZID=America/New_York:20290124T070000
DTEND;TZID=America/New_York:20290124T073000
DTSTAMP:20260424T063224
CREATED:20230606T184551Z
LAST-MODIFIED:20230619T142647Z
UID:10286948-1863932400-1863934200@stmichaels-litchfield.org
SUMMARY:AA Meeting in the Parish House Library
DESCRIPTION:
URL:https://stmichaels-litchfield.org/event/aa-meeting-in-the-library/2029-01-24/
LOCATION:Parish House Library\, 25 South Street\, Litchfield\, CT\, 06759\, United States
CATEGORIES:AA/NA Events
END:VEVENT
BEGIN:VEVENT
DTSTART;TZID=America/New_York:20290124T083000
DTEND;TZID=America/New_York:20290124T110000
DTSTAMP:20260424T063224
CREATED:20250109T152013Z
LAST-MODIFIED:20250109T152013Z
UID:10019587-1863937800-1863946800@stmichaels-litchfield.org
SUMMARY:Greenwoods Counseling
DESCRIPTION:
URL:https://stmichaels-litchfield.org/event/greenwoods-counseling-7/2029-01-24/
CATEGORIES:Greenwoods Counseling
END:VEVENT
BEGIN:VEVENT
DTSTART;TZID=America/New_York:20290124T093000
DTEND;TZID=America/New_York:20290124T143000
DTSTAMP:20260424T063224
CREATED:20260128T181432Z
LAST-MODIFIED:20260128T181726Z
UID:10292048-1863941400-1863959400@stmichaels-litchfield.org
SUMMARY:Church Office Open
DESCRIPTION:
URL:https://stmichaels-litchfield.org/event/church-office-open-14/2029-01-24/
LOCATION:Church Office\, 25 South Street\, Litchfield\, CT\, 06759\, United States
CATEGORIES:Church Office Event
END:VEVENT
BEGIN:VEVENT
DTSTART;TZID=America/New_York:20290124T173000
DTEND;TZID=America/New_York:20290124T180000
DTSTAMP:20260424T063224
CREATED:20260327T155546Z
LAST-MODIFIED:20260422T175057Z
UID:10294584-1863970200-1863972000@stmichaels-litchfield.org
SUMMARY:Chanted Evening Prayer
DESCRIPTION:
URL:https://stmichaels-litchfield.org/event/chanted-evening-prayer-3/2029-01-24/
LOCATION:Chapel\, 25 South Street\, Litchfield\, CT\, 06759\, United States
CATEGORIES:Church Event
END:VEVENT
BEGIN:VEVENT
DTSTART;TZID=America/New_York:20290124T193000
DTEND;TZID=America/New_York:20290124T210000
DTSTAMP:20260424T063224
CREATED:20211108T180816Z
LAST-MODIFIED:20230714T003135Z
UID:10286752-1863977400-1863982800@stmichaels-litchfield.org
SUMMARY:NA meeting in Community House
DESCRIPTION:
URL:https://stmichaels-litchfield.org/event/narcotics-anonymous/2029-01-24/
LOCATION:Community House in Library from April 9th forward
CATEGORIES:AA/NA Events
END:VEVENT
BEGIN:VEVENT
DTSTART;TZID=America/New_York:20290125T093000
DTEND;TZID=America/New_York:20290125T143000
DTSTAMP:20260424T063224
CREATED:20260128T181432Z
LAST-MODIFIED:20260128T181726Z
UID:10292049-1864027800-1864045800@stmichaels-litchfield.org
SUMMARY:Church Office Open
DESCRIPTION:
URL:https://stmichaels-litchfield.org/event/church-office-open-14/2029-01-25/
LOCATION:Church Office\, 25 South Street\, Litchfield\, CT\, 06759\, United States
CATEGORIES:Church Office Event
END:VEVENT
BEGIN:VEVENT
DTSTART;TZID=America/New_York:20290126T070000
DTEND;TZID=America/New_York:20290126T073000
DTSTAMP:20260424T063224
CREATED:20230606T184551Z
LAST-MODIFIED:20230619T142647Z
UID:10286949-1864105200-1864107000@stmichaels-litchfield.org
SUMMARY:AA Meeting in the Parish House Library
DESCRIPTION:
URL:https://stmichaels-litchfield.org/event/aa-meeting-in-the-library/2029-01-26/
LOCATION:Parish House Library\, 25 South Street\, Litchfield\, CT\, 06759\, United States
CATEGORIES:AA/NA Events
END:VEVENT
BEGIN:VEVENT
DTSTART;TZID=America/New_York:20290126T093000
DTEND;TZID=America/New_York:20290126T143000
DTSTAMP:20260424T063224
CREATED:20260128T181432Z
LAST-MODIFIED:20260128T181726Z
UID:10292050-1864114200-1864132200@stmichaels-litchfield.org
SUMMARY:Church Office Open
DESCRIPTION:
URL:https://stmichaels-litchfield.org/event/church-office-open-14/2029-01-26/
LOCATION:Church Office\, 25 South Street\, Litchfield\, CT\, 06759\, United States
CATEGORIES:Church Office Event
END:VEVENT
BEGIN:VEVENT
DTSTART;TZID=America/New_York:20290128T080000
DTEND;TZID=America/New_York:20290128T090000
DTSTAMP:20260424T063224
CREATED:20211108T181651Z
LAST-MODIFIED:20260327T134504Z
UID:10020547-1864281600-1864285200@stmichaels-litchfield.org
SUMMARY:Eucharist\, Rite I
DESCRIPTION:Spoken\, no music
URL:https://stmichaels-litchfield.org/event/sunday-eucharist/2029-01-28/
LOCATION:Chapel\, 25 South Street\, Litchfield\, CT\, 06759\, United States
CATEGORIES:Church Event,Parish Events
END:VEVENT
BEGIN:VEVENT
DTSTART;TZID=America/New_York:20290128T100000
DTEND;TZID=America/New_York:20290128T110000
DTSTAMP:20260424T063224
CREATED:20250403T150154Z
LAST-MODIFIED:20260422T181447Z
UID:10020633-1864288800-1864292400@stmichaels-litchfield.org
SUMMARY:Sunday Eucharist\, Rite II
DESCRIPTION:Rite II with music \nFollowed by Coffee Hour in the Community House
URL:https://stmichaels-litchfield.org/event/sunday-eucharist-2-3/2029-01-28/
LOCATION:Church\, 25 South Street\, Litchfield\, CT\, 06759\, United States
CATEGORIES:Church Event,Parish Events
END:VEVENT
BEGIN:VEVENT
DTSTART;TZID=America/New_York:20290128T110000
DTEND;TZID=America/New_York:20290128T140000
DTSTAMP:20260424T063224
CREATED:20230711T182541Z
LAST-MODIFIED:20250806T192214Z
UID:10287237-1864292400-1864303200@stmichaels-litchfield.org
SUMMARY:Coffee and Fellowship in the Community House
DESCRIPTION:
URL:https://stmichaels-litchfield.org/event/coffee-and-congregation-in-the-community-house/2029-01-28/
LOCATION:Community House in Library from April 9th forward
CATEGORIES:Church Event
END:VEVENT
BEGIN:VEVENT
DTSTART;TZID=America/New_York:20290128T190000
DTEND;TZID=America/New_York:20290128T200000
DTSTAMP:20260424T063224
CREATED:20230619T142544Z
LAST-MODIFIED:20260416T160049Z
UID:10296136-1864321200-1864324800@stmichaels-litchfield.org
SUMMARY:AA Meeting in Community House
DESCRIPTION:
URL:https://stmichaels-litchfield.org/event/aa-meeting-in-community-house/2029-01-28/
LOCATION:Community House in Library from April 9th forward
END:VEVENT
BEGIN:VEVENT
DTSTART;VALUE=DATE:20290129
DTEND;VALUE=DATE:20290130
DTSTAMP:20260424T063224
CREATED:20260128T181321Z
LAST-MODIFIED:20260128T181322Z
UID:10291297-1864339200-1864425599@stmichaels-litchfield.org
SUMMARY:Church Office Closed
DESCRIPTION:
URL:https://stmichaels-litchfield.org/event/summer-schedule-church-office-closed-2-2-2-3/2029-01-29/
LOCATION:Church Office\, 25 South Street\, Litchfield\, CT\, 06759\, United States
CATEGORIES:Church Office Event
END:VEVENT
BEGIN:VEVENT
DTSTART;TZID=America/New_York:20290129T070000
DTEND;TZID=America/New_York:20290129T073000
DTSTAMP:20260424T063224
CREATED:20230606T184551Z
LAST-MODIFIED:20230619T142647Z
UID:10286950-1864364400-1864366200@stmichaels-litchfield.org
SUMMARY:AA Meeting in the Parish House Library
DESCRIPTION:
URL:https://stmichaels-litchfield.org/event/aa-meeting-in-the-library/2029-01-29/
LOCATION:Parish House Library\, 25 South Street\, Litchfield\, CT\, 06759\, United States
CATEGORIES:AA/NA Events
END:VEVENT
END:VCALENDAR