BEGIN:VCALENDAR
VERSION:2.0
PRODID:-//St. Michael&#039;s Church - ECPv6.15.20//NONSGML v1.0//EN
CALSCALE:GREGORIAN
METHOD:PUBLISH
X-ORIGINAL-URL:https://stmichaels-litchfield.org
X-WR-CALDESC:Events for St. Michael&#039;s Church
REFRESH-INTERVAL;VALUE=DURATION:PT1H
X-Robots-Tag:noindex
X-PUBLISHED-TTL:PT1H
BEGIN:VTIMEZONE
TZID:America/New_York
BEGIN:DAYLIGHT
TZOFFSETFROM:-0500
TZOFFSETTO:-0400
TZNAME:EDT
DTSTART:20270314T070000
END:DAYLIGHT
BEGIN:STANDARD
TZOFFSETFROM:-0400
TZOFFSETTO:-0500
TZNAME:EST
DTSTART:20271107T060000
END:STANDARD
BEGIN:DAYLIGHT
TZOFFSETFROM:-0500
TZOFFSETTO:-0400
TZNAME:EDT
DTSTART:20280312T070000
END:DAYLIGHT
BEGIN:STANDARD
TZOFFSETFROM:-0400
TZOFFSETTO:-0500
TZNAME:EST
DTSTART:20281105T060000
END:STANDARD
BEGIN:DAYLIGHT
TZOFFSETFROM:-0500
TZOFFSETTO:-0400
TZNAME:EDT
DTSTART:20290311T070000
END:DAYLIGHT
BEGIN:STANDARD
TZOFFSETFROM:-0400
TZOFFSETTO:-0500
TZNAME:EST
DTSTART:20291104T060000
END:STANDARD
BEGIN:DAYLIGHT
TZOFFSETFROM:-0500
TZOFFSETTO:-0400
TZNAME:EDT
DTSTART:20300310T070000
END:DAYLIGHT
BEGIN:STANDARD
TZOFFSETFROM:-0400
TZOFFSETTO:-0500
TZNAME:EST
DTSTART:20301103T060000
END:STANDARD
END:VTIMEZONE
BEGIN:VEVENT
DTSTART;TZID=America/New_York:20281224T110000
DTEND;TZID=America/New_York:20281224T140000
DTSTAMP:20260424T113531
CREATED:20230711T182541Z
LAST-MODIFIED:20250806T192214Z
UID:10014996-1861268400-1861279200@stmichaels-litchfield.org
SUMMARY:Coffee and Fellowship in the Community House
DESCRIPTION:
URL:https://stmichaels-litchfield.org/event/coffee-and-congregation-in-the-community-house/2028-12-24/
LOCATION:Community House in Library from April 9th forward
CATEGORIES:Church Event
END:VEVENT
BEGIN:VEVENT
DTSTART;TZID=America/New_York:20281224T190000
DTEND;TZID=America/New_York:20281224T200000
DTSTAMP:20260424T113531
CREATED:20230619T142544Z
LAST-MODIFIED:20260416T160049Z
UID:10296131-1861297200-1861300800@stmichaels-litchfield.org
SUMMARY:AA Meeting in Community House
DESCRIPTION:
URL:https://stmichaels-litchfield.org/event/aa-meeting-in-community-house/2028-12-24/
LOCATION:Community House in Library from April 9th forward
END:VEVENT
BEGIN:VEVENT
DTSTART;VALUE=DATE:20281225
DTEND;VALUE=DATE:20281226
DTSTAMP:20260424T113531
CREATED:20260128T181321Z
LAST-MODIFIED:20260128T181322Z
UID:10291292-1861315200-1861401599@stmichaels-litchfield.org
SUMMARY:Church Office Closed
DESCRIPTION:
URL:https://stmichaels-litchfield.org/event/summer-schedule-church-office-closed-2-2-2-3/2028-12-25/
LOCATION:Church Office\, 25 South Street\, Litchfield\, CT\, 06759\, United States
CATEGORIES:Church Office Event
END:VEVENT
BEGIN:VEVENT
DTSTART;TZID=America/New_York:20281225T070000
DTEND;TZID=America/New_York:20281225T073000
DTSTAMP:20260424T113531
CREATED:20230606T184551Z
LAST-MODIFIED:20230619T142647Z
UID:10286935-1861340400-1861342200@stmichaels-litchfield.org
SUMMARY:AA Meeting in the Parish House Library
DESCRIPTION:
URL:https://stmichaels-litchfield.org/event/aa-meeting-in-the-library/2028-12-25/
LOCATION:Parish House Library\, 25 South Street\, Litchfield\, CT\, 06759\, United States
CATEGORIES:AA/NA Events
END:VEVENT
BEGIN:VEVENT
DTSTART;TZID=America/New_York:20281225T200000
DTEND;TZID=America/New_York:20281225T213000
DTSTAMP:20260424T113531
CREATED:20260218T173517Z
LAST-MODIFIED:20260218T173517Z
UID:10292715-1861387200-1861392600@stmichaels-litchfield.org
SUMMARY:AA meeting in the Community House
DESCRIPTION:
URL:https://stmichaels-litchfield.org/event/aa-meeting-in-the-community-house-2/2028-12-25/
END:VEVENT
BEGIN:VEVENT
DTSTART;TZID=America/New_York:20281226T093000
DTEND;TZID=America/New_York:20281226T143000
DTSTAMP:20260424T113531
CREATED:20260128T181432Z
LAST-MODIFIED:20260128T181726Z
UID:10292031-1861435800-1861453800@stmichaels-litchfield.org
SUMMARY:Church Office Open
DESCRIPTION:
URL:https://stmichaels-litchfield.org/event/church-office-open-14/2028-12-26/
LOCATION:Church Office\, 25 South Street\, Litchfield\, CT\, 06759\, United States
CATEGORIES:Church Office Event
END:VEVENT
BEGIN:VEVENT
DTSTART;TZID=America/New_York:20281226T160000
DTEND;TZID=America/New_York:20281226T173000
DTSTAMP:20260424T113531
CREATED:20260331T205128Z
LAST-MODIFIED:20260331T205254Z
UID:10294839-1861459200-1861464600@stmichaels-litchfield.org
SUMMARY:Priest Search Committee
DESCRIPTION:
URL:https://stmichaels-litchfield.org/event/priest-search-committee-3-2-5/2028-12-26/
LOCATION:Parish House Library\, 25 South Street\, Litchfield\, CT\, 06759\, United States
END:VEVENT
BEGIN:VEVENT
DTSTART;TZID=America/New_York:20281226T190000
DTEND;TZID=America/New_York:20281226T200000
DTSTAMP:20260424T113531
CREATED:20211108T175914Z
LAST-MODIFIED:20260130T014621Z
UID:10286648-1861470000-1861473600@stmichaels-litchfield.org
SUMMARY:AA Meeting in Community House
DESCRIPTION:
URL:https://stmichaels-litchfield.org/event/aa-group-in-community-house-2/2028-12-26/
LOCATION:Community House in Library from April 9th forward
CATEGORIES:AA/NA Events
END:VEVENT
BEGIN:VEVENT
DTSTART;TZID=America/New_York:20281227T070000
DTEND;TZID=America/New_York:20281227T073000
DTSTAMP:20260424T113531
CREATED:20230606T184551Z
LAST-MODIFIED:20230619T142647Z
UID:10286936-1861513200-1861515000@stmichaels-litchfield.org
SUMMARY:AA Meeting in the Parish House Library
DESCRIPTION:
URL:https://stmichaels-litchfield.org/event/aa-meeting-in-the-library/2028-12-27/
LOCATION:Parish House Library\, 25 South Street\, Litchfield\, CT\, 06759\, United States
CATEGORIES:AA/NA Events
END:VEVENT
BEGIN:VEVENT
DTSTART;TZID=America/New_York:20281227T083000
DTEND;TZID=America/New_York:20281227T110000
DTSTAMP:20260424T113531
CREATED:20250109T152013Z
LAST-MODIFIED:20250109T152013Z
UID:10019583-1861518600-1861527600@stmichaels-litchfield.org
SUMMARY:Greenwoods Counseling
DESCRIPTION:
URL:https://stmichaels-litchfield.org/event/greenwoods-counseling-7/2028-12-27/
CATEGORIES:Greenwoods Counseling
END:VEVENT
BEGIN:VEVENT
DTSTART;TZID=America/New_York:20281227T093000
DTEND;TZID=America/New_York:20281227T143000
DTSTAMP:20260424T113531
CREATED:20260128T181432Z
LAST-MODIFIED:20260128T181726Z
UID:10292032-1861522200-1861540200@stmichaels-litchfield.org
SUMMARY:Church Office Open
DESCRIPTION:
URL:https://stmichaels-litchfield.org/event/church-office-open-14/2028-12-27/
LOCATION:Church Office\, 25 South Street\, Litchfield\, CT\, 06759\, United States
CATEGORIES:Church Office Event
END:VEVENT
BEGIN:VEVENT
DTSTART;TZID=America/New_York:20281227T173000
DTEND;TZID=America/New_York:20281227T180000
DTSTAMP:20260424T113531
CREATED:20260327T155546Z
LAST-MODIFIED:20260422T175057Z
UID:10294580-1861551000-1861552800@stmichaels-litchfield.org
SUMMARY:Chanted Evening Prayer
DESCRIPTION:
URL:https://stmichaels-litchfield.org/event/chanted-evening-prayer-3/2028-12-27/
LOCATION:Chapel\, 25 South Street\, Litchfield\, CT\, 06759\, United States
CATEGORIES:Church Event
END:VEVENT
BEGIN:VEVENT
DTSTART;TZID=America/New_York:20281227T193000
DTEND;TZID=America/New_York:20281227T210000
DTSTAMP:20260424T113531
CREATED:20211108T180816Z
LAST-MODIFIED:20230714T003135Z
UID:10286748-1861558200-1861563600@stmichaels-litchfield.org
SUMMARY:NA meeting in Community House
DESCRIPTION:
URL:https://stmichaels-litchfield.org/event/narcotics-anonymous/2028-12-27/
LOCATION:Community House in Library from April 9th forward
CATEGORIES:AA/NA Events
END:VEVENT
BEGIN:VEVENT
DTSTART;TZID=America/New_York:20281228T093000
DTEND;TZID=America/New_York:20281228T143000
DTSTAMP:20260424T113531
CREATED:20260128T181432Z
LAST-MODIFIED:20260128T181726Z
UID:10292033-1861608600-1861626600@stmichaels-litchfield.org
SUMMARY:Church Office Open
DESCRIPTION:
URL:https://stmichaels-litchfield.org/event/church-office-open-14/2028-12-28/
LOCATION:Church Office\, 25 South Street\, Litchfield\, CT\, 06759\, United States
CATEGORIES:Church Office Event
END:VEVENT
BEGIN:VEVENT
DTSTART;TZID=America/New_York:20281229T070000
DTEND;TZID=America/New_York:20281229T073000
DTSTAMP:20260424T113531
CREATED:20230606T184551Z
LAST-MODIFIED:20230619T142647Z
UID:10286937-1861686000-1861687800@stmichaels-litchfield.org
SUMMARY:AA Meeting in the Parish House Library
DESCRIPTION:
URL:https://stmichaels-litchfield.org/event/aa-meeting-in-the-library/2028-12-29/
LOCATION:Parish House Library\, 25 South Street\, Litchfield\, CT\, 06759\, United States
CATEGORIES:AA/NA Events
END:VEVENT
BEGIN:VEVENT
DTSTART;TZID=America/New_York:20281229T093000
DTEND;TZID=America/New_York:20281229T143000
DTSTAMP:20260424T113531
CREATED:20260128T181432Z
LAST-MODIFIED:20260128T181726Z
UID:10292034-1861695000-1861713000@stmichaels-litchfield.org
SUMMARY:Church Office Open
DESCRIPTION:
URL:https://stmichaels-litchfield.org/event/church-office-open-14/2028-12-29/
LOCATION:Church Office\, 25 South Street\, Litchfield\, CT\, 06759\, United States
CATEGORIES:Church Office Event
END:VEVENT
BEGIN:VEVENT
DTSTART;TZID=America/New_York:20281231T080000
DTEND;TZID=America/New_York:20281231T090000
DTSTAMP:20260424T113531
CREATED:20211108T181651Z
LAST-MODIFIED:20260327T134504Z
UID:10020543-1861862400-1861866000@stmichaels-litchfield.org
SUMMARY:Eucharist\, Rite I
DESCRIPTION:Spoken\, no music
URL:https://stmichaels-litchfield.org/event/sunday-eucharist/2028-12-31/
LOCATION:Chapel\, 25 South Street\, Litchfield\, CT\, 06759\, United States
CATEGORIES:Church Event,Parish Events
END:VEVENT
BEGIN:VEVENT
DTSTART;TZID=America/New_York:20281231T100000
DTEND;TZID=America/New_York:20281231T110000
DTSTAMP:20260424T113532
CREATED:20250403T150154Z
LAST-MODIFIED:20260422T181447Z
UID:10020629-1861869600-1861873200@stmichaels-litchfield.org
SUMMARY:Sunday Eucharist\, Rite II
DESCRIPTION:Rite II with music \nFollowed by Coffee Hour in the Community House
URL:https://stmichaels-litchfield.org/event/sunday-eucharist-2-3/2028-12-31/
LOCATION:Church\, 25 South Street\, Litchfield\, CT\, 06759\, United States
CATEGORIES:Church Event,Parish Events
END:VEVENT
BEGIN:VEVENT
DTSTART;TZID=America/New_York:20281231T110000
DTEND;TZID=America/New_York:20281231T140000
DTSTAMP:20260424T113532
CREATED:20230711T182541Z
LAST-MODIFIED:20250806T192214Z
UID:10287233-1861873200-1861884000@stmichaels-litchfield.org
SUMMARY:Coffee and Fellowship in the Community House
DESCRIPTION:
URL:https://stmichaels-litchfield.org/event/coffee-and-congregation-in-the-community-house/2028-12-31/
LOCATION:Community House in Library from April 9th forward
CATEGORIES:Church Event
END:VEVENT
BEGIN:VEVENT
DTSTART;TZID=America/New_York:20281231T190000
DTEND;TZID=America/New_York:20281231T200000
DTSTAMP:20260424T113532
CREATED:20230619T142544Z
LAST-MODIFIED:20260416T160049Z
UID:10296132-1861902000-1861905600@stmichaels-litchfield.org
SUMMARY:AA Meeting in Community House
DESCRIPTION:
URL:https://stmichaels-litchfield.org/event/aa-meeting-in-community-house/2028-12-31/
LOCATION:Community House in Library from April 9th forward
END:VEVENT
BEGIN:VEVENT
DTSTART;VALUE=DATE:20290101
DTEND;VALUE=DATE:20290102
DTSTAMP:20260424T113532
CREATED:20260128T181321Z
LAST-MODIFIED:20260128T181322Z
UID:10291293-1861920000-1862006399@stmichaels-litchfield.org
SUMMARY:Church Office Closed
DESCRIPTION:
URL:https://stmichaels-litchfield.org/event/summer-schedule-church-office-closed-2-2-2-3/2029-01-01/
LOCATION:Church Office\, 25 South Street\, Litchfield\, CT\, 06759\, United States
CATEGORIES:Church Office Event
END:VEVENT
BEGIN:VEVENT
DTSTART;TZID=America/New_York:20290101T070000
DTEND;TZID=America/New_York:20290101T073000
DTSTAMP:20260424T113532
CREATED:20230606T184551Z
LAST-MODIFIED:20230619T142647Z
UID:10286938-1861945200-1861947000@stmichaels-litchfield.org
SUMMARY:AA Meeting in the Parish House Library
DESCRIPTION:
URL:https://stmichaels-litchfield.org/event/aa-meeting-in-the-library/2029-01-01/
LOCATION:Parish House Library\, 25 South Street\, Litchfield\, CT\, 06759\, United States
CATEGORIES:AA/NA Events
END:VEVENT
BEGIN:VEVENT
DTSTART;TZID=America/New_York:20290101T200000
DTEND;TZID=America/New_York:20290101T213000
DTSTAMP:20260424T113532
CREATED:20260218T173517Z
LAST-MODIFIED:20260218T173517Z
UID:10292716-1861992000-1861997400@stmichaels-litchfield.org
SUMMARY:AA meeting in the Community House
DESCRIPTION:
URL:https://stmichaels-litchfield.org/event/aa-meeting-in-the-community-house-2/2029-01-01/
END:VEVENT
BEGIN:VEVENT
DTSTART;TZID=America/New_York:20290102T093000
DTEND;TZID=America/New_York:20290102T143000
DTSTAMP:20260424T113532
CREATED:20260128T181432Z
LAST-MODIFIED:20260128T181726Z
UID:10292035-1862040600-1862058600@stmichaels-litchfield.org
SUMMARY:Church Office Open
DESCRIPTION:
URL:https://stmichaels-litchfield.org/event/church-office-open-14/2029-01-02/
LOCATION:Church Office\, 25 South Street\, Litchfield\, CT\, 06759\, United States
CATEGORIES:Church Office Event
END:VEVENT
BEGIN:VEVENT
DTSTART;TZID=America/New_York:20290102T160000
DTEND;TZID=America/New_York:20290102T173000
DTSTAMP:20260424T113532
CREATED:20260331T205128Z
LAST-MODIFIED:20260331T205254Z
UID:10294840-1862064000-1862069400@stmichaels-litchfield.org
SUMMARY:Priest Search Committee
DESCRIPTION:
URL:https://stmichaels-litchfield.org/event/priest-search-committee-3-2-5/2029-01-02/
LOCATION:Parish House Library\, 25 South Street\, Litchfield\, CT\, 06759\, United States
END:VEVENT
BEGIN:VEVENT
DTSTART;TZID=America/New_York:20290102T171500
DTEND;TZID=America/New_York:20290102T183000
DTSTAMP:20260424T113532
CREATED:20231227T151453Z
LAST-MODIFIED:20260317T155826Z
UID:10293670-1862068500-1862073000@stmichaels-litchfield.org
SUMMARY:Property Committee Meeting in Parish House Library
DESCRIPTION:
URL:https://stmichaels-litchfield.org/event/property-committee-meeting-in-parish-house-library-3/2029-01-02/
LOCATION:Parish House Library\, 25 South Street\, Litchfield\, CT\, 06759\, United States
CATEGORIES:Church Event
END:VEVENT
BEGIN:VEVENT
DTSTART;TZID=America/New_York:20290102T190000
DTEND;TZID=America/New_York:20290102T200000
DTSTAMP:20260424T113532
CREATED:20211108T175914Z
LAST-MODIFIED:20260130T014621Z
UID:10286649-1862074800-1862078400@stmichaels-litchfield.org
SUMMARY:AA Meeting in Community House
DESCRIPTION:
URL:https://stmichaels-litchfield.org/event/aa-group-in-community-house-2/2029-01-02/
LOCATION:Community House in Library from April 9th forward
CATEGORIES:AA/NA Events
END:VEVENT
BEGIN:VEVENT
DTSTART;TZID=America/New_York:20290103T070000
DTEND;TZID=America/New_York:20290103T073000
DTSTAMP:20260424T113532
CREATED:20230606T184551Z
LAST-MODIFIED:20230619T142647Z
UID:10286939-1862118000-1862119800@stmichaels-litchfield.org
SUMMARY:AA Meeting in the Parish House Library
DESCRIPTION:
URL:https://stmichaels-litchfield.org/event/aa-meeting-in-the-library/2029-01-03/
LOCATION:Parish House Library\, 25 South Street\, Litchfield\, CT\, 06759\, United States
CATEGORIES:AA/NA Events
END:VEVENT
BEGIN:VEVENT
DTSTART;TZID=America/New_York:20290103T083000
DTEND;TZID=America/New_York:20290103T110000
DTSTAMP:20260424T113532
CREATED:20250109T152013Z
LAST-MODIFIED:20250109T152013Z
UID:10019584-1862123400-1862132400@stmichaels-litchfield.org
SUMMARY:Greenwoods Counseling
DESCRIPTION:
URL:https://stmichaels-litchfield.org/event/greenwoods-counseling-7/2029-01-03/
CATEGORIES:Greenwoods Counseling
END:VEVENT
BEGIN:VEVENT
DTSTART;TZID=America/New_York:20290103T093000
DTEND;TZID=America/New_York:20290103T143000
DTSTAMP:20260424T113532
CREATED:20260128T181432Z
LAST-MODIFIED:20260128T181726Z
UID:10292036-1862127000-1862145000@stmichaels-litchfield.org
SUMMARY:Church Office Open
DESCRIPTION:
URL:https://stmichaels-litchfield.org/event/church-office-open-14/2029-01-03/
LOCATION:Church Office\, 25 South Street\, Litchfield\, CT\, 06759\, United States
CATEGORIES:Church Office Event
END:VEVENT
END:VCALENDAR