BEGIN:VCALENDAR
VERSION:2.0
PRODID:-//St. Michael&#039;s Church - ECPv6.15.20//NONSGML v1.0//EN
CALSCALE:GREGORIAN
METHOD:PUBLISH
X-WR-CALNAME:St. Michael&#039;s Church
X-ORIGINAL-URL:https://stmichaels-litchfield.org
X-WR-CALDESC:Events for St. Michael&#039;s Church
REFRESH-INTERVAL;VALUE=DURATION:PT1H
X-Robots-Tag:noindex
X-PUBLISHED-TTL:PT1H
BEGIN:VTIMEZONE
TZID:America/New_York
BEGIN:DAYLIGHT
TZOFFSETFROM:-0500
TZOFFSETTO:-0400
TZNAME:EDT
DTSTART:20230312T070000
END:DAYLIGHT
BEGIN:STANDARD
TZOFFSETFROM:-0400
TZOFFSETTO:-0500
TZNAME:EST
DTSTART:20231105T060000
END:STANDARD
BEGIN:DAYLIGHT
TZOFFSETFROM:-0500
TZOFFSETTO:-0400
TZNAME:EDT
DTSTART:20240310T070000
END:DAYLIGHT
BEGIN:STANDARD
TZOFFSETFROM:-0400
TZOFFSETTO:-0500
TZNAME:EST
DTSTART:20241103T060000
END:STANDARD
BEGIN:DAYLIGHT
TZOFFSETFROM:-0500
TZOFFSETTO:-0400
TZNAME:EDT
DTSTART:20250309T070000
END:DAYLIGHT
BEGIN:STANDARD
TZOFFSETFROM:-0400
TZOFFSETTO:-0500
TZNAME:EST
DTSTART:20251102T060000
END:STANDARD
END:VTIMEZONE
BEGIN:VEVENT
DTSTART;TZID=America/New_York:20241030T110000
DTEND;TZID=America/New_York:20241030T133000
DTSTAMP:20260423T184502
CREATED:20231012T152740Z
LAST-MODIFIED:20231012T152740Z
UID:10013890-1730286000-1730295000@stmichaels-litchfield.org
SUMMARY:Greenwoods Counselling All Staff Meeting in the Community House
DESCRIPTION:
URL:https://stmichaels-litchfield.org/event/greenwoods-counselling-all-staff-meeting-in-the-community-house/2024-10-30/
LOCATION:Community House in Library from April 9th forward
CATEGORIES:Greenwoods Counseling
END:VEVENT
BEGIN:VEVENT
DTSTART;TZID=America/New_York:20241030T100000
DTEND;TZID=America/New_York:20241030T130000
DTSTAMP:20260423T184502
CREATED:20240206T174237Z
LAST-MODIFIED:20240223T173652Z
UID:10017054-1730282400-1730293200@stmichaels-litchfield.org
SUMMARY:Church Office Open
DESCRIPTION:
URL:https://stmichaels-litchfield.org/event/church-office-open-3-4-2/2024-10-30/
LOCATION:Church Office\, 25 South Street\, Litchfield\, CT\, 06759\, United States
END:VEVENT
BEGIN:VEVENT
DTSTART;TZID=America/New_York:20241030T090000
DTEND;TZID=America/New_York:20241030T130000
DTSTAMP:20260423T184502
CREATED:20240206T174110Z
LAST-MODIFIED:20260107T171415Z
UID:10288660-1730278800-1730293200@stmichaels-litchfield.org
SUMMARY:Church Office Open
DESCRIPTION:
URL:https://stmichaels-litchfield.org/event/church-office-open-2-2-2-2/2024-10-30/
LOCATION:Church Office\, 25 South Street\, Litchfield\, CT\, 06759\, United States
CATEGORIES:Church Office Event
END:VEVENT
BEGIN:VEVENT
DTSTART;TZID=America/New_York:20241030T090000
DTEND;TZID=America/New_York:20241030T110000
DTSTAMP:20260423T184502
CREATED:20240103T135757Z
LAST-MODIFIED:20240103T135757Z
UID:10015041-1730278800-1730286000@stmichaels-litchfield.org
SUMMARY:Greenwoods Clinical Meeting in Community House
DESCRIPTION:
URL:https://stmichaels-litchfield.org/event/greenwoods-clinical-meeting-in-community-house/2024-10-30/
LOCATION:Community House in Library from April 9th forward
CATEGORIES:Greenwoods Counseling
ORGANIZER;CN="Michelle Sonnati":MAILTO:msonnati@greenwoodsreferrals.org
END:VEVENT
BEGIN:VEVENT
DTSTART;TZID=America/New_York:20241030T070000
DTEND;TZID=America/New_York:20241030T073000
DTSTAMP:20260423T184502
CREATED:20230606T184551Z
LAST-MODIFIED:20230619T142647Z
UID:10005888-1730271600-1730273400@stmichaels-litchfield.org
SUMMARY:AA Meeting in the Parish House Library
DESCRIPTION:
URL:https://stmichaels-litchfield.org/event/aa-meeting-in-the-library/2024-10-30/
LOCATION:Parish House Library\, 25 South Street\, Litchfield\, CT\, 06759\, United States
CATEGORIES:AA/NA Events
END:VEVENT
BEGIN:VEVENT
DTSTART;TZID=America/New_York:20241029T190000
DTEND;TZID=America/New_York:20241029T200000
DTSTAMP:20260423T184502
CREATED:20211108T175914Z
LAST-MODIFIED:20260130T014621Z
UID:10010028-1730228400-1730232000@stmichaels-litchfield.org
SUMMARY:AA Meeting in Community House
DESCRIPTION:
URL:https://stmichaels-litchfield.org/event/aa-group-in-community-house-2/2024-10-29/
LOCATION:Community House in Library from April 9th forward
CATEGORIES:AA/NA Events
END:VEVENT
BEGIN:VEVENT
DTSTART;TZID=America/New_York:20241029T090000
DTEND;TZID=America/New_York:20241029T130000
DTSTAMP:20260423T184502
CREATED:20240206T174110Z
LAST-MODIFIED:20260107T171415Z
UID:10020731-1730192400-1730206800@stmichaels-litchfield.org
SUMMARY:Church Office Open
DESCRIPTION:
URL:https://stmichaels-litchfield.org/event/church-office-open-2-2-2-2/2024-10-29/
LOCATION:Church Office\, 25 South Street\, Litchfield\, CT\, 06759\, United States
CATEGORIES:Church Office Event
END:VEVENT
BEGIN:VEVENT
DTSTART;TZID=America/New_York:20241029T090000
DTEND;TZID=America/New_York:20241029T110000
DTSTAMP:20260423T184502
CREATED:20240621T134514Z
LAST-MODIFIED:20240621T134514Z
UID:10019177-1730192400-1730199600@stmichaels-litchfield.org
SUMMARY:Greenwoods Counseling
DESCRIPTION:
URL:https://stmichaels-litchfield.org/event/greenwoods-counseling/2024-10-29/
LOCATION:Community House in Library from April 9th forward
END:VEVENT
BEGIN:VEVENT
DTSTART;TZID=America/New_York:20241028T100000
DTEND;TZID=America/New_York:20241028T130000
DTSTAMP:20260423T184502
CREATED:20240206T173900Z
LAST-MODIFIED:20240223T172212Z
UID:10016532-1730109600-1730120400@stmichaels-litchfield.org
SUMMARY:Church Office Open
DESCRIPTION:
URL:https://stmichaels-litchfield.org/event/church-office-open-7-5-2/2024-10-28/
LOCATION:Church Office\, 25 South Street\, Litchfield\, CT\, 06759\, United States
END:VEVENT
BEGIN:VEVENT
DTSTART;TZID=America/New_York:20241028T090000
DTEND;TZID=America/New_York:20241028T130000
DTSTAMP:20260423T184502
CREATED:20240206T174110Z
LAST-MODIFIED:20260107T171415Z
UID:10288659-1730106000-1730120400@stmichaels-litchfield.org
SUMMARY:Church Office Open
DESCRIPTION:
URL:https://stmichaels-litchfield.org/event/church-office-open-2-2-2-2/2024-10-28/
LOCATION:Church Office\, 25 South Street\, Litchfield\, CT\, 06759\, United States
CATEGORIES:Church Office Event
END:VEVENT
BEGIN:VEVENT
DTSTART;TZID=America/New_York:20241028T070000
DTEND;TZID=America/New_York:20241028T073000
DTSTAMP:20260423T184502
CREATED:20230606T184551Z
LAST-MODIFIED:20230619T142647Z
UID:10005887-1730098800-1730100600@stmichaels-litchfield.org
SUMMARY:AA Meeting in the Parish House Library
DESCRIPTION:
URL:https://stmichaels-litchfield.org/event/aa-meeting-in-the-library/2024-10-28/
LOCATION:Parish House Library\, 25 South Street\, Litchfield\, CT\, 06759\, United States
CATEGORIES:AA/NA Events
END:VEVENT
BEGIN:VEVENT
DTSTART;TZID=America/New_York:20241027T190000
DTEND;TZID=America/New_York:20241027T200000
DTSTAMP:20260423T184502
CREATED:20230619T142544Z
LAST-MODIFIED:20260416T160049Z
UID:10009824-1730055600-1730059200@stmichaels-litchfield.org
SUMMARY:AA Meeting in Community House
DESCRIPTION:
URL:https://stmichaels-litchfield.org/event/aa-meeting-in-community-house/2024-10-27/
LOCATION:Community House in Library from April 9th forward
END:VEVENT
BEGIN:VEVENT
DTSTART;TZID=America/New_York:20241027T110000
DTEND;TZID=America/New_York:20241027T140000
DTSTAMP:20260423T184502
CREATED:20230711T182541Z
LAST-MODIFIED:20250806T192214Z
UID:10011979-1730026800-1730037600@stmichaels-litchfield.org
SUMMARY:Coffee and Fellowship in the Community House
DESCRIPTION:
URL:https://stmichaels-litchfield.org/event/coffee-and-congregation-in-the-community-house/2024-10-27/
LOCATION:Community House in Library from April 9th forward
CATEGORIES:Church Event
END:VEVENT
BEGIN:VEVENT
DTSTART;TZID=America/New_York:20241027T100000
DTEND;TZID=America/New_York:20241027T110000
DTSTAMP:20260423T184502
CREATED:20211108T181948Z
LAST-MODIFIED:20250403T150318Z
UID:10012640-1730023200-1730026800@stmichaels-litchfield.org
SUMMARY:Sunday Eucharist\, Rite II
DESCRIPTION:Rite II with Choir \nFollowed by Coffee Hour in the Community House
URL:https://stmichaels-litchfield.org/event/sunday-eucharist-2/2024-10-27/
CATEGORIES:Parish Events
END:VEVENT
BEGIN:VEVENT
DTSTART;TZID=America/New_York:20241027T080000
DTEND;TZID=America/New_York:20241027T090000
DTSTAMP:20260423T184502
CREATED:20211108T181651Z
LAST-MODIFIED:20260327T134504Z
UID:10003422-1730016000-1730019600@stmichaels-litchfield.org
SUMMARY:Eucharist\, Rite I
DESCRIPTION:Spoken\, no music
URL:https://stmichaels-litchfield.org/event/sunday-eucharist/2024-10-27/
LOCATION:Chapel\, 25 South Street\, Litchfield\, CT\, 06759\, United States
CATEGORIES:Church Event,Parish Events
END:VEVENT
BEGIN:VEVENT
DTSTART;TZID=America/New_York:20241026T083000
DTEND;TZID=America/New_York:20241026T093000
DTSTAMP:20260423T184502
CREATED:20230619T143626Z
LAST-MODIFIED:20230619T143720Z
UID:10010634-1729931400-1729935000@stmichaels-litchfield.org
SUMMARY:AA Meeting in Parish House Library
DESCRIPTION:
URL:https://stmichaels-litchfield.org/event/aa-meeting-in-community-house-2/2024-10-26/
LOCATION:Community House in Library from April 9th forward
CATEGORIES:AA/NA Events
END:VEVENT
BEGIN:VEVENT
DTSTART;TZID=America/New_York:20241025T100000
DTEND;TZID=America/New_York:20241025T130000
DTSTAMP:20260423T184502
CREATED:20240223T172033Z
LAST-MODIFIED:20240223T172034Z
UID:10016270-1729850400-1729861200@stmichaels-litchfield.org
SUMMARY:Church Office Open
DESCRIPTION:
URL:https://stmichaels-litchfield.org/event/summer-schedule-church-office-closed-2-2/2024-10-25/
LOCATION:Church Office\, 25 South Street\, Litchfield\, CT\, 06759\, United States
CATEGORIES:Church Office Event
END:VEVENT
BEGIN:VEVENT
DTSTART;TZID=America/New_York:20241025T070000
DTEND;TZID=America/New_York:20241025T073000
DTSTAMP:20260423T184502
CREATED:20230606T184551Z
LAST-MODIFIED:20230619T142647Z
UID:10005886-1729839600-1729841400@stmichaels-litchfield.org
SUMMARY:AA Meeting in the Parish House Library
DESCRIPTION:
URL:https://stmichaels-litchfield.org/event/aa-meeting-in-the-library/2024-10-25/
LOCATION:Parish House Library\, 25 South Street\, Litchfield\, CT\, 06759\, United States
CATEGORIES:AA/NA Events
END:VEVENT
BEGIN:VEVENT
DTSTART;TZID=America/New_York:20241024T100000
DTEND;TZID=America/New_York:20241024T130000
DTSTAMP:20260423T184502
CREATED:20240206T174423Z
LAST-MODIFIED:20240223T173813Z
UID:10017314-1729764000-1729774800@stmichaels-litchfield.org
SUMMARY:Church Office Open
DESCRIPTION:
URL:https://stmichaels-litchfield.org/event/church-office-open-4-5-2/2024-10-24/
LOCATION:Church Office\, 25 South Street\, Litchfield\, CT\, 06759\, United States
END:VEVENT
BEGIN:VEVENT
DTSTART;TZID=America/New_York:20241024T090000
DTEND;TZID=America/New_York:20241024T130000
DTSTAMP:20260423T184502
CREATED:20240206T174110Z
LAST-MODIFIED:20260107T171415Z
UID:10288658-1729760400-1729774800@stmichaels-litchfield.org
SUMMARY:Church Office Open
DESCRIPTION:
URL:https://stmichaels-litchfield.org/event/church-office-open-2-2-2-2/2024-10-24/
LOCATION:Church Office\, 25 South Street\, Litchfield\, CT\, 06759\, United States
CATEGORIES:Church Office Event
END:VEVENT
BEGIN:VEVENT
DTSTART;TZID=America/New_York:20241023T193000
DTEND;TZID=America/New_York:20241023T210000
DTSTAMP:20260423T184502
CREATED:20211108T180816Z
LAST-MODIFIED:20230714T003135Z
UID:10012381-1729711800-1729717200@stmichaels-litchfield.org
SUMMARY:NA meeting in Community House
DESCRIPTION:
URL:https://stmichaels-litchfield.org/event/narcotics-anonymous/2024-10-23/
LOCATION:Community House in Library from April 9th forward
CATEGORIES:AA/NA Events
END:VEVENT
BEGIN:VEVENT
DTSTART;TZID=America/New_York:20241023T190000
DTEND;TZID=America/New_York:20241023T203000
DTSTAMP:20260423T184502
CREATED:20230817T183342Z
LAST-MODIFIED:20230817T183342Z
UID:10013057-1729710000-1729715400@stmichaels-litchfield.org
SUMMARY:Choir Rehearsal in Parish House Music Room
DESCRIPTION:
URL:https://stmichaels-litchfield.org/event/choir-rehearsal-in-parish-house-music-room/2024-10-23/
LOCATION:Parish House Music Room
CATEGORIES:Church Event
END:VEVENT
BEGIN:VEVENT
DTSTART;TZID=America/New_York:20241023T100000
DTEND;TZID=America/New_York:20241023T130000
DTSTAMP:20260423T184502
CREATED:20240206T174237Z
LAST-MODIFIED:20240223T173652Z
UID:10017053-1729677600-1729688400@stmichaels-litchfield.org
SUMMARY:Church Office Open
DESCRIPTION:
URL:https://stmichaels-litchfield.org/event/church-office-open-3-4-2/2024-10-23/
LOCATION:Church Office\, 25 South Street\, Litchfield\, CT\, 06759\, United States
END:VEVENT
BEGIN:VEVENT
DTSTART;TZID=America/New_York:20241023T090000
DTEND;TZID=America/New_York:20241023T130000
DTSTAMP:20260423T184502
CREATED:20240206T174110Z
LAST-MODIFIED:20260107T171415Z
UID:10288657-1729674000-1729688400@stmichaels-litchfield.org
SUMMARY:Church Office Open
DESCRIPTION:
URL:https://stmichaels-litchfield.org/event/church-office-open-2-2-2-2/2024-10-23/
LOCATION:Church Office\, 25 South Street\, Litchfield\, CT\, 06759\, United States
CATEGORIES:Church Office Event
END:VEVENT
BEGIN:VEVENT
DTSTART;TZID=America/New_York:20241023T090000
DTEND;TZID=America/New_York:20241023T110000
DTSTAMP:20260423T184502
CREATED:20240103T135757Z
LAST-MODIFIED:20240103T135757Z
UID:10015040-1729674000-1729681200@stmichaels-litchfield.org
SUMMARY:Greenwoods Clinical Meeting in Community House
DESCRIPTION:
URL:https://stmichaels-litchfield.org/event/greenwoods-clinical-meeting-in-community-house/2024-10-23/
LOCATION:Community House in Library from April 9th forward
CATEGORIES:Greenwoods Counseling
ORGANIZER;CN="Michelle Sonnati":MAILTO:msonnati@greenwoodsreferrals.org
END:VEVENT
BEGIN:VEVENT
DTSTART;TZID=America/New_York:20241023T070000
DTEND;TZID=America/New_York:20241023T073000
DTSTAMP:20260423T184502
CREATED:20230606T184551Z
LAST-MODIFIED:20230619T142647Z
UID:10005885-1729666800-1729668600@stmichaels-litchfield.org
SUMMARY:AA Meeting in the Parish House Library
DESCRIPTION:
URL:https://stmichaels-litchfield.org/event/aa-meeting-in-the-library/2024-10-23/
LOCATION:Parish House Library\, 25 South Street\, Litchfield\, CT\, 06759\, United States
CATEGORIES:AA/NA Events
END:VEVENT
BEGIN:VEVENT
DTSTART;TZID=America/New_York:20241022T190000
DTEND;TZID=America/New_York:20241022T200000
DTSTAMP:20260423T184502
CREATED:20211108T175914Z
LAST-MODIFIED:20260130T014621Z
UID:10010027-1729623600-1729627200@stmichaels-litchfield.org
SUMMARY:AA Meeting in Community House
DESCRIPTION:
URL:https://stmichaels-litchfield.org/event/aa-group-in-community-house-2/2024-10-22/
LOCATION:Community House in Library from April 9th forward
CATEGORIES:AA/NA Events
END:VEVENT
BEGIN:VEVENT
DTSTART;TZID=America/New_York:20241022T090000
DTEND;TZID=America/New_York:20241022T130000
DTSTAMP:20260423T184502
CREATED:20240206T174110Z
LAST-MODIFIED:20260107T171415Z
UID:10020730-1729587600-1729602000@stmichaels-litchfield.org
SUMMARY:Church Office Open
DESCRIPTION:
URL:https://stmichaels-litchfield.org/event/church-office-open-2-2-2-2/2024-10-22/
LOCATION:Church Office\, 25 South Street\, Litchfield\, CT\, 06759\, United States
CATEGORIES:Church Office Event
END:VEVENT
BEGIN:VEVENT
DTSTART;TZID=America/New_York:20241021T100000
DTEND;TZID=America/New_York:20241021T130000
DTSTAMP:20260423T184502
CREATED:20240206T173900Z
LAST-MODIFIED:20240223T172212Z
UID:10016531-1729504800-1729515600@stmichaels-litchfield.org
SUMMARY:Church Office Open
DESCRIPTION:
URL:https://stmichaels-litchfield.org/event/church-office-open-7-5-2/2024-10-21/
LOCATION:Church Office\, 25 South Street\, Litchfield\, CT\, 06759\, United States
END:VEVENT
BEGIN:VEVENT
DTSTART;TZID=America/New_York:20241021T090000
DTEND;TZID=America/New_York:20241021T130000
DTSTAMP:20260423T184502
CREATED:20240206T174110Z
LAST-MODIFIED:20260107T171415Z
UID:10288656-1729501200-1729515600@stmichaels-litchfield.org
SUMMARY:Church Office Open
DESCRIPTION:
URL:https://stmichaels-litchfield.org/event/church-office-open-2-2-2-2/2024-10-21/
LOCATION:Church Office\, 25 South Street\, Litchfield\, CT\, 06759\, United States
CATEGORIES:Church Office Event
END:VEVENT
END:VCALENDAR