BEGIN:VCALENDAR
VERSION:2.0
PRODID:-//St. Michael&#039;s Church - ECPv6.15.20//NONSGML v1.0//EN
CALSCALE:GREGORIAN
METHOD:PUBLISH
X-WR-CALNAME:St. Michael&#039;s Church
X-ORIGINAL-URL:https://stmichaels-litchfield.org
X-WR-CALDESC:Events for St. Michael&#039;s Church
REFRESH-INTERVAL;VALUE=DURATION:PT1H
X-Robots-Tag:noindex
X-PUBLISHED-TTL:PT1H
BEGIN:VTIMEZONE
TZID:America/New_York
BEGIN:DAYLIGHT
TZOFFSETFROM:-0500
TZOFFSETTO:-0400
TZNAME:EDT
DTSTART:20240310T070000
END:DAYLIGHT
BEGIN:STANDARD
TZOFFSETFROM:-0400
TZOFFSETTO:-0500
TZNAME:EST
DTSTART:20241103T060000
END:STANDARD
BEGIN:DAYLIGHT
TZOFFSETFROM:-0500
TZOFFSETTO:-0400
TZNAME:EDT
DTSTART:20250309T070000
END:DAYLIGHT
BEGIN:STANDARD
TZOFFSETFROM:-0400
TZOFFSETTO:-0500
TZNAME:EST
DTSTART:20251102T060000
END:STANDARD
BEGIN:DAYLIGHT
TZOFFSETFROM:-0500
TZOFFSETTO:-0400
TZNAME:EDT
DTSTART:20260308T070000
END:DAYLIGHT
BEGIN:STANDARD
TZOFFSETFROM:-0400
TZOFFSETTO:-0500
TZNAME:EST
DTSTART:20261101T060000
END:STANDARD
END:VTIMEZONE
BEGIN:VEVENT
DTSTART;TZID=America/New_York:20250815T160000
DTEND;TZID=America/New_York:20250815T180000
DTSTAMP:20260424T123916
CREATED:20250409T151303Z
LAST-MODIFIED:20250409T151303Z
UID:10021024-1755273600-1755280800@stmichaels-litchfield.org
SUMMARY:Perricone/Eubank Wedding Rehearsal
DESCRIPTION:
URL:https://stmichaels-litchfield.org/event/perricone-eubank-wedding-rehearsal/
LOCATION:Church\, 25 South Street\, Litchfield\, CT\, 06759\, United States
CATEGORIES:Wedding
END:VEVENT
BEGIN:VEVENT
DTSTART;TZID=America/New_York:20250815T133000
DTEND;TZID=America/New_York:20250815T153000
DTSTAMP:20260424T123916
CREATED:20250115T163522Z
LAST-MODIFIED:20250115T163522Z
UID:10019723-1755264600-1755271800@stmichaels-litchfield.org
SUMMARY:Italian Club
DESCRIPTION:
URL:https://stmichaels-litchfield.org/event/italian-club-3/2025-08-15/
LOCATION:Community House in Library from April 9th forward
CATEGORIES:Other Groups
END:VEVENT
BEGIN:VEVENT
DTSTART;TZID=America/New_York:20250815T100000
DTEND;TZID=America/New_York:20250815T130000
DTSTAMP:20260424T123916
CREATED:20240223T172033Z
LAST-MODIFIED:20240223T172034Z
UID:10016312-1755252000-1755262800@stmichaels-litchfield.org
SUMMARY:Church Office Open
DESCRIPTION:
URL:https://stmichaels-litchfield.org/event/summer-schedule-church-office-closed-2-2/2025-08-15/
LOCATION:Church Office\, 25 South Street\, Litchfield\, CT\, 06759\, United States
CATEGORIES:Church Office Event
END:VEVENT
BEGIN:VEVENT
DTSTART;TZID=America/New_York:20250815T070000
DTEND;TZID=America/New_York:20250815T073000
DTSTAMP:20260424T123916
CREATED:20230606T184551Z
LAST-MODIFIED:20230619T142647Z
UID:10006012-1755241200-1755243000@stmichaels-litchfield.org
SUMMARY:AA Meeting in the Parish House Library
DESCRIPTION:
URL:https://stmichaels-litchfield.org/event/aa-meeting-in-the-library/2025-08-15/
LOCATION:Parish House Library\, 25 South Street\, Litchfield\, CT\, 06759\, United States
CATEGORIES:AA/NA Events
END:VEVENT
BEGIN:VEVENT
DTSTART;TZID=America/New_York:20250814T100000
DTEND;TZID=America/New_York:20250814T130000
DTSTAMP:20260424T123916
CREATED:20240206T174423Z
LAST-MODIFIED:20240223T173813Z
UID:10017356-1755165600-1755176400@stmichaels-litchfield.org
SUMMARY:Church Office Open
DESCRIPTION:
URL:https://stmichaels-litchfield.org/event/church-office-open-4-5-2/2025-08-14/
LOCATION:Church Office\, 25 South Street\, Litchfield\, CT\, 06759\, United States
END:VEVENT
BEGIN:VEVENT
DTSTART;TZID=America/New_York:20250814T090000
DTEND;TZID=America/New_York:20250814T130000
DTSTAMP:20260424T123916
CREATED:20240206T174110Z
LAST-MODIFIED:20260107T171415Z
UID:10288784-1755162000-1755176400@stmichaels-litchfield.org
SUMMARY:Church Office Open
DESCRIPTION:
URL:https://stmichaels-litchfield.org/event/church-office-open-2-2-2-2/2025-08-14/
LOCATION:Church Office\, 25 South Street\, Litchfield\, CT\, 06759\, United States
CATEGORIES:Church Office Event
END:VEVENT
BEGIN:VEVENT
DTSTART;TZID=America/New_York:20250813T193000
DTEND;TZID=America/New_York:20250813T210000
DTSTAMP:20260424T123916
CREATED:20211108T180816Z
LAST-MODIFIED:20230714T003135Z
UID:10012423-1755113400-1755118800@stmichaels-litchfield.org
SUMMARY:NA meeting in Community House
DESCRIPTION:
URL:https://stmichaels-litchfield.org/event/narcotics-anonymous/2025-08-13/
LOCATION:Community House in Library from April 9th forward
CATEGORIES:AA/NA Events
END:VEVENT
BEGIN:VEVENT
DTSTART;TZID=America/New_York:20250813T190000
DTEND;TZID=America/New_York:20250813T203000
DTSTAMP:20260424T123916
CREATED:20230817T183342Z
LAST-MODIFIED:20230817T183342Z
UID:10013099-1755111600-1755117000@stmichaels-litchfield.org
SUMMARY:Choir Rehearsal in Parish House Music Room
DESCRIPTION:
URL:https://stmichaels-litchfield.org/event/choir-rehearsal-in-parish-house-music-room/2025-08-13/
LOCATION:Parish House Music Room
CATEGORIES:Church Event
END:VEVENT
BEGIN:VEVENT
DTSTART;TZID=America/New_York:20250813T100000
DTEND;TZID=America/New_York:20250813T130000
DTSTAMP:20260424T123916
CREATED:20240206T174237Z
LAST-MODIFIED:20240223T173652Z
UID:10017095-1755079200-1755090000@stmichaels-litchfield.org
SUMMARY:Church Office Open
DESCRIPTION:
URL:https://stmichaels-litchfield.org/event/church-office-open-3-4-2/2025-08-13/
LOCATION:Church Office\, 25 South Street\, Litchfield\, CT\, 06759\, United States
END:VEVENT
BEGIN:VEVENT
DTSTART;TZID=America/New_York:20250813T090000
DTEND;TZID=America/New_York:20250813T130000
DTSTAMP:20260424T123916
CREATED:20240206T174110Z
LAST-MODIFIED:20260107T171415Z
UID:10288783-1755075600-1755090000@stmichaels-litchfield.org
SUMMARY:Church Office Open
DESCRIPTION:
URL:https://stmichaels-litchfield.org/event/church-office-open-2-2-2-2/2025-08-13/
LOCATION:Church Office\, 25 South Street\, Litchfield\, CT\, 06759\, United States
CATEGORIES:Church Office Event
END:VEVENT
BEGIN:VEVENT
DTSTART;TZID=America/New_York:20250813T083000
DTEND;TZID=America/New_York:20250813T110000
DTSTAMP:20260424T123916
CREATED:20250109T152013Z
LAST-MODIFIED:20250109T152013Z
UID:10019407-1755073800-1755082800@stmichaels-litchfield.org
SUMMARY:Greenwoods Counseling
DESCRIPTION:
URL:https://stmichaels-litchfield.org/event/greenwoods-counseling-7/2025-08-13/
CATEGORIES:Greenwoods Counseling
END:VEVENT
BEGIN:VEVENT
DTSTART;TZID=America/New_York:20250813T070000
DTEND;TZID=America/New_York:20250813T073000
DTSTAMP:20260424T123916
CREATED:20230606T184551Z
LAST-MODIFIED:20230619T142647Z
UID:10006011-1755068400-1755070200@stmichaels-litchfield.org
SUMMARY:AA Meeting in the Parish House Library
DESCRIPTION:
URL:https://stmichaels-litchfield.org/event/aa-meeting-in-the-library/2025-08-13/
LOCATION:Parish House Library\, 25 South Street\, Litchfield\, CT\, 06759\, United States
CATEGORIES:AA/NA Events
END:VEVENT
BEGIN:VEVENT
DTSTART;TZID=America/New_York:20250812T190000
DTEND;TZID=America/New_York:20250812T200000
DTSTAMP:20260424T123916
CREATED:20211108T175914Z
LAST-MODIFIED:20260130T014621Z
UID:10010069-1755025200-1755028800@stmichaels-litchfield.org
SUMMARY:AA Meeting in Community House
DESCRIPTION:
URL:https://stmichaels-litchfield.org/event/aa-group-in-community-house-2/2025-08-12/
LOCATION:Community House in Library from April 9th forward
CATEGORIES:AA/NA Events
END:VEVENT
BEGIN:VEVENT
DTSTART;TZID=America/New_York:20250812T090000
DTEND;TZID=America/New_York:20250812T130000
DTSTAMP:20260424T123916
CREATED:20240206T174110Z
LAST-MODIFIED:20260107T171415Z
UID:10020772-1754989200-1755003600@stmichaels-litchfield.org
SUMMARY:Church Office Open
DESCRIPTION:
URL:https://stmichaels-litchfield.org/event/church-office-open-2-2-2-2/2025-08-12/
LOCATION:Church Office\, 25 South Street\, Litchfield\, CT\, 06759\, United States
CATEGORIES:Church Office Event
END:VEVENT
BEGIN:VEVENT
DTSTART;TZID=America/New_York:20250811T100000
DTEND;TZID=America/New_York:20250811T130000
DTSTAMP:20260424T123916
CREATED:20240206T173900Z
LAST-MODIFIED:20240223T172212Z
UID:10016573-1754906400-1754917200@stmichaels-litchfield.org
SUMMARY:Church Office Open
DESCRIPTION:
URL:https://stmichaels-litchfield.org/event/church-office-open-7-5-2/2025-08-11/
LOCATION:Church Office\, 25 South Street\, Litchfield\, CT\, 06759\, United States
END:VEVENT
BEGIN:VEVENT
DTSTART;TZID=America/New_York:20250811T090000
DTEND;TZID=America/New_York:20250811T130000
DTSTAMP:20260424T123916
CREATED:20240206T174110Z
LAST-MODIFIED:20260107T171415Z
UID:10288782-1754902800-1754917200@stmichaels-litchfield.org
SUMMARY:Church Office Open
DESCRIPTION:
URL:https://stmichaels-litchfield.org/event/church-office-open-2-2-2-2/2025-08-11/
LOCATION:Church Office\, 25 South Street\, Litchfield\, CT\, 06759\, United States
CATEGORIES:Church Office Event
END:VEVENT
BEGIN:VEVENT
DTSTART;TZID=America/New_York:20250811T070000
DTEND;TZID=America/New_York:20250811T073000
DTSTAMP:20260424T123916
CREATED:20230606T184551Z
LAST-MODIFIED:20230619T142647Z
UID:10006010-1754895600-1754897400@stmichaels-litchfield.org
SUMMARY:AA Meeting in the Parish House Library
DESCRIPTION:
URL:https://stmichaels-litchfield.org/event/aa-meeting-in-the-library/2025-08-11/
LOCATION:Parish House Library\, 25 South Street\, Litchfield\, CT\, 06759\, United States
CATEGORIES:AA/NA Events
END:VEVENT
BEGIN:VEVENT
DTSTART;TZID=America/New_York:20250810T190000
DTEND;TZID=America/New_York:20250810T200000
DTSTAMP:20260424T123916
CREATED:20230619T142544Z
LAST-MODIFIED:20260416T160049Z
UID:10009865-1754852400-1754856000@stmichaels-litchfield.org
SUMMARY:AA Meeting in Community House
DESCRIPTION:
URL:https://stmichaels-litchfield.org/event/aa-meeting-in-community-house/2025-08-10/
LOCATION:Community House in Library from April 9th forward
END:VEVENT
BEGIN:VEVENT
DTSTART;TZID=America/New_York:20250810T110000
DTEND;TZID=America/New_York:20250810T140000
DTSTAMP:20260424T123916
CREATED:20230711T182541Z
LAST-MODIFIED:20250806T192214Z
UID:10012020-1754823600-1754834400@stmichaels-litchfield.org
SUMMARY:Coffee and Fellowship in the Community House
DESCRIPTION:
URL:https://stmichaels-litchfield.org/event/coffee-and-congregation-in-the-community-house/2025-08-10/
LOCATION:Community House in Library from April 9th forward
CATEGORIES:Church Event
END:VEVENT
BEGIN:VEVENT
DTSTART;TZID=America/New_York:20250810T100000
DTEND;TZID=America/New_York:20250810T110000
DTSTAMP:20260424T123916
CREATED:20250403T150154Z
LAST-MODIFIED:20260422T181447Z
UID:10012681-1754820000-1754823600@stmichaels-litchfield.org
SUMMARY:Sunday Eucharist\, Rite II
DESCRIPTION:Rite II with music \nFollowed by Coffee Hour in the Community House
URL:https://stmichaels-litchfield.org/event/sunday-eucharist-2-3/2025-08-10/
LOCATION:Church\, 25 South Street\, Litchfield\, CT\, 06759\, United States
CATEGORIES:Church Event,Parish Events
END:VEVENT
BEGIN:VEVENT
DTSTART;TZID=America/New_York:20250810T084500
DTEND;TZID=America/New_York:20250810T100000
DTSTAMP:20260424T123916
CREATED:20250623T125443Z
LAST-MODIFIED:20250623T130948Z
UID:10286841-1754815500-1754820000@stmichaels-litchfield.org
SUMMARY:Vestry Mtg - Library
DESCRIPTION:
URL:https://stmichaels-litchfield.org/event/vestry-mtg/2025-08-10/
LOCATION:Parish House Library\, 25 South Street\, Litchfield\, CT\, 06759\, United States
CATEGORIES:Church Office Event
END:VEVENT
BEGIN:VEVENT
DTSTART;TZID=America/New_York:20250810T080000
DTEND;TZID=America/New_York:20250810T090000
DTSTAMP:20260424T123916
CREATED:20211108T181651Z
LAST-MODIFIED:20260327T134504Z
UID:10020366-1754812800-1754816400@stmichaels-litchfield.org
SUMMARY:Eucharist\, Rite I
DESCRIPTION:Spoken\, no music
URL:https://stmichaels-litchfield.org/event/sunday-eucharist/2025-08-10/
LOCATION:Chapel\, 25 South Street\, Litchfield\, CT\, 06759\, United States
CATEGORIES:Church Event,Parish Events
END:VEVENT
BEGIN:VEVENT
DTSTART;TZID=America/New_York:20250809T083000
DTEND;TZID=America/New_York:20250809T093000
DTSTAMP:20260424T123916
CREATED:20230619T143626Z
LAST-MODIFIED:20230619T143720Z
UID:10010675-1754728200-1754731800@stmichaels-litchfield.org
SUMMARY:AA Meeting in Parish House Library
DESCRIPTION:
URL:https://stmichaels-litchfield.org/event/aa-meeting-in-community-house-2/2025-08-09/
LOCATION:Community House in Library from April 9th forward
CATEGORIES:AA/NA Events
END:VEVENT
BEGIN:VEVENT
DTSTART;TZID=America/New_York:20250808T133000
DTEND;TZID=America/New_York:20250808T153000
DTSTAMP:20260424T123916
CREATED:20250115T163522Z
LAST-MODIFIED:20250115T163522Z
UID:10019722-1754659800-1754667000@stmichaels-litchfield.org
SUMMARY:Italian Club
DESCRIPTION:
URL:https://stmichaels-litchfield.org/event/italian-club-3/2025-08-08/
LOCATION:Community House in Library from April 9th forward
CATEGORIES:Other Groups
END:VEVENT
BEGIN:VEVENT
DTSTART;TZID=America/New_York:20250808T100000
DTEND;TZID=America/New_York:20250808T130000
DTSTAMP:20260424T123916
CREATED:20240223T172033Z
LAST-MODIFIED:20240223T172034Z
UID:10016311-1754647200-1754658000@stmichaels-litchfield.org
SUMMARY:Church Office Open
DESCRIPTION:
URL:https://stmichaels-litchfield.org/event/summer-schedule-church-office-closed-2-2/2025-08-08/
LOCATION:Church Office\, 25 South Street\, Litchfield\, CT\, 06759\, United States
CATEGORIES:Church Office Event
END:VEVENT
BEGIN:VEVENT
DTSTART;TZID=America/New_York:20250808T070000
DTEND;TZID=America/New_York:20250808T073000
DTSTAMP:20260424T123916
CREATED:20230606T184551Z
LAST-MODIFIED:20230619T142647Z
UID:10006009-1754636400-1754638200@stmichaels-litchfield.org
SUMMARY:AA Meeting in the Parish House Library
DESCRIPTION:
URL:https://stmichaels-litchfield.org/event/aa-meeting-in-the-library/2025-08-08/
LOCATION:Parish House Library\, 25 South Street\, Litchfield\, CT\, 06759\, United States
CATEGORIES:AA/NA Events
END:VEVENT
BEGIN:VEVENT
DTSTART;TZID=America/New_York:20250807T190000
DTEND;TZID=America/New_York:20250807T220000
DTSTAMP:20260424T123916
CREATED:20230810T152445Z
LAST-MODIFIED:20230823T141209Z
UID:10012858-1754593200-1754604000@stmichaels-litchfield.org
SUMMARY:SOTG Board meeting in the Parish House Library
DESCRIPTION:
URL:https://stmichaels-litchfield.org/event/sotg-board-meeting-2/2025-08-07/
LOCATION:Parish House Library\, 25 South Street\, Litchfield\, CT\, 06759\, United States
CATEGORIES:School on the Green Event
END:VEVENT
BEGIN:VEVENT
DTSTART;TZID=America/New_York:20250807T143000
DTEND;TZID=America/New_York:20250807T163000
DTSTAMP:20260424T123916
CREATED:20250115T162847Z
LAST-MODIFIED:20250115T162847Z
UID:10019673-1754577000-1754584200@stmichaels-litchfield.org
SUMMARY:Italian Club
DESCRIPTION:
URL:https://stmichaels-litchfield.org/event/italian-club-2/2025-08-07/
LOCATION:Community House in Library from April 9th forward
END:VEVENT
BEGIN:VEVENT
DTSTART;TZID=America/New_York:20250807T100000
DTEND;TZID=America/New_York:20250807T130000
DTSTAMP:20260424T123916
CREATED:20240206T174423Z
LAST-MODIFIED:20240223T173813Z
UID:10017355-1754560800-1754571600@stmichaels-litchfield.org
SUMMARY:Church Office Open
DESCRIPTION:
URL:https://stmichaels-litchfield.org/event/church-office-open-4-5-2/2025-08-07/
LOCATION:Church Office\, 25 South Street\, Litchfield\, CT\, 06759\, United States
END:VEVENT
BEGIN:VEVENT
DTSTART;TZID=America/New_York:20250807T090000
DTEND;TZID=America/New_York:20250807T130000
DTSTAMP:20260424T123916
CREATED:20240206T174110Z
LAST-MODIFIED:20260107T171415Z
UID:10288781-1754557200-1754571600@stmichaels-litchfield.org
SUMMARY:Church Office Open
DESCRIPTION:
URL:https://stmichaels-litchfield.org/event/church-office-open-2-2-2-2/2025-08-07/
LOCATION:Church Office\, 25 South Street\, Litchfield\, CT\, 06759\, United States
CATEGORIES:Church Office Event
END:VEVENT
END:VCALENDAR