BEGIN:VCALENDAR
VERSION:2.0
PRODID:-//St. Michael&#039;s Church - ECPv6.15.20//NONSGML v1.0//EN
CALSCALE:GREGORIAN
METHOD:PUBLISH
X-ORIGINAL-URL:https://stmichaels-litchfield.org
X-WR-CALDESC:Events for St. Michael&#039;s Church
REFRESH-INTERVAL;VALUE=DURATION:PT1H
X-Robots-Tag:noindex
X-PUBLISHED-TTL:PT1H
BEGIN:VTIMEZONE
TZID:America/New_York
BEGIN:DAYLIGHT
TZOFFSETFROM:-0500
TZOFFSETTO:-0400
TZNAME:EDT
DTSTART:20230312T070000
END:DAYLIGHT
BEGIN:STANDARD
TZOFFSETFROM:-0400
TZOFFSETTO:-0500
TZNAME:EST
DTSTART:20231105T060000
END:STANDARD
BEGIN:DAYLIGHT
TZOFFSETFROM:-0500
TZOFFSETTO:-0400
TZNAME:EDT
DTSTART:20240310T070000
END:DAYLIGHT
BEGIN:STANDARD
TZOFFSETFROM:-0400
TZOFFSETTO:-0500
TZNAME:EST
DTSTART:20241103T060000
END:STANDARD
BEGIN:DAYLIGHT
TZOFFSETFROM:-0500
TZOFFSETTO:-0400
TZNAME:EDT
DTSTART:20250309T070000
END:DAYLIGHT
BEGIN:STANDARD
TZOFFSETFROM:-0400
TZOFFSETTO:-0500
TZNAME:EST
DTSTART:20251102T060000
END:STANDARD
END:VTIMEZONE
BEGIN:VEVENT
DTSTART;TZID=America/New_York:20241211T070000
DTEND;TZID=America/New_York:20241211T073000
DTSTAMP:20260423T150415
CREATED:20230606T184551Z
LAST-MODIFIED:20230619T142647Z
UID:10005906-1733900400-1733902200@stmichaels-litchfield.org
SUMMARY:AA Meeting in the Parish House Library
DESCRIPTION:
URL:https://stmichaels-litchfield.org/event/aa-meeting-in-the-library/2024-12-11/
LOCATION:Parish House Library\, 25 South Street\, Litchfield\, CT\, 06759\, United States
CATEGORIES:AA/NA Events
END:VEVENT
BEGIN:VEVENT
DTSTART;TZID=America/New_York:20241211T090000
DTEND;TZID=America/New_York:20241211T110000
DTSTAMP:20260423T150415
CREATED:20240103T135757Z
LAST-MODIFIED:20240103T135757Z
UID:10015047-1733907600-1733914800@stmichaels-litchfield.org
SUMMARY:Greenwoods Clinical Meeting in Community House
DESCRIPTION:
URL:https://stmichaels-litchfield.org/event/greenwoods-clinical-meeting-in-community-house/2024-12-11/
LOCATION:Community House in Library from April 9th forward
CATEGORIES:Greenwoods Counseling
ORGANIZER;CN="Michelle Sonnati":MAILTO:msonnati@greenwoodsreferrals.org
END:VEVENT
BEGIN:VEVENT
DTSTART;TZID=America/New_York:20241211T090000
DTEND;TZID=America/New_York:20241211T130000
DTSTAMP:20260423T150415
CREATED:20240206T174110Z
LAST-MODIFIED:20260107T171415Z
UID:10288678-1733907600-1733922000@stmichaels-litchfield.org
SUMMARY:Church Office Open
DESCRIPTION:
URL:https://stmichaels-litchfield.org/event/church-office-open-2-2-2-2/2024-12-11/
LOCATION:Church Office\, 25 South Street\, Litchfield\, CT\, 06759\, United States
CATEGORIES:Church Office Event
END:VEVENT
BEGIN:VEVENT
DTSTART;TZID=America/New_York:20241211T100000
DTEND;TZID=America/New_York:20241211T130000
DTSTAMP:20260423T150415
CREATED:20240206T174237Z
LAST-MODIFIED:20240223T173652Z
UID:10017060-1733911200-1733922000@stmichaels-litchfield.org
SUMMARY:Church Office Open
DESCRIPTION:
URL:https://stmichaels-litchfield.org/event/church-office-open-3-4-2/2024-12-11/
LOCATION:Church Office\, 25 South Street\, Litchfield\, CT\, 06759\, United States
END:VEVENT
BEGIN:VEVENT
DTSTART;TZID=America/New_York:20241211T173000
DTEND;TZID=America/New_York:20241211T223000
DTSTAMP:20260423T150415
CREATED:20241003T162319Z
LAST-MODIFIED:20241003T162319Z
UID:10019345-1733938200-1733956200@stmichaels-litchfield.org
SUMMARY:Waterbury Chorale
DESCRIPTION:
URL:https://stmichaels-litchfield.org/event/waterbury-chorale/2024-12-11/
LOCATION:St Michael’s Church\, 25 South Street\, Litchfield\, CT  06759\, 25 South Street\, Litchfield\, CT\, 06759\, United States
CATEGORIES:Other Groups
ORGANIZER;CN="John Manning":MAILTO:johnmanning811@comcast.net
END:VEVENT
BEGIN:VEVENT
DTSTART;TZID=America/New_York:20241211T190000
DTEND;TZID=America/New_York:20241211T203000
DTSTAMP:20260423T150415
CREATED:20230817T183342Z
LAST-MODIFIED:20230817T183342Z
UID:10013064-1733943600-1733949000@stmichaels-litchfield.org
SUMMARY:Choir Rehearsal in Parish House Music Room
DESCRIPTION:
URL:https://stmichaels-litchfield.org/event/choir-rehearsal-in-parish-house-music-room/2024-12-11/
LOCATION:Parish House Music Room
CATEGORIES:Church Event
END:VEVENT
BEGIN:VEVENT
DTSTART;TZID=America/New_York:20241211T193000
DTEND;TZID=America/New_York:20241211T210000
DTSTAMP:20260423T150415
CREATED:20211108T180816Z
LAST-MODIFIED:20230714T003135Z
UID:10012388-1733945400-1733950800@stmichaels-litchfield.org
SUMMARY:NA meeting in Community House
DESCRIPTION:
URL:https://stmichaels-litchfield.org/event/narcotics-anonymous/2024-12-11/
LOCATION:Community House in Library from April 9th forward
CATEGORIES:AA/NA Events
END:VEVENT
BEGIN:VEVENT
DTSTART;TZID=America/New_York:20241212T090000
DTEND;TZID=America/New_York:20241212T130000
DTSTAMP:20260423T150415
CREATED:20240206T174110Z
LAST-MODIFIED:20260107T171415Z
UID:10288679-1733994000-1734008400@stmichaels-litchfield.org
SUMMARY:Church Office Open
DESCRIPTION:
URL:https://stmichaels-litchfield.org/event/church-office-open-2-2-2-2/2024-12-12/
LOCATION:Church Office\, 25 South Street\, Litchfield\, CT\, 06759\, United States
CATEGORIES:Church Office Event
END:VEVENT
BEGIN:VEVENT
DTSTART;TZID=America/New_York:20241212T100000
DTEND;TZID=America/New_York:20241212T130000
DTSTAMP:20260423T150415
CREATED:20240206T174423Z
LAST-MODIFIED:20240223T173813Z
UID:10017321-1733997600-1734008400@stmichaels-litchfield.org
SUMMARY:Church Office Open
DESCRIPTION:
URL:https://stmichaels-litchfield.org/event/church-office-open-4-5-2/2024-12-12/
LOCATION:Church Office\, 25 South Street\, Litchfield\, CT\, 06759\, United States
END:VEVENT
BEGIN:VEVENT
DTSTART;TZID=America/New_York:20241212T190000
DTEND;TZID=America/New_York:20241212T210000
DTSTAMP:20260423T150415
CREATED:20241210T171141Z
LAST-MODIFIED:20241210T171141Z
UID:10019373-1734030000-1734037200@stmichaels-litchfield.org
SUMMARY:School on the Green - Meeting
DESCRIPTION:
URL:https://stmichaels-litchfield.org/event/school-on-the-green-meeting/
LOCATION:Parish House Library\, 25 South Street\, Litchfield\, CT\, 06759\, United States
CATEGORIES:School on the Green Event
END:VEVENT
BEGIN:VEVENT
DTSTART;TZID=America/New_York:20241213T070000
DTEND;TZID=America/New_York:20241213T073000
DTSTAMP:20260423T150415
CREATED:20230606T184551Z
LAST-MODIFIED:20230619T142647Z
UID:10005907-1734073200-1734075000@stmichaels-litchfield.org
SUMMARY:AA Meeting in the Parish House Library
DESCRIPTION:
URL:https://stmichaels-litchfield.org/event/aa-meeting-in-the-library/2024-12-13/
LOCATION:Parish House Library\, 25 South Street\, Litchfield\, CT\, 06759\, United States
CATEGORIES:AA/NA Events
END:VEVENT
BEGIN:VEVENT
DTSTART;TZID=America/New_York:20241213T100000
DTEND;TZID=America/New_York:20241213T130000
DTSTAMP:20260423T150415
CREATED:20240223T172033Z
LAST-MODIFIED:20240223T172034Z
UID:10016277-1734084000-1734094800@stmichaels-litchfield.org
SUMMARY:Church Office Open
DESCRIPTION:
URL:https://stmichaels-litchfield.org/event/summer-schedule-church-office-closed-2-2/2024-12-13/
LOCATION:Church Office\, 25 South Street\, Litchfield\, CT\, 06759\, United States
CATEGORIES:Church Office Event
END:VEVENT
BEGIN:VEVENT
DTSTART;TZID=America/New_York:20241213T163000
DTEND;TZID=America/New_York:20241213T233000
DTSTAMP:20260423T150415
CREATED:20241003T162319Z
LAST-MODIFIED:20241003T162319Z
UID:10019346-1734107400-1734132600@stmichaels-litchfield.org
SUMMARY:Waterbury Chorale
DESCRIPTION:
URL:https://stmichaels-litchfield.org/event/waterbury-chorale/2024-12-13/
LOCATION:St Michael’s Church\, 25 South Street\, Litchfield\, CT  06759\, 25 South Street\, Litchfield\, CT\, 06759\, United States
CATEGORIES:Other Groups
ORGANIZER;CN="John Manning":MAILTO:johnmanning811@comcast.net
END:VEVENT
BEGIN:VEVENT
DTSTART;TZID=America/New_York:20241214T083000
DTEND;TZID=America/New_York:20241214T093000
DTSTAMP:20260423T150416
CREATED:20230619T143626Z
LAST-MODIFIED:20230619T143720Z
UID:10010641-1734165000-1734168600@stmichaels-litchfield.org
SUMMARY:AA Meeting in Parish House Library
DESCRIPTION:
URL:https://stmichaels-litchfield.org/event/aa-meeting-in-community-house-2/2024-12-14/
LOCATION:Community House in Library from April 9th forward
CATEGORIES:AA/NA Events
END:VEVENT
BEGIN:VEVENT
DTSTART;TZID=America/New_York:20241215T080000
DTEND;TZID=America/New_York:20241215T090000
DTSTAMP:20260423T150416
CREATED:20211108T181651Z
LAST-MODIFIED:20260327T134504Z
UID:10020332-1734249600-1734253200@stmichaels-litchfield.org
SUMMARY:Eucharist\, Rite I
DESCRIPTION:Spoken\, no music
URL:https://stmichaels-litchfield.org/event/sunday-eucharist/2024-12-15/
LOCATION:Chapel\, 25 South Street\, Litchfield\, CT\, 06759\, United States
CATEGORIES:Church Event,Parish Events
END:VEVENT
BEGIN:VEVENT
DTSTART;TZID=America/New_York:20241215T100000
DTEND;TZID=America/New_York:20241215T110000
DTSTAMP:20260423T150416
CREATED:20211108T181948Z
LAST-MODIFIED:20250403T150318Z
UID:10012647-1734256800-1734260400@stmichaels-litchfield.org
SUMMARY:Sunday Eucharist\, Rite II
DESCRIPTION:Rite II with Choir \nFollowed by Coffee Hour in the Community House
URL:https://stmichaels-litchfield.org/event/sunday-eucharist-2/2024-12-15/
CATEGORIES:Parish Events
END:VEVENT
BEGIN:VEVENT
DTSTART;TZID=America/New_York:20241215T110000
DTEND;TZID=America/New_York:20241215T140000
DTSTAMP:20260423T150416
CREATED:20230711T182541Z
LAST-MODIFIED:20250806T192214Z
UID:10011986-1734260400-1734271200@stmichaels-litchfield.org
SUMMARY:Coffee and Fellowship in the Community House
DESCRIPTION:
URL:https://stmichaels-litchfield.org/event/coffee-and-congregation-in-the-community-house/2024-12-15/
LOCATION:Community House in Library from April 9th forward
CATEGORIES:Church Event
END:VEVENT
BEGIN:VEVENT
DTSTART;TZID=America/New_York:20241215T190000
DTEND;TZID=America/New_York:20241215T200000
DTSTAMP:20260423T150416
CREATED:20230619T142544Z
LAST-MODIFIED:20260416T160049Z
UID:10009831-1734289200-1734292800@stmichaels-litchfield.org
SUMMARY:AA Meeting in Community House
DESCRIPTION:
URL:https://stmichaels-litchfield.org/event/aa-meeting-in-community-house/2024-12-15/
LOCATION:Community House in Library from April 9th forward
END:VEVENT
BEGIN:VEVENT
DTSTART;TZID=America/New_York:20241216T070000
DTEND;TZID=America/New_York:20241216T073000
DTSTAMP:20260423T150416
CREATED:20230606T184551Z
LAST-MODIFIED:20230619T142647Z
UID:10005908-1734332400-1734334200@stmichaels-litchfield.org
SUMMARY:AA Meeting in the Parish House Library
DESCRIPTION:
URL:https://stmichaels-litchfield.org/event/aa-meeting-in-the-library/2024-12-16/
LOCATION:Parish House Library\, 25 South Street\, Litchfield\, CT\, 06759\, United States
CATEGORIES:AA/NA Events
END:VEVENT
BEGIN:VEVENT
DTSTART;TZID=America/New_York:20241216T090000
DTEND;TZID=America/New_York:20241216T130000
DTSTAMP:20260423T150416
CREATED:20240206T174110Z
LAST-MODIFIED:20260107T171415Z
UID:10288680-1734339600-1734354000@stmichaels-litchfield.org
SUMMARY:Church Office Open
DESCRIPTION:
URL:https://stmichaels-litchfield.org/event/church-office-open-2-2-2-2/2024-12-16/
LOCATION:Church Office\, 25 South Street\, Litchfield\, CT\, 06759\, United States
CATEGORIES:Church Office Event
END:VEVENT
BEGIN:VEVENT
DTSTART;TZID=America/New_York:20241216T100000
DTEND;TZID=America/New_York:20241216T130000
DTSTAMP:20260423T150416
CREATED:20240206T173900Z
LAST-MODIFIED:20240223T172212Z
UID:10016539-1734343200-1734354000@stmichaels-litchfield.org
SUMMARY:Church Office Open
DESCRIPTION:
URL:https://stmichaels-litchfield.org/event/church-office-open-7-5-2/2024-12-16/
LOCATION:Church Office\, 25 South Street\, Litchfield\, CT\, 06759\, United States
END:VEVENT
BEGIN:VEVENT
DTSTART;TZID=America/New_York:20241217T090000
DTEND;TZID=America/New_York:20241217T130000
DTSTAMP:20260423T150416
CREATED:20240206T174110Z
LAST-MODIFIED:20260107T171415Z
UID:10020738-1734426000-1734440400@stmichaels-litchfield.org
SUMMARY:Church Office Open
DESCRIPTION:
URL:https://stmichaels-litchfield.org/event/church-office-open-2-2-2-2/2024-12-17/
LOCATION:Church Office\, 25 South Street\, Litchfield\, CT\, 06759\, United States
CATEGORIES:Church Office Event
END:VEVENT
BEGIN:VEVENT
DTSTART;TZID=America/New_York:20241217T190000
DTEND;TZID=America/New_York:20241217T200000
DTSTAMP:20260423T150416
CREATED:20211108T175914Z
LAST-MODIFIED:20260130T014621Z
UID:10010035-1734462000-1734465600@stmichaels-litchfield.org
SUMMARY:AA Meeting in Community House
DESCRIPTION:
URL:https://stmichaels-litchfield.org/event/aa-group-in-community-house-2/2024-12-17/
LOCATION:Community House in Library from April 9th forward
CATEGORIES:AA/NA Events
END:VEVENT
BEGIN:VEVENT
DTSTART;TZID=America/New_York:20241218T070000
DTEND;TZID=America/New_York:20241218T073000
DTSTAMP:20260423T150416
CREATED:20230606T184551Z
LAST-MODIFIED:20230619T142647Z
UID:10005909-1734505200-1734507000@stmichaels-litchfield.org
SUMMARY:AA Meeting in the Parish House Library
DESCRIPTION:
URL:https://stmichaels-litchfield.org/event/aa-meeting-in-the-library/2024-12-18/
LOCATION:Parish House Library\, 25 South Street\, Litchfield\, CT\, 06759\, United States
CATEGORIES:AA/NA Events
END:VEVENT
BEGIN:VEVENT
DTSTART;TZID=America/New_York:20241218T090000
DTEND;TZID=America/New_York:20241218T110000
DTSTAMP:20260423T150416
CREATED:20240103T135757Z
LAST-MODIFIED:20240103T135757Z
UID:10015048-1734512400-1734519600@stmichaels-litchfield.org
SUMMARY:Greenwoods Clinical Meeting in Community House
DESCRIPTION:
URL:https://stmichaels-litchfield.org/event/greenwoods-clinical-meeting-in-community-house/2024-12-18/
LOCATION:Community House in Library from April 9th forward
CATEGORIES:Greenwoods Counseling
ORGANIZER;CN="Michelle Sonnati":MAILTO:msonnati@greenwoodsreferrals.org
END:VEVENT
BEGIN:VEVENT
DTSTART;TZID=America/New_York:20241218T090000
DTEND;TZID=America/New_York:20241218T130000
DTSTAMP:20260423T150416
CREATED:20240206T174110Z
LAST-MODIFIED:20260107T171415Z
UID:10288681-1734512400-1734526800@stmichaels-litchfield.org
SUMMARY:Church Office Open
DESCRIPTION:
URL:https://stmichaels-litchfield.org/event/church-office-open-2-2-2-2/2024-12-18/
LOCATION:Church Office\, 25 South Street\, Litchfield\, CT\, 06759\, United States
CATEGORIES:Church Office Event
END:VEVENT
BEGIN:VEVENT
DTSTART;TZID=America/New_York:20241218T100000
DTEND;TZID=America/New_York:20241218T130000
DTSTAMP:20260423T150416
CREATED:20240206T174237Z
LAST-MODIFIED:20240223T173652Z
UID:10017061-1734516000-1734526800@stmichaels-litchfield.org
SUMMARY:Church Office Open
DESCRIPTION:
URL:https://stmichaels-litchfield.org/event/church-office-open-3-4-2/2024-12-18/
LOCATION:Church Office\, 25 South Street\, Litchfield\, CT\, 06759\, United States
END:VEVENT
BEGIN:VEVENT
DTSTART;TZID=America/New_York:20241218T190000
DTEND;TZID=America/New_York:20241218T203000
DTSTAMP:20260423T150416
CREATED:20230817T183342Z
LAST-MODIFIED:20230817T183342Z
UID:10013065-1734548400-1734553800@stmichaels-litchfield.org
SUMMARY:Choir Rehearsal in Parish House Music Room
DESCRIPTION:
URL:https://stmichaels-litchfield.org/event/choir-rehearsal-in-parish-house-music-room/2024-12-18/
LOCATION:Parish House Music Room
CATEGORIES:Church Event
END:VEVENT
BEGIN:VEVENT
DTSTART;TZID=America/New_York:20241218T193000
DTEND;TZID=America/New_York:20241218T210000
DTSTAMP:20260423T150416
CREATED:20211108T180816Z
LAST-MODIFIED:20230714T003135Z
UID:10012389-1734550200-1734555600@stmichaels-litchfield.org
SUMMARY:NA meeting in Community House
DESCRIPTION:
URL:https://stmichaels-litchfield.org/event/narcotics-anonymous/2024-12-18/
LOCATION:Community House in Library from April 9th forward
CATEGORIES:AA/NA Events
END:VEVENT
BEGIN:VEVENT
DTSTART;TZID=America/New_York:20241219T080000
DTEND;TZID=America/New_York:20241220T150000
DTSTAMP:20260423T150416
CREATED:20241009T163831Z
LAST-MODIFIED:20241009T163831Z
UID:10019351-1734595200-1734706800@stmichaels-litchfield.org
SUMMARY:School on the Green  Holiday Show
DESCRIPTION:
URL:https://stmichaels-litchfield.org/event/school-on-the-green-holiday-show/
LOCATION:Church Courtyard\, Community Ctr\, Library
CATEGORIES:School on the Green Event
END:VEVENT
END:VCALENDAR