BEGIN:VCALENDAR
VERSION:2.0
PRODID:-//St. Michael&#039;s Church - ECPv6.15.20//NONSGML v1.0//EN
CALSCALE:GREGORIAN
METHOD:PUBLISH
X-ORIGINAL-URL:https://stmichaels-litchfield.org
X-WR-CALDESC:Events for St. Michael&#039;s Church
REFRESH-INTERVAL;VALUE=DURATION:PT1H
X-Robots-Tag:noindex
X-PUBLISHED-TTL:PT1H
BEGIN:VTIMEZONE
TZID:America/New_York
BEGIN:DAYLIGHT
TZOFFSETFROM:-0500
TZOFFSETTO:-0400
TZNAME:EDT
DTSTART:20260308T070000
END:DAYLIGHT
BEGIN:STANDARD
TZOFFSETFROM:-0400
TZOFFSETTO:-0500
TZNAME:EST
DTSTART:20261101T060000
END:STANDARD
BEGIN:DAYLIGHT
TZOFFSETFROM:-0500
TZOFFSETTO:-0400
TZNAME:EDT
DTSTART:20270314T070000
END:DAYLIGHT
BEGIN:STANDARD
TZOFFSETFROM:-0400
TZOFFSETTO:-0500
TZNAME:EST
DTSTART:20271107T060000
END:STANDARD
BEGIN:DAYLIGHT
TZOFFSETFROM:-0500
TZOFFSETTO:-0400
TZNAME:EDT
DTSTART:20280312T070000
END:DAYLIGHT
BEGIN:STANDARD
TZOFFSETFROM:-0400
TZOFFSETTO:-0500
TZNAME:EST
DTSTART:20281105T060000
END:STANDARD
END:VTIMEZONE
BEGIN:VEVENT
DTSTART;TZID=America/New_York:20270512T070000
DTEND;TZID=America/New_York:20270512T073000
DTSTAMP:20260420T170921
CREATED:20230606T184551Z
LAST-MODIFIED:20230619T142647Z
UID:10006284-1810105200-1810107000@stmichaels-litchfield.org
SUMMARY:AA Meeting in the Parish House Library
DESCRIPTION:
URL:https://stmichaels-litchfield.org/event/aa-meeting-in-the-library/2027-05-12/
LOCATION:Parish House Library\, 25 South Street\, Litchfield\, CT\, 06759\, United States
CATEGORIES:AA/NA Events
END:VEVENT
BEGIN:VEVENT
DTSTART;TZID=America/New_York:20270512T083000
DTEND;TZID=America/New_York:20270512T110000
DTSTAMP:20260420T170921
CREATED:20250109T152013Z
LAST-MODIFIED:20250109T152013Z
UID:10019498-1810110600-1810119600@stmichaels-litchfield.org
SUMMARY:Greenwoods Counseling
DESCRIPTION:
URL:https://stmichaels-litchfield.org/event/greenwoods-counseling-7/2027-05-12/
CATEGORIES:Greenwoods Counseling
END:VEVENT
BEGIN:VEVENT
DTSTART;TZID=America/New_York:20270512T093000
DTEND;TZID=America/New_York:20270512T143000
DTSTAMP:20260420T170921
CREATED:20260128T181432Z
LAST-MODIFIED:20260128T181726Z
UID:10291692-1810114200-1810132200@stmichaels-litchfield.org
SUMMARY:Church Office Open
DESCRIPTION:
URL:https://stmichaels-litchfield.org/event/church-office-open-14/2027-05-12/
LOCATION:Church Office\, 25 South Street\, Litchfield\, CT\, 06759\, United States
CATEGORIES:Church Office Event
END:VEVENT
BEGIN:VEVENT
DTSTART;TZID=America/New_York:20270512T173000
DTEND;TZID=America/New_York:20270512T180000
DTSTAMP:20260420T170921
CREATED:20260327T155546Z
LAST-MODIFIED:20260327T155546Z
UID:10294495-1810143000-1810144800@stmichaels-litchfield.org
SUMMARY:Chanted Evening Prayer
DESCRIPTION:
URL:https://stmichaels-litchfield.org/event/chanted-evening-prayer-3/2027-05-12/
LOCATION:Chapel\, 25 South Street\, Litchfield\, CT\, 06759\, United States
CATEGORIES:Church Event
END:VEVENT
BEGIN:VEVENT
DTSTART;TZID=America/New_York:20270512T190000
DTEND;TZID=America/New_York:20270512T203000
DTSTAMP:20260420T170921
CREATED:20230817T183342Z
LAST-MODIFIED:20230817T183342Z
UID:10013190-1810148400-1810153800@stmichaels-litchfield.org
SUMMARY:Choir Rehearsal in Parish House Music Room
DESCRIPTION:
URL:https://stmichaels-litchfield.org/event/choir-rehearsal-in-parish-house-music-room/2027-05-12/
LOCATION:Parish House Music Room
CATEGORIES:Church Event
END:VEVENT
BEGIN:VEVENT
DTSTART;TZID=America/New_York:20270512T193000
DTEND;TZID=America/New_York:20270512T210000
DTSTAMP:20260420T170921
CREATED:20211108T180816Z
LAST-MODIFIED:20230714T003135Z
UID:10012514-1810150200-1810155600@stmichaels-litchfield.org
SUMMARY:NA meeting in Community House
DESCRIPTION:
URL:https://stmichaels-litchfield.org/event/narcotics-anonymous/2027-05-12/
LOCATION:Community House in Library from April 9th forward
CATEGORIES:AA/NA Events
END:VEVENT
BEGIN:VEVENT
DTSTART;TZID=America/New_York:20270513T093000
DTEND;TZID=America/New_York:20270513T143000
DTSTAMP:20260420T170921
CREATED:20260128T181432Z
LAST-MODIFIED:20260128T181726Z
UID:10291693-1810200600-1810218600@stmichaels-litchfield.org
SUMMARY:Church Office Open
DESCRIPTION:
URL:https://stmichaels-litchfield.org/event/church-office-open-14/2027-05-13/
LOCATION:Church Office\, 25 South Street\, Litchfield\, CT\, 06759\, United States
CATEGORIES:Church Office Event
END:VEVENT
BEGIN:VEVENT
DTSTART;TZID=America/New_York:20270514T070000
DTEND;TZID=America/New_York:20270514T073000
DTSTAMP:20260420T170921
CREATED:20230606T184551Z
LAST-MODIFIED:20230619T142647Z
UID:10006285-1810278000-1810279800@stmichaels-litchfield.org
SUMMARY:AA Meeting in the Parish House Library
DESCRIPTION:
URL:https://stmichaels-litchfield.org/event/aa-meeting-in-the-library/2027-05-14/
LOCATION:Parish House Library\, 25 South Street\, Litchfield\, CT\, 06759\, United States
CATEGORIES:AA/NA Events
END:VEVENT
BEGIN:VEVENT
DTSTART;TZID=America/New_York:20270514T093000
DTEND;TZID=America/New_York:20270514T143000
DTSTAMP:20260420T170921
CREATED:20260128T181432Z
LAST-MODIFIED:20260128T181726Z
UID:10291694-1810287000-1810305000@stmichaels-litchfield.org
SUMMARY:Church Office Open
DESCRIPTION:
URL:https://stmichaels-litchfield.org/event/church-office-open-14/2027-05-14/
LOCATION:Church Office\, 25 South Street\, Litchfield\, CT\, 06759\, United States
CATEGORIES:Church Office Event
END:VEVENT
BEGIN:VEVENT
DTSTART;TZID=America/New_York:20270515T083000
DTEND;TZID=America/New_York:20270515T093000
DTSTAMP:20260420T170921
CREATED:20230619T143626Z
LAST-MODIFIED:20230619T143720Z
UID:10010767-1810369800-1810373400@stmichaels-litchfield.org
SUMMARY:AA Meeting in Parish House Library
DESCRIPTION:
URL:https://stmichaels-litchfield.org/event/aa-meeting-in-community-house-2/2027-05-15/
LOCATION:Community House in Library from April 9th forward
CATEGORIES:AA/NA Events
END:VEVENT
BEGIN:VEVENT
DTSTART;TZID=America/New_York:20270516T080000
DTEND;TZID=America/New_York:20270516T090000
DTSTAMP:20260420T170921
CREATED:20211108T181651Z
LAST-MODIFIED:20260327T134504Z
UID:10020458-1810454400-1810458000@stmichaels-litchfield.org
SUMMARY:Eucharist\, Rite I
DESCRIPTION:Spoken\, no music
URL:https://stmichaels-litchfield.org/event/sunday-eucharist/2027-05-16/
LOCATION:Chapel\, 25 South Street\, Litchfield\, CT\, 06759\, United States
CATEGORIES:Church Event,Parish Events
END:VEVENT
BEGIN:VEVENT
DTSTART;TZID=America/New_York:20270516T100000
DTEND;TZID=America/New_York:20270516T110000
DTSTAMP:20260420T170921
CREATED:20250403T150154Z
LAST-MODIFIED:20250806T192031Z
UID:10012773-1810461600-1810465200@stmichaels-litchfield.org
SUMMARY:Sunday Eucharist\, Rite II
DESCRIPTION:Rite II with music \nFollowed by Coffee Hour in the Community House
URL:https://stmichaels-litchfield.org/event/sunday-eucharist-2-3/2027-05-16/
LOCATION:Church and Community House
CATEGORIES:Church Event,Parish Events
END:VEVENT
BEGIN:VEVENT
DTSTART;TZID=America/New_York:20270516T110000
DTEND;TZID=America/New_York:20270516T140000
DTSTAMP:20260420T170921
CREATED:20230711T182541Z
LAST-MODIFIED:20250806T192214Z
UID:10012112-1810465200-1810476000@stmichaels-litchfield.org
SUMMARY:Coffee and Fellowship in the Community House
DESCRIPTION:
URL:https://stmichaels-litchfield.org/event/coffee-and-congregation-in-the-community-house/2027-05-16/
LOCATION:Community House in Library from April 9th forward
CATEGORIES:Church Event
END:VEVENT
BEGIN:VEVENT
DTSTART;TZID=America/New_York:20270516T190000
DTEND;TZID=America/New_York:20270516T200000
DTSTAMP:20260420T170921
CREATED:20230619T142544Z
LAST-MODIFIED:20260416T160049Z
UID:10009957-1810494000-1810497600@stmichaels-litchfield.org
SUMMARY:AA Meeting in Community House
DESCRIPTION:
URL:https://stmichaels-litchfield.org/event/aa-meeting-in-community-house/2027-05-16/
LOCATION:Community House in Library from April 9th forward
END:VEVENT
BEGIN:VEVENT
DTSTART;VALUE=DATE:20270517
DTEND;VALUE=DATE:20270518
DTSTAMP:20260420T170921
CREATED:20260128T181321Z
LAST-MODIFIED:20260128T181322Z
UID:10291208-1810512000-1810598399@stmichaels-litchfield.org
SUMMARY:Church Office Closed
DESCRIPTION:
URL:https://stmichaels-litchfield.org/event/summer-schedule-church-office-closed-2-2-2-3/2027-05-17/
LOCATION:Church Office\, 25 South Street\, Litchfield\, CT\, 06759\, United States
CATEGORIES:Church Office Event
END:VEVENT
BEGIN:VEVENT
DTSTART;TZID=America/New_York:20270517T070000
DTEND;TZID=America/New_York:20270517T073000
DTSTAMP:20260420T170921
CREATED:20230606T184551Z
LAST-MODIFIED:20230619T142647Z
UID:10006286-1810537200-1810539000@stmichaels-litchfield.org
SUMMARY:AA Meeting in the Parish House Library
DESCRIPTION:
URL:https://stmichaels-litchfield.org/event/aa-meeting-in-the-library/2027-05-17/
LOCATION:Parish House Library\, 25 South Street\, Litchfield\, CT\, 06759\, United States
CATEGORIES:AA/NA Events
END:VEVENT
BEGIN:VEVENT
DTSTART;TZID=America/New_York:20270517T200000
DTEND;TZID=America/New_York:20270517T213000
DTSTAMP:20260420T170921
CREATED:20260218T173517Z
LAST-MODIFIED:20260218T173517Z
UID:10292631-1810584000-1810589400@stmichaels-litchfield.org
SUMMARY:AA meeting in the Community House
DESCRIPTION:
URL:https://stmichaels-litchfield.org/event/aa-meeting-in-the-community-house-2/2027-05-17/
END:VEVENT
BEGIN:VEVENT
DTSTART;TZID=America/New_York:20270518T093000
DTEND;TZID=America/New_York:20270518T143000
DTSTAMP:20260420T170921
CREATED:20260128T181432Z
LAST-MODIFIED:20260128T181726Z
UID:10291695-1810632600-1810650600@stmichaels-litchfield.org
SUMMARY:Church Office Open
DESCRIPTION:
URL:https://stmichaels-litchfield.org/event/church-office-open-14/2027-05-18/
LOCATION:Church Office\, 25 South Street\, Litchfield\, CT\, 06759\, United States
CATEGORIES:Church Office Event
END:VEVENT
BEGIN:VEVENT
DTSTART;TZID=America/New_York:20270518T160000
DTEND;TZID=America/New_York:20270518T173000
DTSTAMP:20260420T170921
CREATED:20260331T205128Z
LAST-MODIFIED:20260331T205254Z
UID:10294755-1810656000-1810661400@stmichaels-litchfield.org
SUMMARY:Priest Search Committee
DESCRIPTION:
URL:https://stmichaels-litchfield.org/event/priest-search-committee-3-2-5/2027-05-18/
LOCATION:Parish House Library\, 25 South Street\, Litchfield\, CT\, 06759\, United States
END:VEVENT
BEGIN:VEVENT
DTSTART;TZID=America/New_York:20270518T190000
DTEND;TZID=America/New_York:20270518T200000
DTSTAMP:20260420T170921
CREATED:20211108T175914Z
LAST-MODIFIED:20260130T014621Z
UID:10010161-1810666800-1810670400@stmichaels-litchfield.org
SUMMARY:AA Meeting in Community House
DESCRIPTION:
URL:https://stmichaels-litchfield.org/event/aa-group-in-community-house-2/2027-05-18/
LOCATION:Community House in Library from April 9th forward
CATEGORIES:AA/NA Events
END:VEVENT
BEGIN:VEVENT
DTSTART;TZID=America/New_York:20270519T070000
DTEND;TZID=America/New_York:20270519T073000
DTSTAMP:20260420T170921
CREATED:20230606T184551Z
LAST-MODIFIED:20230619T142647Z
UID:10006287-1810710000-1810711800@stmichaels-litchfield.org
SUMMARY:AA Meeting in the Parish House Library
DESCRIPTION:
URL:https://stmichaels-litchfield.org/event/aa-meeting-in-the-library/2027-05-19/
LOCATION:Parish House Library\, 25 South Street\, Litchfield\, CT\, 06759\, United States
CATEGORIES:AA/NA Events
END:VEVENT
BEGIN:VEVENT
DTSTART;TZID=America/New_York:20270519T083000
DTEND;TZID=America/New_York:20270519T110000
DTSTAMP:20260420T170921
CREATED:20250109T152013Z
LAST-MODIFIED:20250109T152013Z
UID:10019499-1810715400-1810724400@stmichaels-litchfield.org
SUMMARY:Greenwoods Counseling
DESCRIPTION:
URL:https://stmichaels-litchfield.org/event/greenwoods-counseling-7/2027-05-19/
CATEGORIES:Greenwoods Counseling
END:VEVENT
BEGIN:VEVENT
DTSTART;TZID=America/New_York:20270519T093000
DTEND;TZID=America/New_York:20270519T143000
DTSTAMP:20260420T170921
CREATED:20260128T181432Z
LAST-MODIFIED:20260128T181726Z
UID:10291696-1810719000-1810737000@stmichaels-litchfield.org
SUMMARY:Church Office Open
DESCRIPTION:
URL:https://stmichaels-litchfield.org/event/church-office-open-14/2027-05-19/
LOCATION:Church Office\, 25 South Street\, Litchfield\, CT\, 06759\, United States
CATEGORIES:Church Office Event
END:VEVENT
BEGIN:VEVENT
DTSTART;TZID=America/New_York:20270519T173000
DTEND;TZID=America/New_York:20270519T180000
DTSTAMP:20260420T170921
CREATED:20260327T155546Z
LAST-MODIFIED:20260327T155546Z
UID:10294496-1810747800-1810749600@stmichaels-litchfield.org
SUMMARY:Chanted Evening Prayer
DESCRIPTION:
URL:https://stmichaels-litchfield.org/event/chanted-evening-prayer-3/2027-05-19/
LOCATION:Chapel\, 25 South Street\, Litchfield\, CT\, 06759\, United States
CATEGORIES:Church Event
END:VEVENT
BEGIN:VEVENT
DTSTART;TZID=America/New_York:20270519T190000
DTEND;TZID=America/New_York:20270519T203000
DTSTAMP:20260420T170921
CREATED:20230817T183342Z
LAST-MODIFIED:20230817T183342Z
UID:10013191-1810753200-1810758600@stmichaels-litchfield.org
SUMMARY:Choir Rehearsal in Parish House Music Room
DESCRIPTION:
URL:https://stmichaels-litchfield.org/event/choir-rehearsal-in-parish-house-music-room/2027-05-19/
LOCATION:Parish House Music Room
CATEGORIES:Church Event
END:VEVENT
BEGIN:VEVENT
DTSTART;TZID=America/New_York:20270519T193000
DTEND;TZID=America/New_York:20270519T210000
DTSTAMP:20260420T170921
CREATED:20211108T180816Z
LAST-MODIFIED:20230714T003135Z
UID:10012515-1810755000-1810760400@stmichaels-litchfield.org
SUMMARY:NA meeting in Community House
DESCRIPTION:
URL:https://stmichaels-litchfield.org/event/narcotics-anonymous/2027-05-19/
LOCATION:Community House in Library from April 9th forward
CATEGORIES:AA/NA Events
END:VEVENT
BEGIN:VEVENT
DTSTART;TZID=America/New_York:20270520T093000
DTEND;TZID=America/New_York:20270520T143000
DTSTAMP:20260420T170921
CREATED:20260128T181432Z
LAST-MODIFIED:20260128T181726Z
UID:10291697-1810805400-1810823400@stmichaels-litchfield.org
SUMMARY:Church Office Open
DESCRIPTION:
URL:https://stmichaels-litchfield.org/event/church-office-open-14/2027-05-20/
LOCATION:Church Office\, 25 South Street\, Litchfield\, CT\, 06759\, United States
CATEGORIES:Church Office Event
END:VEVENT
BEGIN:VEVENT
DTSTART;TZID=America/New_York:20270521T070000
DTEND;TZID=America/New_York:20270521T073000
DTSTAMP:20260420T170921
CREATED:20230606T184551Z
LAST-MODIFIED:20230619T142647Z
UID:10006288-1810882800-1810884600@stmichaels-litchfield.org
SUMMARY:AA Meeting in the Parish House Library
DESCRIPTION:
URL:https://stmichaels-litchfield.org/event/aa-meeting-in-the-library/2027-05-21/
LOCATION:Parish House Library\, 25 South Street\, Litchfield\, CT\, 06759\, United States
CATEGORIES:AA/NA Events
END:VEVENT
BEGIN:VEVENT
DTSTART;TZID=America/New_York:20270521T093000
DTEND;TZID=America/New_York:20270521T143000
DTSTAMP:20260420T170921
CREATED:20260128T181432Z
LAST-MODIFIED:20260128T181726Z
UID:10291698-1810891800-1810909800@stmichaels-litchfield.org
SUMMARY:Church Office Open
DESCRIPTION:
URL:https://stmichaels-litchfield.org/event/church-office-open-14/2027-05-21/
LOCATION:Church Office\, 25 South Street\, Litchfield\, CT\, 06759\, United States
CATEGORIES:Church Office Event
END:VEVENT
BEGIN:VEVENT
DTSTART;TZID=America/New_York:20270522T083000
DTEND;TZID=America/New_York:20270522T093000
DTSTAMP:20260420T170921
CREATED:20230619T143626Z
LAST-MODIFIED:20230619T143720Z
UID:10010768-1810974600-1810978200@stmichaels-litchfield.org
SUMMARY:AA Meeting in Parish House Library
DESCRIPTION:
URL:https://stmichaels-litchfield.org/event/aa-meeting-in-community-house-2/2027-05-22/
LOCATION:Community House in Library from April 9th forward
CATEGORIES:AA/NA Events
END:VEVENT
END:VCALENDAR