BEGIN:VCALENDAR
VERSION:2.0
PRODID:-//St. Michael&#039;s Church - ECPv6.15.20//NONSGML v1.0//EN
CALSCALE:GREGORIAN
METHOD:PUBLISH
X-ORIGINAL-URL:https://stmichaels-litchfield.org
X-WR-CALDESC:Events for St. Michael&#039;s Church
REFRESH-INTERVAL;VALUE=DURATION:PT1H
X-Robots-Tag:noindex
X-PUBLISHED-TTL:PT1H
BEGIN:VTIMEZONE
TZID:America/New_York
BEGIN:DAYLIGHT
TZOFFSETFROM:-0500
TZOFFSETTO:-0400
TZNAME:EDT
DTSTART:20260308T070000
END:DAYLIGHT
BEGIN:STANDARD
TZOFFSETFROM:-0400
TZOFFSETTO:-0500
TZNAME:EST
DTSTART:20261101T060000
END:STANDARD
BEGIN:DAYLIGHT
TZOFFSETFROM:-0500
TZOFFSETTO:-0400
TZNAME:EDT
DTSTART:20270314T070000
END:DAYLIGHT
BEGIN:STANDARD
TZOFFSETFROM:-0400
TZOFFSETTO:-0500
TZNAME:EST
DTSTART:20271107T060000
END:STANDARD
BEGIN:DAYLIGHT
TZOFFSETFROM:-0500
TZOFFSETTO:-0400
TZNAME:EDT
DTSTART:20280312T070000
END:DAYLIGHT
BEGIN:STANDARD
TZOFFSETFROM:-0400
TZOFFSETTO:-0500
TZNAME:EST
DTSTART:20281105T060000
END:STANDARD
END:VTIMEZONE
BEGIN:VEVENT
DTSTART;TZID=America/New_York:20270614T070000
DTEND;TZID=America/New_York:20270614T073000
DTSTAMP:20260420T160723
CREATED:20230606T184551Z
LAST-MODIFIED:20230619T142647Z
UID:10006298-1812956400-1812958200@stmichaels-litchfield.org
SUMMARY:AA Meeting in the Parish House Library
DESCRIPTION:
URL:https://stmichaels-litchfield.org/event/aa-meeting-in-the-library/2027-06-14/
LOCATION:Parish House Library\, 25 South Street\, Litchfield\, CT\, 06759\, United States
CATEGORIES:AA/NA Events
END:VEVENT
BEGIN:VEVENT
DTSTART;TZID=America/New_York:20270614T200000
DTEND;TZID=America/New_York:20270614T213000
DTSTAMP:20260420T160723
CREATED:20260218T173517Z
LAST-MODIFIED:20260218T173517Z
UID:10292635-1813003200-1813008600@stmichaels-litchfield.org
SUMMARY:AA meeting in the Community House
DESCRIPTION:
URL:https://stmichaels-litchfield.org/event/aa-meeting-in-the-community-house-2/2027-06-14/
LOCATION:CT
END:VEVENT
BEGIN:VEVENT
DTSTART;TZID=America/New_York:20270615T093000
DTEND;TZID=America/New_York:20270615T143000
DTSTAMP:20260420T160723
CREATED:20260128T181432Z
LAST-MODIFIED:20260128T181726Z
UID:10291711-1813051800-1813069800@stmichaels-litchfield.org
SUMMARY:Church Office Open
DESCRIPTION:
URL:https://stmichaels-litchfield.org/event/church-office-open-14/2027-06-15/
LOCATION:Church Office\, 25 South Street\, Litchfield\, CT\, 06759\, United States
CATEGORIES:Church Office Event
END:VEVENT
BEGIN:VEVENT
DTSTART;TZID=America/New_York:20270615T160000
DTEND;TZID=America/New_York:20270615T173000
DTSTAMP:20260420T160723
CREATED:20260331T205128Z
LAST-MODIFIED:20260331T205254Z
UID:10294759-1813075200-1813080600@stmichaels-litchfield.org
SUMMARY:Priest Search Committee
DESCRIPTION:
URL:https://stmichaels-litchfield.org/event/priest-search-committee-3-2-5/2027-06-15/
LOCATION:Parish House Library\, 25 South Street\, Litchfield\, CT\, 06759\, United States
END:VEVENT
BEGIN:VEVENT
DTSTART;TZID=America/New_York:20270615T190000
DTEND;TZID=America/New_York:20270615T200000
DTSTAMP:20260420T160723
CREATED:20211108T175914Z
LAST-MODIFIED:20260130T014621Z
UID:10010165-1813086000-1813089600@stmichaels-litchfield.org
SUMMARY:AA Meeting in Community House
DESCRIPTION:
URL:https://stmichaels-litchfield.org/event/aa-group-in-community-house-2/2027-06-15/
LOCATION:Community House in Library from April 9th forward
CATEGORIES:AA/NA Events
END:VEVENT
BEGIN:VEVENT
DTSTART;TZID=America/New_York:20270616T070000
DTEND;TZID=America/New_York:20270616T073000
DTSTAMP:20260420T160723
CREATED:20230606T184551Z
LAST-MODIFIED:20230619T142647Z
UID:10006299-1813129200-1813131000@stmichaels-litchfield.org
SUMMARY:AA Meeting in the Parish House Library
DESCRIPTION:
URL:https://stmichaels-litchfield.org/event/aa-meeting-in-the-library/2027-06-16/
LOCATION:Parish House Library\, 25 South Street\, Litchfield\, CT\, 06759\, United States
CATEGORIES:AA/NA Events
END:VEVENT
BEGIN:VEVENT
DTSTART;TZID=America/New_York:20270616T083000
DTEND;TZID=America/New_York:20270616T110000
DTSTAMP:20260420T160723
CREATED:20250109T152013Z
LAST-MODIFIED:20250109T152013Z
UID:10019503-1813134600-1813143600@stmichaels-litchfield.org
SUMMARY:Greenwoods Counseling
DESCRIPTION:
URL:https://stmichaels-litchfield.org/event/greenwoods-counseling-7/2027-06-16/
LOCATION:CT
CATEGORIES:Greenwoods Counseling
END:VEVENT
BEGIN:VEVENT
DTSTART;TZID=America/New_York:20270616T093000
DTEND;TZID=America/New_York:20270616T143000
DTSTAMP:20260420T160723
CREATED:20260128T181432Z
LAST-MODIFIED:20260128T181726Z
UID:10291712-1813138200-1813156200@stmichaels-litchfield.org
SUMMARY:Church Office Open
DESCRIPTION:
URL:https://stmichaels-litchfield.org/event/church-office-open-14/2027-06-16/
LOCATION:Church Office\, 25 South Street\, Litchfield\, CT\, 06759\, United States
CATEGORIES:Church Office Event
END:VEVENT
BEGIN:VEVENT
DTSTART;TZID=America/New_York:20270616T173000
DTEND;TZID=America/New_York:20270616T180000
DTSTAMP:20260420T160723
CREATED:20260327T155546Z
LAST-MODIFIED:20260327T155546Z
UID:10294500-1813167000-1813168800@stmichaels-litchfield.org
SUMMARY:Chanted Evening Prayer
DESCRIPTION:
URL:https://stmichaels-litchfield.org/event/chanted-evening-prayer-3/2027-06-16/
LOCATION:Chapel\, 25 South Street\, Litchfield\, CT\, 06759\, United States
CATEGORIES:Church Event
END:VEVENT
BEGIN:VEVENT
DTSTART;TZID=America/New_York:20270616T190000
DTEND;TZID=America/New_York:20270616T203000
DTSTAMP:20260420T160723
CREATED:20230817T183342Z
LAST-MODIFIED:20230817T183342Z
UID:10013195-1813172400-1813177800@stmichaels-litchfield.org
SUMMARY:Choir Rehearsal in Parish House Music Room
DESCRIPTION:
URL:https://stmichaels-litchfield.org/event/choir-rehearsal-in-parish-house-music-room/2027-06-16/
LOCATION:Parish House Music Room
CATEGORIES:Church Event
END:VEVENT
BEGIN:VEVENT
DTSTART;TZID=America/New_York:20270616T193000
DTEND;TZID=America/New_York:20270616T210000
DTSTAMP:20260420T160723
CREATED:20211108T180816Z
LAST-MODIFIED:20230714T003135Z
UID:10012519-1813174200-1813179600@stmichaels-litchfield.org
SUMMARY:NA meeting in Community House
DESCRIPTION:
URL:https://stmichaels-litchfield.org/event/narcotics-anonymous/2027-06-16/
LOCATION:Community House in Library from April 9th forward
CATEGORIES:AA/NA Events
END:VEVENT
BEGIN:VEVENT
DTSTART;TZID=America/New_York:20270617T093000
DTEND;TZID=America/New_York:20270617T143000
DTSTAMP:20260420T160723
CREATED:20260128T181432Z
LAST-MODIFIED:20260128T181726Z
UID:10291713-1813224600-1813242600@stmichaels-litchfield.org
SUMMARY:Church Office Open
DESCRIPTION:
URL:https://stmichaels-litchfield.org/event/church-office-open-14/2027-06-17/
LOCATION:Church Office\, 25 South Street\, Litchfield\, CT\, 06759\, United States
CATEGORIES:Church Office Event
END:VEVENT
BEGIN:VEVENT
DTSTART;TZID=America/New_York:20270618T070000
DTEND;TZID=America/New_York:20270618T073000
DTSTAMP:20260420T160723
CREATED:20230606T184551Z
LAST-MODIFIED:20230619T142647Z
UID:10006300-1813302000-1813303800@stmichaels-litchfield.org
SUMMARY:AA Meeting in the Parish House Library
DESCRIPTION:
URL:https://stmichaels-litchfield.org/event/aa-meeting-in-the-library/2027-06-18/
LOCATION:Parish House Library\, 25 South Street\, Litchfield\, CT\, 06759\, United States
CATEGORIES:AA/NA Events
END:VEVENT
BEGIN:VEVENT
DTSTART;TZID=America/New_York:20270618T093000
DTEND;TZID=America/New_York:20270618T143000
DTSTAMP:20260420T160723
CREATED:20260128T181432Z
LAST-MODIFIED:20260128T181726Z
UID:10291714-1813311000-1813329000@stmichaels-litchfield.org
SUMMARY:Church Office Open
DESCRIPTION:
URL:https://stmichaels-litchfield.org/event/church-office-open-14/2027-06-18/
LOCATION:Church Office\, 25 South Street\, Litchfield\, CT\, 06759\, United States
CATEGORIES:Church Office Event
END:VEVENT
BEGIN:VEVENT
DTSTART;TZID=America/New_York:20270619T083000
DTEND;TZID=America/New_York:20270619T093000
DTSTAMP:20260420T160723
CREATED:20230619T143626Z
LAST-MODIFIED:20230619T143720Z
UID:10010772-1813393800-1813397400@stmichaels-litchfield.org
SUMMARY:AA Meeting in Parish House Library
DESCRIPTION:
URL:https://stmichaels-litchfield.org/event/aa-meeting-in-community-house-2/2027-06-19/
LOCATION:Community House in Library from April 9th forward
CATEGORIES:AA/NA Events
END:VEVENT
BEGIN:VEVENT
DTSTART;TZID=America/New_York:20270620T080000
DTEND;TZID=America/New_York:20270620T090000
DTSTAMP:20260420T160723
CREATED:20211108T181651Z
LAST-MODIFIED:20260327T134504Z
UID:10020463-1813478400-1813482000@stmichaels-litchfield.org
SUMMARY:Eucharist\, Rite I
DESCRIPTION:Spoken\, no music
URL:https://stmichaels-litchfield.org/event/sunday-eucharist/2027-06-20/
LOCATION:Chapel\, 25 South Street\, Litchfield\, CT\, 06759\, United States
CATEGORIES:Church Event,Parish Events
END:VEVENT
BEGIN:VEVENT
DTSTART;TZID=America/New_York:20270620T100000
DTEND;TZID=America/New_York:20270620T110000
DTSTAMP:20260420T160723
CREATED:20250403T150154Z
LAST-MODIFIED:20250806T192031Z
UID:10012778-1813485600-1813489200@stmichaels-litchfield.org
SUMMARY:Sunday Eucharist\, Rite II
DESCRIPTION:Rite II with music \nFollowed by Coffee Hour in the Community House
URL:https://stmichaels-litchfield.org/event/sunday-eucharist-2-3/2027-06-20/
LOCATION:Church and Community House
CATEGORIES:Church Event,Parish Events
END:VEVENT
BEGIN:VEVENT
DTSTART;TZID=America/New_York:20270620T110000
DTEND;TZID=America/New_York:20270620T140000
DTSTAMP:20260420T160723
CREATED:20230711T182541Z
LAST-MODIFIED:20250806T192214Z
UID:10012117-1813489200-1813500000@stmichaels-litchfield.org
SUMMARY:Coffee and Fellowship in the Community House
DESCRIPTION:
URL:https://stmichaels-litchfield.org/event/coffee-and-congregation-in-the-community-house/2027-06-20/
LOCATION:Community House in Library from April 9th forward
CATEGORIES:Church Event
END:VEVENT
BEGIN:VEVENT
DTSTART;TZID=America/New_York:20270620T190000
DTEND;TZID=America/New_York:20270620T200000
DTSTAMP:20260420T160723
CREATED:20230619T142544Z
LAST-MODIFIED:20260416T160049Z
UID:10009962-1813518000-1813521600@stmichaels-litchfield.org
SUMMARY:AA Meeting in Community House
DESCRIPTION:
URL:https://stmichaels-litchfield.org/event/aa-meeting-in-community-house/2027-06-20/
LOCATION:Community House in Library from April 9th forward
END:VEVENT
BEGIN:VEVENT
DTSTART;VALUE=DATE:20270621
DTEND;VALUE=DATE:20270622
DTSTAMP:20260420T160723
CREATED:20260128T181321Z
LAST-MODIFIED:20260128T181322Z
UID:10291213-1813536000-1813622399@stmichaels-litchfield.org
SUMMARY:Church Office Closed
DESCRIPTION:
URL:https://stmichaels-litchfield.org/event/summer-schedule-church-office-closed-2-2-2-3/2027-06-21/
LOCATION:Church Office\, 25 South Street\, Litchfield\, CT\, 06759\, United States
CATEGORIES:Church Office Event
END:VEVENT
BEGIN:VEVENT
DTSTART;TZID=America/New_York:20270621T070000
DTEND;TZID=America/New_York:20270621T073000
DTSTAMP:20260420T160723
CREATED:20230606T184551Z
LAST-MODIFIED:20230619T142647Z
UID:10006301-1813561200-1813563000@stmichaels-litchfield.org
SUMMARY:AA Meeting in the Parish House Library
DESCRIPTION:
URL:https://stmichaels-litchfield.org/event/aa-meeting-in-the-library/2027-06-21/
LOCATION:Parish House Library\, 25 South Street\, Litchfield\, CT\, 06759\, United States
CATEGORIES:AA/NA Events
END:VEVENT
BEGIN:VEVENT
DTSTART;TZID=America/New_York:20270621T200000
DTEND;TZID=America/New_York:20270621T213000
DTSTAMP:20260420T160723
CREATED:20260218T173517Z
LAST-MODIFIED:20260218T173517Z
UID:10292636-1813608000-1813613400@stmichaels-litchfield.org
SUMMARY:AA meeting in the Community House
DESCRIPTION:
URL:https://stmichaels-litchfield.org/event/aa-meeting-in-the-community-house-2/2027-06-21/
LOCATION:CT
END:VEVENT
BEGIN:VEVENT
DTSTART;TZID=America/New_York:20270622T093000
DTEND;TZID=America/New_York:20270622T143000
DTSTAMP:20260420T160723
CREATED:20260128T181432Z
LAST-MODIFIED:20260128T181726Z
UID:10291715-1813656600-1813674600@stmichaels-litchfield.org
SUMMARY:Church Office Open
DESCRIPTION:
URL:https://stmichaels-litchfield.org/event/church-office-open-14/2027-06-22/
LOCATION:Church Office\, 25 South Street\, Litchfield\, CT\, 06759\, United States
CATEGORIES:Church Office Event
END:VEVENT
BEGIN:VEVENT
DTSTART;TZID=America/New_York:20270622T160000
DTEND;TZID=America/New_York:20270622T173000
DTSTAMP:20260420T160723
CREATED:20260331T205128Z
LAST-MODIFIED:20260331T205254Z
UID:10294760-1813680000-1813685400@stmichaels-litchfield.org
SUMMARY:Priest Search Committee
DESCRIPTION:
URL:https://stmichaels-litchfield.org/event/priest-search-committee-3-2-5/2027-06-22/
LOCATION:Parish House Library\, 25 South Street\, Litchfield\, CT\, 06759\, United States
END:VEVENT
BEGIN:VEVENT
DTSTART;TZID=America/New_York:20270622T190000
DTEND;TZID=America/New_York:20270622T200000
DTSTAMP:20260420T160723
CREATED:20211108T175914Z
LAST-MODIFIED:20260130T014621Z
UID:10010166-1813690800-1813694400@stmichaels-litchfield.org
SUMMARY:AA Meeting in Community House
DESCRIPTION:
URL:https://stmichaels-litchfield.org/event/aa-group-in-community-house-2/2027-06-22/
LOCATION:Community House in Library from April 9th forward
CATEGORIES:AA/NA Events
END:VEVENT
BEGIN:VEVENT
DTSTART;TZID=America/New_York:20270623T070000
DTEND;TZID=America/New_York:20270623T073000
DTSTAMP:20260420T160723
CREATED:20230606T184551Z
LAST-MODIFIED:20230619T142647Z
UID:10006302-1813734000-1813735800@stmichaels-litchfield.org
SUMMARY:AA Meeting in the Parish House Library
DESCRIPTION:
URL:https://stmichaels-litchfield.org/event/aa-meeting-in-the-library/2027-06-23/
LOCATION:Parish House Library\, 25 South Street\, Litchfield\, CT\, 06759\, United States
CATEGORIES:AA/NA Events
END:VEVENT
BEGIN:VEVENT
DTSTART;TZID=America/New_York:20270623T083000
DTEND;TZID=America/New_York:20270623T110000
DTSTAMP:20260420T160723
CREATED:20250109T152013Z
LAST-MODIFIED:20250109T152013Z
UID:10019504-1813739400-1813748400@stmichaels-litchfield.org
SUMMARY:Greenwoods Counseling
DESCRIPTION:
URL:https://stmichaels-litchfield.org/event/greenwoods-counseling-7/2027-06-23/
LOCATION:CT
CATEGORIES:Greenwoods Counseling
END:VEVENT
BEGIN:VEVENT
DTSTART;TZID=America/New_York:20270623T093000
DTEND;TZID=America/New_York:20270623T143000
DTSTAMP:20260420T160723
CREATED:20260128T181432Z
LAST-MODIFIED:20260128T181726Z
UID:10291716-1813743000-1813761000@stmichaels-litchfield.org
SUMMARY:Church Office Open
DESCRIPTION:
URL:https://stmichaels-litchfield.org/event/church-office-open-14/2027-06-23/
LOCATION:Church Office\, 25 South Street\, Litchfield\, CT\, 06759\, United States
CATEGORIES:Church Office Event
END:VEVENT
BEGIN:VEVENT
DTSTART;TZID=America/New_York:20270623T173000
DTEND;TZID=America/New_York:20270623T180000
DTSTAMP:20260420T160723
CREATED:20260327T155546Z
LAST-MODIFIED:20260327T155546Z
UID:10294501-1813771800-1813773600@stmichaels-litchfield.org
SUMMARY:Chanted Evening Prayer
DESCRIPTION:
URL:https://stmichaels-litchfield.org/event/chanted-evening-prayer-3/2027-06-23/
LOCATION:Chapel\, 25 South Street\, Litchfield\, CT\, 06759\, United States
CATEGORIES:Church Event
END:VEVENT
BEGIN:VEVENT
DTSTART;TZID=America/New_York:20270623T190000
DTEND;TZID=America/New_York:20270623T203000
DTSTAMP:20260420T160723
CREATED:20230817T183342Z
LAST-MODIFIED:20230817T183342Z
UID:10013196-1813777200-1813782600@stmichaels-litchfield.org
SUMMARY:Choir Rehearsal in Parish House Music Room
DESCRIPTION:
URL:https://stmichaels-litchfield.org/event/choir-rehearsal-in-parish-house-music-room/2027-06-23/
LOCATION:Parish House Music Room
CATEGORIES:Church Event
END:VEVENT
END:VCALENDAR