BEGIN:VCALENDAR
VERSION:2.0
PRODID:-//St. Michael&#039;s Church - ECPv6.15.20//NONSGML v1.0//EN
CALSCALE:GREGORIAN
METHOD:PUBLISH
X-WR-CALNAME:St. Michael&#039;s Church
X-ORIGINAL-URL:https://stmichaels-litchfield.org
X-WR-CALDESC:Events for St. Michael&#039;s Church
REFRESH-INTERVAL;VALUE=DURATION:PT1H
X-Robots-Tag:noindex
X-PUBLISHED-TTL:PT1H
BEGIN:VTIMEZONE
TZID:America/New_York
BEGIN:DAYLIGHT
TZOFFSETFROM:-0500
TZOFFSETTO:-0400
TZNAME:EDT
DTSTART:20230312T070000
END:DAYLIGHT
BEGIN:STANDARD
TZOFFSETFROM:-0400
TZOFFSETTO:-0500
TZNAME:EST
DTSTART:20231105T060000
END:STANDARD
BEGIN:DAYLIGHT
TZOFFSETFROM:-0500
TZOFFSETTO:-0400
TZNAME:EDT
DTSTART:20240310T070000
END:DAYLIGHT
BEGIN:STANDARD
TZOFFSETFROM:-0400
TZOFFSETTO:-0500
TZNAME:EST
DTSTART:20241103T060000
END:STANDARD
BEGIN:DAYLIGHT
TZOFFSETFROM:-0500
TZOFFSETTO:-0400
TZNAME:EDT
DTSTART:20250309T070000
END:DAYLIGHT
BEGIN:STANDARD
TZOFFSETFROM:-0400
TZOFFSETTO:-0500
TZNAME:EST
DTSTART:20251102T060000
END:STANDARD
END:VTIMEZONE
BEGIN:VEVENT
DTSTART;TZID=America/New_York:20241218T090000
DTEND;TZID=America/New_York:20241218T110000
DTSTAMP:20260423T180310
CREATED:20240103T135757Z
LAST-MODIFIED:20240103T135757Z
UID:10015048-1734512400-1734519600@stmichaels-litchfield.org
SUMMARY:Greenwoods Clinical Meeting in Community House
DESCRIPTION:
URL:https://stmichaels-litchfield.org/event/greenwoods-clinical-meeting-in-community-house/2024-12-18/
LOCATION:Community House in Library from April 9th forward
CATEGORIES:Greenwoods Counseling
ORGANIZER;CN="Michelle Sonnati":MAILTO:msonnati@greenwoodsreferrals.org
END:VEVENT
BEGIN:VEVENT
DTSTART;TZID=America/New_York:20241218T090000
DTEND;TZID=America/New_York:20241218T130000
DTSTAMP:20260423T180310
CREATED:20240206T174110Z
LAST-MODIFIED:20260107T171415Z
UID:10288681-1734512400-1734526800@stmichaels-litchfield.org
SUMMARY:Church Office Open
DESCRIPTION:
URL:https://stmichaels-litchfield.org/event/church-office-open-2-2-2-2/2024-12-18/
LOCATION:Church Office\, 25 South Street\, Litchfield\, CT\, 06759\, United States
CATEGORIES:Church Office Event
END:VEVENT
BEGIN:VEVENT
DTSTART;TZID=America/New_York:20241218T100000
DTEND;TZID=America/New_York:20241218T130000
DTSTAMP:20260423T180310
CREATED:20240206T174237Z
LAST-MODIFIED:20240223T173652Z
UID:10017061-1734516000-1734526800@stmichaels-litchfield.org
SUMMARY:Church Office Open
DESCRIPTION:
URL:https://stmichaels-litchfield.org/event/church-office-open-3-4-2/2024-12-18/
LOCATION:Church Office\, 25 South Street\, Litchfield\, CT\, 06759\, United States
END:VEVENT
BEGIN:VEVENT
DTSTART;TZID=America/New_York:20241218T190000
DTEND;TZID=America/New_York:20241218T203000
DTSTAMP:20260423T180310
CREATED:20230817T183342Z
LAST-MODIFIED:20230817T183342Z
UID:10013065-1734548400-1734553800@stmichaels-litchfield.org
SUMMARY:Choir Rehearsal in Parish House Music Room
DESCRIPTION:
URL:https://stmichaels-litchfield.org/event/choir-rehearsal-in-parish-house-music-room/2024-12-18/
LOCATION:Parish House Music Room
CATEGORIES:Church Event
END:VEVENT
BEGIN:VEVENT
DTSTART;TZID=America/New_York:20241218T193000
DTEND;TZID=America/New_York:20241218T210000
DTSTAMP:20260423T180310
CREATED:20211108T180816Z
LAST-MODIFIED:20230714T003135Z
UID:10012389-1734550200-1734555600@stmichaels-litchfield.org
SUMMARY:NA meeting in Community House
DESCRIPTION:
URL:https://stmichaels-litchfield.org/event/narcotics-anonymous/2024-12-18/
LOCATION:Community House in Library from April 9th forward
CATEGORIES:AA/NA Events
END:VEVENT
BEGIN:VEVENT
DTSTART;TZID=America/New_York:20241219T080000
DTEND;TZID=America/New_York:20241220T150000
DTSTAMP:20260423T180310
CREATED:20241009T163831Z
LAST-MODIFIED:20241009T163831Z
UID:10019351-1734595200-1734706800@stmichaels-litchfield.org
SUMMARY:School on the Green  Holiday Show
DESCRIPTION:
URL:https://stmichaels-litchfield.org/event/school-on-the-green-holiday-show/
LOCATION:Church Courtyard\, Community Ctr\, Library
CATEGORIES:School on the Green Event
END:VEVENT
BEGIN:VEVENT
DTSTART;TZID=America/New_York:20241219T090000
DTEND;TZID=America/New_York:20241219T130000
DTSTAMP:20260423T180310
CREATED:20240206T174110Z
LAST-MODIFIED:20260107T171415Z
UID:10288682-1734598800-1734613200@stmichaels-litchfield.org
SUMMARY:Church Office Open
DESCRIPTION:
URL:https://stmichaels-litchfield.org/event/church-office-open-2-2-2-2/2024-12-19/
LOCATION:Church Office\, 25 South Street\, Litchfield\, CT\, 06759\, United States
CATEGORIES:Church Office Event
END:VEVENT
BEGIN:VEVENT
DTSTART;TZID=America/New_York:20241219T100000
DTEND;TZID=America/New_York:20241219T130000
DTSTAMP:20260423T180310
CREATED:20240206T174423Z
LAST-MODIFIED:20240223T173813Z
UID:10017322-1734602400-1734613200@stmichaels-litchfield.org
SUMMARY:Church Office Open
DESCRIPTION:
URL:https://stmichaels-litchfield.org/event/church-office-open-4-5-2/2024-12-19/
LOCATION:Church Office\, 25 South Street\, Litchfield\, CT\, 06759\, United States
END:VEVENT
BEGIN:VEVENT
DTSTART;TZID=America/New_York:20241220T070000
DTEND;TZID=America/New_York:20241220T073000
DTSTAMP:20260423T180310
CREATED:20230606T184551Z
LAST-MODIFIED:20230619T142647Z
UID:10005910-1734678000-1734679800@stmichaels-litchfield.org
SUMMARY:AA Meeting in the Parish House Library
DESCRIPTION:
URL:https://stmichaels-litchfield.org/event/aa-meeting-in-the-library/2024-12-20/
LOCATION:Parish House Library\, 25 South Street\, Litchfield\, CT\, 06759\, United States
CATEGORIES:AA/NA Events
END:VEVENT
BEGIN:VEVENT
DTSTART;TZID=America/New_York:20241220T100000
DTEND;TZID=America/New_York:20241220T130000
DTSTAMP:20260423T180310
CREATED:20240223T172033Z
LAST-MODIFIED:20240223T172034Z
UID:10016278-1734688800-1734699600@stmichaels-litchfield.org
SUMMARY:Church Office Open
DESCRIPTION:
URL:https://stmichaels-litchfield.org/event/summer-schedule-church-office-closed-2-2/2024-12-20/
LOCATION:Church Office\, 25 South Street\, Litchfield\, CT\, 06759\, United States
CATEGORIES:Church Office Event
END:VEVENT
BEGIN:VEVENT
DTSTART;TZID=America/New_York:20241221T080000
DTEND;TZID=America/New_York:20241221T170000
DTSTAMP:20260423T180310
CREATED:20241220T154556Z
LAST-MODIFIED:20241220T155033Z
UID:10019374-1734768000-1734800400@stmichaels-litchfield.org
SUMMARY:Food Pantry Set Up  -  Community House
DESCRIPTION:
URL:https://stmichaels-litchfield.org/event/food-pantry-set-up-nan/
LOCATION:Community House in Library from April 9th forward
CATEGORIES:Food Pantry
END:VEVENT
BEGIN:VEVENT
DTSTART;TZID=America/New_York:20241221T083000
DTEND;TZID=America/New_York:20241221T093000
DTSTAMP:20260423T180310
CREATED:20230619T143626Z
LAST-MODIFIED:20230619T143720Z
UID:10010642-1734769800-1734773400@stmichaels-litchfield.org
SUMMARY:AA Meeting in Parish House Library
DESCRIPTION:
URL:https://stmichaels-litchfield.org/event/aa-meeting-in-community-house-2/2024-12-21/
LOCATION:Community House in Library from April 9th forward
CATEGORIES:AA/NA Events
END:VEVENT
BEGIN:VEVENT
DTSTART;TZID=America/New_York:20241222T080000
DTEND;TZID=America/New_York:20241222T090000
DTSTAMP:20260423T180310
CREATED:20211108T181651Z
LAST-MODIFIED:20260327T134504Z
UID:10020333-1734854400-1734858000@stmichaels-litchfield.org
SUMMARY:Eucharist\, Rite I
DESCRIPTION:Spoken\, no music
URL:https://stmichaels-litchfield.org/event/sunday-eucharist/2024-12-22/
LOCATION:Chapel\, 25 South Street\, Litchfield\, CT\, 06759\, United States
CATEGORIES:Church Event,Parish Events
END:VEVENT
BEGIN:VEVENT
DTSTART;TZID=America/New_York:20241222T100000
DTEND;TZID=America/New_York:20241222T110000
DTSTAMP:20260423T180310
CREATED:20211108T181948Z
LAST-MODIFIED:20250403T150318Z
UID:10012648-1734861600-1734865200@stmichaels-litchfield.org
SUMMARY:Sunday Eucharist\, Rite II
DESCRIPTION:Rite II with Choir \nFollowed by Coffee Hour in the Community House
URL:https://stmichaels-litchfield.org/event/sunday-eucharist-2/2024-12-22/
LOCATION:CT
CATEGORIES:Parish Events
END:VEVENT
BEGIN:VEVENT
DTSTART;TZID=America/New_York:20241222T110000
DTEND;TZID=America/New_York:20241222T140000
DTSTAMP:20260423T180310
CREATED:20230711T182541Z
LAST-MODIFIED:20250806T192214Z
UID:10011987-1734865200-1734876000@stmichaels-litchfield.org
SUMMARY:Coffee and Fellowship in the Community House
DESCRIPTION:
URL:https://stmichaels-litchfield.org/event/coffee-and-congregation-in-the-community-house/2024-12-22/
LOCATION:Community House in Library from April 9th forward
CATEGORIES:Church Event
END:VEVENT
BEGIN:VEVENT
DTSTART;TZID=America/New_York:20241222T190000
DTEND;TZID=America/New_York:20241222T200000
DTSTAMP:20260423T180310
CREATED:20230619T142544Z
LAST-MODIFIED:20260416T160049Z
UID:10009832-1734894000-1734897600@stmichaels-litchfield.org
SUMMARY:AA Meeting in Community House
DESCRIPTION:
URL:https://stmichaels-litchfield.org/event/aa-meeting-in-community-house/2024-12-22/
LOCATION:Community House in Library from April 9th forward
END:VEVENT
BEGIN:VEVENT
DTSTART;TZID=America/New_York:20241223T070000
DTEND;TZID=America/New_York:20241223T073000
DTSTAMP:20260423T180310
CREATED:20230606T184551Z
LAST-MODIFIED:20230619T142647Z
UID:10005911-1734937200-1734939000@stmichaels-litchfield.org
SUMMARY:AA Meeting in the Parish House Library
DESCRIPTION:
URL:https://stmichaels-litchfield.org/event/aa-meeting-in-the-library/2024-12-23/
LOCATION:Parish House Library\, 25 South Street\, Litchfield\, CT\, 06759\, United States
CATEGORIES:AA/NA Events
END:VEVENT
BEGIN:VEVENT
DTSTART;TZID=America/New_York:20241223T090000
DTEND;TZID=America/New_York:20241223T130000
DTSTAMP:20260423T180310
CREATED:20240206T174110Z
LAST-MODIFIED:20260107T171415Z
UID:10288683-1734944400-1734958800@stmichaels-litchfield.org
SUMMARY:Church Office Open
DESCRIPTION:
URL:https://stmichaels-litchfield.org/event/church-office-open-2-2-2-2/2024-12-23/
LOCATION:Church Office\, 25 South Street\, Litchfield\, CT\, 06759\, United States
CATEGORIES:Church Office Event
END:VEVENT
BEGIN:VEVENT
DTSTART;TZID=America/New_York:20241223T100000
DTEND;TZID=America/New_York:20241223T130000
DTSTAMP:20260423T180310
CREATED:20240206T173900Z
LAST-MODIFIED:20240223T172212Z
UID:10016540-1734948000-1734958800@stmichaels-litchfield.org
SUMMARY:Church Office Open
DESCRIPTION:
URL:https://stmichaels-litchfield.org/event/church-office-open-7-5-2/2024-12-23/
LOCATION:Church Office\, 25 South Street\, Litchfield\, CT\, 06759\, United States
END:VEVENT
BEGIN:VEVENT
DTSTART;TZID=America/New_York:20241224T090000
DTEND;TZID=America/New_York:20241224T130000
DTSTAMP:20260423T180310
CREATED:20240206T174110Z
LAST-MODIFIED:20260107T171415Z
UID:10020739-1735030800-1735045200@stmichaels-litchfield.org
SUMMARY:Church Office Open
DESCRIPTION:
URL:https://stmichaels-litchfield.org/event/church-office-open-2-2-2-2/2024-12-24/
LOCATION:Church Office\, 25 South Street\, Litchfield\, CT\, 06759\, United States
CATEGORIES:Church Office Event
END:VEVENT
BEGIN:VEVENT
DTSTART;TZID=America/New_York:20241224T190000
DTEND;TZID=America/New_York:20241224T200000
DTSTAMP:20260423T180310
CREATED:20211108T175914Z
LAST-MODIFIED:20260130T014621Z
UID:10010036-1735066800-1735070400@stmichaels-litchfield.org
SUMMARY:AA Meeting in Community House
DESCRIPTION:
URL:https://stmichaels-litchfield.org/event/aa-group-in-community-house-2/2024-12-24/
LOCATION:Community House in Library from April 9th forward
CATEGORIES:AA/NA Events
END:VEVENT
BEGIN:VEVENT
DTSTART;TZID=America/New_York:20241225T070000
DTEND;TZID=America/New_York:20241225T073000
DTSTAMP:20260423T180310
CREATED:20230606T184551Z
LAST-MODIFIED:20230619T142647Z
UID:10005912-1735110000-1735111800@stmichaels-litchfield.org
SUMMARY:AA Meeting in the Parish House Library
DESCRIPTION:
URL:https://stmichaels-litchfield.org/event/aa-meeting-in-the-library/2024-12-25/
LOCATION:Parish House Library\, 25 South Street\, Litchfield\, CT\, 06759\, United States
CATEGORIES:AA/NA Events
END:VEVENT
BEGIN:VEVENT
DTSTART;TZID=America/New_York:20241225T090000
DTEND;TZID=America/New_York:20241225T130000
DTSTAMP:20260423T180310
CREATED:20240206T174110Z
LAST-MODIFIED:20260107T171415Z
UID:10288684-1735117200-1735131600@stmichaels-litchfield.org
SUMMARY:Church Office Open
DESCRIPTION:
URL:https://stmichaels-litchfield.org/event/church-office-open-2-2-2-2/2024-12-25/
LOCATION:Church Office\, 25 South Street\, Litchfield\, CT\, 06759\, United States
CATEGORIES:Church Office Event
END:VEVENT
BEGIN:VEVENT
DTSTART;TZID=America/New_York:20241225T100000
DTEND;TZID=America/New_York:20241225T130000
DTSTAMP:20260423T180310
CREATED:20240206T174237Z
LAST-MODIFIED:20240223T173652Z
UID:10017062-1735120800-1735131600@stmichaels-litchfield.org
SUMMARY:Church Office Open
DESCRIPTION:
URL:https://stmichaels-litchfield.org/event/church-office-open-3-4-2/2024-12-25/
LOCATION:Church Office\, 25 South Street\, Litchfield\, CT\, 06759\, United States
END:VEVENT
BEGIN:VEVENT
DTSTART;TZID=America/New_York:20241225T110000
DTEND;TZID=America/New_York:20241225T133000
DTSTAMP:20260423T180310
CREATED:20231012T152740Z
LAST-MODIFIED:20231012T152740Z
UID:10013892-1735124400-1735133400@stmichaels-litchfield.org
SUMMARY:Greenwoods Counselling All Staff Meeting in the Community House
DESCRIPTION:
URL:https://stmichaels-litchfield.org/event/greenwoods-counselling-all-staff-meeting-in-the-community-house/2024-12-25/
LOCATION:Community House in Library from April 9th forward
CATEGORIES:Greenwoods Counseling
END:VEVENT
BEGIN:VEVENT
DTSTART;TZID=America/New_York:20241225T190000
DTEND;TZID=America/New_York:20241225T203000
DTSTAMP:20260423T180310
CREATED:20230817T183342Z
LAST-MODIFIED:20230817T183342Z
UID:10013066-1735153200-1735158600@stmichaels-litchfield.org
SUMMARY:Choir Rehearsal in Parish House Music Room
DESCRIPTION:
URL:https://stmichaels-litchfield.org/event/choir-rehearsal-in-parish-house-music-room/2024-12-25/
LOCATION:Parish House Music Room
CATEGORIES:Church Event
END:VEVENT
BEGIN:VEVENT
DTSTART;TZID=America/New_York:20241225T193000
DTEND;TZID=America/New_York:20241225T210000
DTSTAMP:20260423T180310
CREATED:20211108T180816Z
LAST-MODIFIED:20230714T003135Z
UID:10012390-1735155000-1735160400@stmichaels-litchfield.org
SUMMARY:NA meeting in Community House
DESCRIPTION:
URL:https://stmichaels-litchfield.org/event/narcotics-anonymous/2024-12-25/
LOCATION:Community House in Library from April 9th forward
CATEGORIES:AA/NA Events
END:VEVENT
BEGIN:VEVENT
DTSTART;TZID=America/New_York:20241226T090000
DTEND;TZID=America/New_York:20241226T130000
DTSTAMP:20260423T180310
CREATED:20240206T174110Z
LAST-MODIFIED:20260107T171415Z
UID:10288685-1735203600-1735218000@stmichaels-litchfield.org
SUMMARY:Church Office Open
DESCRIPTION:
URL:https://stmichaels-litchfield.org/event/church-office-open-2-2-2-2/2024-12-26/
LOCATION:Church Office\, 25 South Street\, Litchfield\, CT\, 06759\, United States
CATEGORIES:Church Office Event
END:VEVENT
BEGIN:VEVENT
DTSTART;TZID=America/New_York:20241226T100000
DTEND;TZID=America/New_York:20241226T130000
DTSTAMP:20260423T180310
CREATED:20240206T174423Z
LAST-MODIFIED:20240223T173813Z
UID:10017323-1735207200-1735218000@stmichaels-litchfield.org
SUMMARY:Church Office Open
DESCRIPTION:
URL:https://stmichaels-litchfield.org/event/church-office-open-4-5-2/2024-12-26/
LOCATION:Church Office\, 25 South Street\, Litchfield\, CT\, 06759\, United States
END:VEVENT
BEGIN:VEVENT
DTSTART;TZID=America/New_York:20241227T070000
DTEND;TZID=America/New_York:20241227T073000
DTSTAMP:20260423T180310
CREATED:20230606T184551Z
LAST-MODIFIED:20230619T142647Z
UID:10005913-1735282800-1735284600@stmichaels-litchfield.org
SUMMARY:AA Meeting in the Parish House Library
DESCRIPTION:
URL:https://stmichaels-litchfield.org/event/aa-meeting-in-the-library/2024-12-27/
LOCATION:Parish House Library\, 25 South Street\, Litchfield\, CT\, 06759\, United States
CATEGORIES:AA/NA Events
END:VEVENT
END:VCALENDAR