BEGIN:VCALENDAR
VERSION:2.0
PRODID:-//St. Michael&#039;s Church - ECPv6.15.20//NONSGML v1.0//EN
CALSCALE:GREGORIAN
METHOD:PUBLISH
X-WR-CALNAME:St. Michael&#039;s Church
X-ORIGINAL-URL:https://stmichaels-litchfield.org
X-WR-CALDESC:Events for St. Michael&#039;s Church
REFRESH-INTERVAL;VALUE=DURATION:PT1H
X-Robots-Tag:noindex
X-PUBLISHED-TTL:PT1H
BEGIN:VTIMEZONE
TZID:America/New_York
BEGIN:DAYLIGHT
TZOFFSETFROM:-0500
TZOFFSETTO:-0400
TZNAME:EDT
DTSTART:20260308T070000
END:DAYLIGHT
BEGIN:STANDARD
TZOFFSETFROM:-0400
TZOFFSETTO:-0500
TZNAME:EST
DTSTART:20261101T060000
END:STANDARD
BEGIN:DAYLIGHT
TZOFFSETFROM:-0500
TZOFFSETTO:-0400
TZNAME:EDT
DTSTART:20270314T070000
END:DAYLIGHT
BEGIN:STANDARD
TZOFFSETFROM:-0400
TZOFFSETTO:-0500
TZNAME:EST
DTSTART:20271107T060000
END:STANDARD
BEGIN:DAYLIGHT
TZOFFSETFROM:-0500
TZOFFSETTO:-0400
TZNAME:EDT
DTSTART:20280312T070000
END:DAYLIGHT
BEGIN:STANDARD
TZOFFSETFROM:-0400
TZOFFSETTO:-0500
TZNAME:EST
DTSTART:20281105T060000
END:STANDARD
END:VTIMEZONE
BEGIN:VEVENT
DTSTART;TZID=America/New_York:20270501T083000
DTEND;TZID=America/New_York:20270501T093000
DTSTAMP:20260420T025254
CREATED:20230619T143626Z
LAST-MODIFIED:20230619T143720Z
UID:10010765-1809160200-1809163800@stmichaels-litchfield.org
SUMMARY:AA Meeting in Parish House Library
DESCRIPTION:
URL:https://stmichaels-litchfield.org/event/aa-meeting-in-community-house-2/2027-05-01/
LOCATION:Community House in Library from April 9th forward
CATEGORIES:AA/NA Events
END:VEVENT
BEGIN:VEVENT
DTSTART;TZID=America/New_York:20270502T080000
DTEND;TZID=America/New_York:20270502T090000
DTSTAMP:20260420T025254
CREATED:20211108T181651Z
LAST-MODIFIED:20260327T134504Z
UID:10020456-1809244800-1809248400@stmichaels-litchfield.org
SUMMARY:Eucharist\, Rite I
DESCRIPTION:Spoken\, no music
URL:https://stmichaels-litchfield.org/event/sunday-eucharist/2027-05-02/
LOCATION:Chapel\, 25 South Street\, Litchfield\, CT\, 06759\, United States
CATEGORIES:Church Event,Parish Events
END:VEVENT
BEGIN:VEVENT
DTSTART;TZID=America/New_York:20270502T100000
DTEND;TZID=America/New_York:20270502T110000
DTSTAMP:20260420T025254
CREATED:20250403T150154Z
LAST-MODIFIED:20250806T192031Z
UID:10012771-1809252000-1809255600@stmichaels-litchfield.org
SUMMARY:Sunday Eucharist\, Rite II
DESCRIPTION:Rite II with music \nFollowed by Coffee Hour in the Community House
URL:https://stmichaels-litchfield.org/event/sunday-eucharist-2-3/2027-05-02/
LOCATION:Church and Community House
CATEGORIES:Church Event,Parish Events
END:VEVENT
BEGIN:VEVENT
DTSTART;TZID=America/New_York:20270502T110000
DTEND;TZID=America/New_York:20270502T140000
DTSTAMP:20260420T025254
CREATED:20230711T182541Z
LAST-MODIFIED:20250806T192214Z
UID:10012110-1809255600-1809266400@stmichaels-litchfield.org
SUMMARY:Coffee and Fellowship in the Community House
DESCRIPTION:
URL:https://stmichaels-litchfield.org/event/coffee-and-congregation-in-the-community-house/2027-05-02/
LOCATION:Community House in Library from April 9th forward
CATEGORIES:Church Event
END:VEVENT
BEGIN:VEVENT
DTSTART;TZID=America/New_York:20270502T190000
DTEND;TZID=America/New_York:20270502T200000
DTSTAMP:20260420T025254
CREATED:20230619T142544Z
LAST-MODIFIED:20260416T160049Z
UID:10009955-1809284400-1809288000@stmichaels-litchfield.org
SUMMARY:AA Meeting in Community House
DESCRIPTION:
URL:https://stmichaels-litchfield.org/event/aa-meeting-in-community-house/2027-05-02/
LOCATION:Community House in Library from April 9th forward
END:VEVENT
BEGIN:VEVENT
DTSTART;VALUE=DATE:20270503
DTEND;VALUE=DATE:20270504
DTSTAMP:20260420T025254
CREATED:20260128T181321Z
LAST-MODIFIED:20260128T181322Z
UID:10291206-1809302400-1809388799@stmichaels-litchfield.org
SUMMARY:Church Office Closed
DESCRIPTION:
URL:https://stmichaels-litchfield.org/event/summer-schedule-church-office-closed-2-2-2-3/2027-05-03/
LOCATION:Church Office\, 25 South Street\, Litchfield\, CT\, 06759\, United States
CATEGORIES:Church Office Event
END:VEVENT
BEGIN:VEVENT
DTSTART;TZID=America/New_York:20270503T070000
DTEND;TZID=America/New_York:20270503T073000
DTSTAMP:20260420T025254
CREATED:20230606T184551Z
LAST-MODIFIED:20230619T142647Z
UID:10006280-1809327600-1809329400@stmichaels-litchfield.org
SUMMARY:AA Meeting in the Parish House Library
DESCRIPTION:
URL:https://stmichaels-litchfield.org/event/aa-meeting-in-the-library/2027-05-03/
LOCATION:Parish House Library\, 25 South Street\, Litchfield\, CT\, 06759\, United States
CATEGORIES:AA/NA Events
END:VEVENT
BEGIN:VEVENT
DTSTART;TZID=America/New_York:20270503T200000
DTEND;TZID=America/New_York:20270503T213000
DTSTAMP:20260420T025254
CREATED:20260218T173517Z
LAST-MODIFIED:20260218T173517Z
UID:10292629-1809374400-1809379800@stmichaels-litchfield.org
SUMMARY:AA meeting in the Community House
DESCRIPTION:
URL:https://stmichaels-litchfield.org/event/aa-meeting-in-the-community-house-2/2027-05-03/
LOCATION:CT
END:VEVENT
BEGIN:VEVENT
DTSTART;TZID=America/New_York:20270504T093000
DTEND;TZID=America/New_York:20270504T143000
DTSTAMP:20260420T025254
CREATED:20260128T181432Z
LAST-MODIFIED:20260128T181726Z
UID:10291687-1809423000-1809441000@stmichaels-litchfield.org
SUMMARY:Church Office Open
DESCRIPTION:
URL:https://stmichaels-litchfield.org/event/church-office-open-14/2027-05-04/
LOCATION:Church Office\, 25 South Street\, Litchfield\, CT\, 06759\, United States
CATEGORIES:Church Office Event
END:VEVENT
BEGIN:VEVENT
DTSTART;TZID=America/New_York:20270504T160000
DTEND;TZID=America/New_York:20270504T173000
DTSTAMP:20260420T025254
CREATED:20260331T205128Z
LAST-MODIFIED:20260331T205254Z
UID:10294753-1809446400-1809451800@stmichaels-litchfield.org
SUMMARY:Priest Search Committee
DESCRIPTION:
URL:https://stmichaels-litchfield.org/event/priest-search-committee-3-2-5/2027-05-04/
LOCATION:Parish House Library\, 25 South Street\, Litchfield\, CT\, 06759\, United States
END:VEVENT
BEGIN:VEVENT
DTSTART;TZID=America/New_York:20270504T171500
DTEND;TZID=America/New_York:20270504T183000
DTSTAMP:20260420T025254
CREATED:20231227T151453Z
LAST-MODIFIED:20260317T155826Z
UID:10293650-1809450900-1809455400@stmichaels-litchfield.org
SUMMARY:Property Committee Meeting in Parish House Library
DESCRIPTION:
URL:https://stmichaels-litchfield.org/event/property-committee-meeting-in-parish-house-library-3/2027-05-04/
LOCATION:Parish House Library\, 25 South Street\, Litchfield\, CT\, 06759\, United States
CATEGORIES:Church Event
END:VEVENT
BEGIN:VEVENT
DTSTART;TZID=America/New_York:20270504T190000
DTEND;TZID=America/New_York:20270504T200000
DTSTAMP:20260420T025254
CREATED:20211108T175914Z
LAST-MODIFIED:20260130T014621Z
UID:10010159-1809457200-1809460800@stmichaels-litchfield.org
SUMMARY:AA Meeting in Community House
DESCRIPTION:
URL:https://stmichaels-litchfield.org/event/aa-group-in-community-house-2/2027-05-04/
LOCATION:Community House in Library from April 9th forward
CATEGORIES:AA/NA Events
END:VEVENT
BEGIN:VEVENT
DTSTART;TZID=America/New_York:20270505T070000
DTEND;TZID=America/New_York:20270505T073000
DTSTAMP:20260420T025254
CREATED:20230606T184551Z
LAST-MODIFIED:20230619T142647Z
UID:10006281-1809500400-1809502200@stmichaels-litchfield.org
SUMMARY:AA Meeting in the Parish House Library
DESCRIPTION:
URL:https://stmichaels-litchfield.org/event/aa-meeting-in-the-library/2027-05-05/
LOCATION:Parish House Library\, 25 South Street\, Litchfield\, CT\, 06759\, United States
CATEGORIES:AA/NA Events
END:VEVENT
BEGIN:VEVENT
DTSTART;TZID=America/New_York:20270505T083000
DTEND;TZID=America/New_York:20270505T110000
DTSTAMP:20260420T025254
CREATED:20250109T152013Z
LAST-MODIFIED:20250109T152013Z
UID:10019497-1809505800-1809514800@stmichaels-litchfield.org
SUMMARY:Greenwoods Counseling
DESCRIPTION:
URL:https://stmichaels-litchfield.org/event/greenwoods-counseling-7/2027-05-05/
LOCATION:CT
CATEGORIES:Greenwoods Counseling
END:VEVENT
BEGIN:VEVENT
DTSTART;TZID=America/New_York:20270505T093000
DTEND;TZID=America/New_York:20270505T143000
DTSTAMP:20260420T025254
CREATED:20260128T181432Z
LAST-MODIFIED:20260128T181726Z
UID:10291688-1809509400-1809527400@stmichaels-litchfield.org
SUMMARY:Church Office Open
DESCRIPTION:
URL:https://stmichaels-litchfield.org/event/church-office-open-14/2027-05-05/
LOCATION:Church Office\, 25 South Street\, Litchfield\, CT\, 06759\, United States
CATEGORIES:Church Office Event
END:VEVENT
BEGIN:VEVENT
DTSTART;TZID=America/New_York:20270505T173000
DTEND;TZID=America/New_York:20270505T180000
DTSTAMP:20260420T025254
CREATED:20260327T155546Z
LAST-MODIFIED:20260327T155546Z
UID:10294494-1809538200-1809540000@stmichaels-litchfield.org
SUMMARY:Chanted Evening Prayer
DESCRIPTION:
URL:https://stmichaels-litchfield.org/event/chanted-evening-prayer-3/2027-05-05/
LOCATION:Chapel\, 25 South Street\, Litchfield\, CT\, 06759\, United States
CATEGORIES:Church Event
END:VEVENT
BEGIN:VEVENT
DTSTART;TZID=America/New_York:20270505T190000
DTEND;TZID=America/New_York:20270505T203000
DTSTAMP:20260420T025254
CREATED:20230817T183342Z
LAST-MODIFIED:20230817T183342Z
UID:10013189-1809543600-1809549000@stmichaels-litchfield.org
SUMMARY:Choir Rehearsal in Parish House Music Room
DESCRIPTION:
URL:https://stmichaels-litchfield.org/event/choir-rehearsal-in-parish-house-music-room/2027-05-05/
LOCATION:Parish House Music Room
CATEGORIES:Church Event
END:VEVENT
BEGIN:VEVENT
DTSTART;TZID=America/New_York:20270505T193000
DTEND;TZID=America/New_York:20270505T210000
DTSTAMP:20260420T025254
CREATED:20211108T180816Z
LAST-MODIFIED:20230714T003135Z
UID:10012513-1809545400-1809550800@stmichaels-litchfield.org
SUMMARY:NA meeting in Community House
DESCRIPTION:
URL:https://stmichaels-litchfield.org/event/narcotics-anonymous/2027-05-05/
LOCATION:Community House in Library from April 9th forward
CATEGORIES:AA/NA Events
END:VEVENT
BEGIN:VEVENT
DTSTART;TZID=America/New_York:20270506T093000
DTEND;TZID=America/New_York:20270506T143000
DTSTAMP:20260420T025254
CREATED:20260128T181432Z
LAST-MODIFIED:20260128T181726Z
UID:10291689-1809595800-1809613800@stmichaels-litchfield.org
SUMMARY:Church Office Open
DESCRIPTION:
URL:https://stmichaels-litchfield.org/event/church-office-open-14/2027-05-06/
LOCATION:Church Office\, 25 South Street\, Litchfield\, CT\, 06759\, United States
CATEGORIES:Church Office Event
END:VEVENT
BEGIN:VEVENT
DTSTART;TZID=America/New_York:20270506T190000
DTEND;TZID=America/New_York:20270506T220000
DTSTAMP:20260420T025254
CREATED:20230810T152445Z
LAST-MODIFIED:20230823T141209Z
UID:10012932-1809630000-1809640800@stmichaels-litchfield.org
SUMMARY:SOTG Board meeting in the Parish House Library
DESCRIPTION:
URL:https://stmichaels-litchfield.org/event/sotg-board-meeting-2/2027-05-06/
LOCATION:Parish House Library\, 25 South Street\, Litchfield\, CT\, 06759\, United States
CATEGORIES:School on the Green Event
END:VEVENT
BEGIN:VEVENT
DTSTART;TZID=America/New_York:20270507T070000
DTEND;TZID=America/New_York:20270507T073000
DTSTAMP:20260420T025254
CREATED:20230606T184551Z
LAST-MODIFIED:20230619T142647Z
UID:10006282-1809673200-1809675000@stmichaels-litchfield.org
SUMMARY:AA Meeting in the Parish House Library
DESCRIPTION:
URL:https://stmichaels-litchfield.org/event/aa-meeting-in-the-library/2027-05-07/
LOCATION:Parish House Library\, 25 South Street\, Litchfield\, CT\, 06759\, United States
CATEGORIES:AA/NA Events
END:VEVENT
BEGIN:VEVENT
DTSTART;TZID=America/New_York:20270507T093000
DTEND;TZID=America/New_York:20270507T143000
DTSTAMP:20260420T025254
CREATED:20260128T181432Z
LAST-MODIFIED:20260128T181726Z
UID:10291690-1809682200-1809700200@stmichaels-litchfield.org
SUMMARY:Church Office Open
DESCRIPTION:
URL:https://stmichaels-litchfield.org/event/church-office-open-14/2027-05-07/
LOCATION:Church Office\, 25 South Street\, Litchfield\, CT\, 06759\, United States
CATEGORIES:Church Office Event
END:VEVENT
BEGIN:VEVENT
DTSTART;TZID=America/New_York:20270508T083000
DTEND;TZID=America/New_York:20270508T093000
DTSTAMP:20260420T025254
CREATED:20230619T143626Z
LAST-MODIFIED:20230619T143720Z
UID:10010766-1809765000-1809768600@stmichaels-litchfield.org
SUMMARY:AA Meeting in Parish House Library
DESCRIPTION:
URL:https://stmichaels-litchfield.org/event/aa-meeting-in-community-house-2/2027-05-08/
LOCATION:Community House in Library from April 9th forward
CATEGORIES:AA/NA Events
END:VEVENT
BEGIN:VEVENT
DTSTART;TZID=America/New_York:20270509T080000
DTEND;TZID=America/New_York:20270509T090000
DTSTAMP:20260420T025254
CREATED:20211108T181651Z
LAST-MODIFIED:20260327T134504Z
UID:10020457-1809849600-1809853200@stmichaels-litchfield.org
SUMMARY:Eucharist\, Rite I
DESCRIPTION:Spoken\, no music
URL:https://stmichaels-litchfield.org/event/sunday-eucharist/2027-05-09/
LOCATION:Chapel\, 25 South Street\, Litchfield\, CT\, 06759\, United States
CATEGORIES:Church Event,Parish Events
END:VEVENT
BEGIN:VEVENT
DTSTART;TZID=America/New_York:20270509T100000
DTEND;TZID=America/New_York:20270509T110000
DTSTAMP:20260420T025254
CREATED:20250403T150154Z
LAST-MODIFIED:20250806T192031Z
UID:10012772-1809856800-1809860400@stmichaels-litchfield.org
SUMMARY:Sunday Eucharist\, Rite II
DESCRIPTION:Rite II with music \nFollowed by Coffee Hour in the Community House
URL:https://stmichaels-litchfield.org/event/sunday-eucharist-2-3/2027-05-09/
LOCATION:Church and Community House
CATEGORIES:Church Event,Parish Events
END:VEVENT
BEGIN:VEVENT
DTSTART;TZID=America/New_York:20270509T110000
DTEND;TZID=America/New_York:20270509T140000
DTSTAMP:20260420T025254
CREATED:20230711T182541Z
LAST-MODIFIED:20250806T192214Z
UID:10012111-1809860400-1809871200@stmichaels-litchfield.org
SUMMARY:Coffee and Fellowship in the Community House
DESCRIPTION:
URL:https://stmichaels-litchfield.org/event/coffee-and-congregation-in-the-community-house/2027-05-09/
LOCATION:Community House in Library from April 9th forward
CATEGORIES:Church Event
END:VEVENT
BEGIN:VEVENT
DTSTART;TZID=America/New_York:20270509T112000
DTEND;TZID=America/New_York:20270509T123000
DTSTAMP:20260420T025254
CREATED:20260408T170910Z
LAST-MODIFIED:20260408T170910Z
UID:10296056-1809861600-1809865800@stmichaels-litchfield.org
SUMMARY:Vestry Meeting
DESCRIPTION:
URL:https://stmichaels-litchfield.org/event/vestry-meeting-4/2027-05-09/
LOCATION:CT
CATEGORIES:Church Event,Parish Events
END:VEVENT
BEGIN:VEVENT
DTSTART;TZID=America/New_York:20270509T190000
DTEND;TZID=America/New_York:20270509T200000
DTSTAMP:20260420T025254
CREATED:20230619T142544Z
LAST-MODIFIED:20260416T160049Z
UID:10009956-1809889200-1809892800@stmichaels-litchfield.org
SUMMARY:AA Meeting in Community House
DESCRIPTION:
URL:https://stmichaels-litchfield.org/event/aa-meeting-in-community-house/2027-05-09/
LOCATION:Community House in Library from April 9th forward
END:VEVENT
BEGIN:VEVENT
DTSTART;VALUE=DATE:20270510
DTEND;VALUE=DATE:20270511
DTSTAMP:20260420T025254
CREATED:20260128T181321Z
LAST-MODIFIED:20260128T181322Z
UID:10291207-1809907200-1809993599@stmichaels-litchfield.org
SUMMARY:Church Office Closed
DESCRIPTION:
URL:https://stmichaels-litchfield.org/event/summer-schedule-church-office-closed-2-2-2-3/2027-05-10/
LOCATION:Church Office\, 25 South Street\, Litchfield\, CT\, 06759\, United States
CATEGORIES:Church Office Event
END:VEVENT
BEGIN:VEVENT
DTSTART;TZID=America/New_York:20270510T070000
DTEND;TZID=America/New_York:20270510T073000
DTSTAMP:20260420T025254
CREATED:20230606T184551Z
LAST-MODIFIED:20230619T142647Z
UID:10006283-1809932400-1809934200@stmichaels-litchfield.org
SUMMARY:AA Meeting in the Parish House Library
DESCRIPTION:
URL:https://stmichaels-litchfield.org/event/aa-meeting-in-the-library/2027-05-10/
LOCATION:Parish House Library\, 25 South Street\, Litchfield\, CT\, 06759\, United States
CATEGORIES:AA/NA Events
END:VEVENT
END:VCALENDAR