BEGIN:VCALENDAR
VERSION:2.0
PRODID:-//St. Michael&#039;s Church - ECPv6.15.20//NONSGML v1.0//EN
CALSCALE:GREGORIAN
METHOD:PUBLISH
X-WR-CALNAME:St. Michael&#039;s Church
X-ORIGINAL-URL:https://stmichaels-litchfield.org
X-WR-CALDESC:Events for St. Michael&#039;s Church
REFRESH-INTERVAL;VALUE=DURATION:PT1H
X-Robots-Tag:noindex
X-PUBLISHED-TTL:PT1H
BEGIN:VTIMEZONE
TZID:America/New_York
BEGIN:DAYLIGHT
TZOFFSETFROM:-0500
TZOFFSETTO:-0400
TZNAME:EDT
DTSTART:20270314T070000
END:DAYLIGHT
BEGIN:STANDARD
TZOFFSETFROM:-0400
TZOFFSETTO:-0500
TZNAME:EST
DTSTART:20271107T060000
END:STANDARD
BEGIN:DAYLIGHT
TZOFFSETFROM:-0500
TZOFFSETTO:-0400
TZNAME:EDT
DTSTART:20280312T070000
END:DAYLIGHT
BEGIN:STANDARD
TZOFFSETFROM:-0400
TZOFFSETTO:-0500
TZNAME:EST
DTSTART:20281105T060000
END:STANDARD
BEGIN:DAYLIGHT
TZOFFSETFROM:-0500
TZOFFSETTO:-0400
TZNAME:EDT
DTSTART:20290311T070000
END:DAYLIGHT
BEGIN:STANDARD
TZOFFSETFROM:-0400
TZOFFSETTO:-0500
TZNAME:EST
DTSTART:20291104T060000
END:STANDARD
END:VTIMEZONE
BEGIN:VEVENT
DTSTART;TZID=America/New_York:20280601T093000
DTEND;TZID=America/New_York:20280601T143000
DTSTAMP:20260423T042012
CREATED:20260128T181432Z
LAST-MODIFIED:20260128T181726Z
UID:10291913-1843464600-1843482600@stmichaels-litchfield.org
SUMMARY:Church Office Open
DESCRIPTION:
URL:https://stmichaels-litchfield.org/event/church-office-open-14/2028-06-01/
LOCATION:Church Office\, 25 South Street\, Litchfield\, CT\, 06759\, United States
CATEGORIES:Church Office Event
END:VEVENT
BEGIN:VEVENT
DTSTART;TZID=America/New_York:20280601T190000
DTEND;TZID=America/New_York:20280601T220000
DTSTAMP:20260423T042012
CREATED:20230810T152445Z
LAST-MODIFIED:20230823T141209Z
UID:10012944-1843498800-1843509600@stmichaels-litchfield.org
SUMMARY:SOTG Board meeting in the Parish House Library
DESCRIPTION:
URL:https://stmichaels-litchfield.org/event/sotg-board-meeting-2/2028-06-01/
LOCATION:Parish House Library\, 25 South Street\, Litchfield\, CT\, 06759\, United States
CATEGORIES:School on the Green Event
END:VEVENT
BEGIN:VEVENT
DTSTART;TZID=America/New_York:20280602T070000
DTEND;TZID=America/New_York:20280602T073000
DTSTAMP:20260423T042012
CREATED:20230606T184551Z
LAST-MODIFIED:20230619T142647Z
UID:10006450-1843542000-1843543800@stmichaels-litchfield.org
SUMMARY:AA Meeting in the Parish House Library
DESCRIPTION:
URL:https://stmichaels-litchfield.org/event/aa-meeting-in-the-library/2028-06-02/
LOCATION:Parish House Library\, 25 South Street\, Litchfield\, CT\, 06759\, United States
CATEGORIES:AA/NA Events
END:VEVENT
BEGIN:VEVENT
DTSTART;TZID=America/New_York:20280602T093000
DTEND;TZID=America/New_York:20280602T143000
DTSTAMP:20260423T042012
CREATED:20260128T181432Z
LAST-MODIFIED:20260128T181726Z
UID:10291914-1843551000-1843569000@stmichaels-litchfield.org
SUMMARY:Church Office Open
DESCRIPTION:
URL:https://stmichaels-litchfield.org/event/church-office-open-14/2028-06-02/
LOCATION:Church Office\, 25 South Street\, Litchfield\, CT\, 06759\, United States
CATEGORIES:Church Office Event
END:VEVENT
BEGIN:VEVENT
DTSTART;TZID=America/New_York:20280603T083000
DTEND;TZID=America/New_York:20280603T093000
DTSTAMP:20260423T042012
CREATED:20230619T143626Z
LAST-MODIFIED:20230619T143720Z
UID:10010822-1843633800-1843637400@stmichaels-litchfield.org
SUMMARY:AA Meeting in Parish House Library
DESCRIPTION:
URL:https://stmichaels-litchfield.org/event/aa-meeting-in-community-house-2/2028-06-03/
LOCATION:Community House in Library from April 9th forward
CATEGORIES:AA/NA Events
END:VEVENT
BEGIN:VEVENT
DTSTART;TZID=America/New_York:20280604T080000
DTEND;TZID=America/New_York:20280604T090000
DTSTAMP:20260423T042012
CREATED:20211108T181651Z
LAST-MODIFIED:20260327T134504Z
UID:10020513-1843718400-1843722000@stmichaels-litchfield.org
SUMMARY:Eucharist\, Rite I
DESCRIPTION:Spoken\, no music
URL:https://stmichaels-litchfield.org/event/sunday-eucharist/2028-06-04/
LOCATION:Chapel\, 25 South Street\, Litchfield\, CT\, 06759\, United States
CATEGORIES:Church Event,Parish Events
END:VEVENT
BEGIN:VEVENT
DTSTART;TZID=America/New_York:20280604T100000
DTEND;TZID=America/New_York:20280604T110000
DTSTAMP:20260423T042012
CREATED:20250403T150154Z
LAST-MODIFIED:20260422T181447Z
UID:10012828-1843725600-1843729200@stmichaels-litchfield.org
SUMMARY:Sunday Eucharist\, Rite II
DESCRIPTION:Rite II with music \nFollowed by Coffee Hour in the Community House
URL:https://stmichaels-litchfield.org/event/sunday-eucharist-2-3/2028-06-04/
LOCATION:Church\, 25 South Street\, Litchfield\, CT\, 06759\, United States
CATEGORIES:Church Event,Parish Events
END:VEVENT
BEGIN:VEVENT
DTSTART;TZID=America/New_York:20280604T110000
DTEND;TZID=America/New_York:20280604T140000
DTSTAMP:20260423T042012
CREATED:20230711T182541Z
LAST-MODIFIED:20250806T192214Z
UID:10012167-1843729200-1843740000@stmichaels-litchfield.org
SUMMARY:Coffee and Fellowship in the Community House
DESCRIPTION:
URL:https://stmichaels-litchfield.org/event/coffee-and-congregation-in-the-community-house/2028-06-04/
LOCATION:Community House in Library from April 9th forward
CATEGORIES:Church Event
END:VEVENT
BEGIN:VEVENT
DTSTART;TZID=America/New_York:20280604T190000
DTEND;TZID=America/New_York:20280604T200000
DTSTAMP:20260423T042012
CREATED:20230619T142544Z
LAST-MODIFIED:20260416T160049Z
UID:10010012-1843758000-1843761600@stmichaels-litchfield.org
SUMMARY:AA Meeting in Community House
DESCRIPTION:
URL:https://stmichaels-litchfield.org/event/aa-meeting-in-community-house/2028-06-04/
LOCATION:Community House in Library from April 9th forward
END:VEVENT
BEGIN:VEVENT
DTSTART;VALUE=DATE:20280605
DTEND;VALUE=DATE:20280606
DTSTAMP:20260423T042012
CREATED:20260128T181321Z
LAST-MODIFIED:20260128T181322Z
UID:10291263-1843776000-1843862399@stmichaels-litchfield.org
SUMMARY:Church Office Closed
DESCRIPTION:
URL:https://stmichaels-litchfield.org/event/summer-schedule-church-office-closed-2-2-2-3/2028-06-05/
LOCATION:Church Office\, 25 South Street\, Litchfield\, CT\, 06759\, United States
CATEGORIES:Church Office Event
END:VEVENT
BEGIN:VEVENT
DTSTART;TZID=America/New_York:20280605T070000
DTEND;TZID=America/New_York:20280605T073000
DTSTAMP:20260423T042012
CREATED:20230606T184551Z
LAST-MODIFIED:20230619T142647Z
UID:10006451-1843801200-1843803000@stmichaels-litchfield.org
SUMMARY:AA Meeting in the Parish House Library
DESCRIPTION:
URL:https://stmichaels-litchfield.org/event/aa-meeting-in-the-library/2028-06-05/
LOCATION:Parish House Library\, 25 South Street\, Litchfield\, CT\, 06759\, United States
CATEGORIES:AA/NA Events
END:VEVENT
BEGIN:VEVENT
DTSTART;TZID=America/New_York:20280605T200000
DTEND;TZID=America/New_York:20280605T213000
DTSTAMP:20260423T042012
CREATED:20260218T173517Z
LAST-MODIFIED:20260218T173517Z
UID:10292686-1843848000-1843853400@stmichaels-litchfield.org
SUMMARY:AA meeting in the Community House
DESCRIPTION:
URL:https://stmichaels-litchfield.org/event/aa-meeting-in-the-community-house-2/2028-06-05/
LOCATION:CT
END:VEVENT
BEGIN:VEVENT
DTSTART;TZID=America/New_York:20280606T093000
DTEND;TZID=America/New_York:20280606T143000
DTSTAMP:20260423T042012
CREATED:20260128T181432Z
LAST-MODIFIED:20260128T181726Z
UID:10291915-1843896600-1843914600@stmichaels-litchfield.org
SUMMARY:Church Office Open
DESCRIPTION:
URL:https://stmichaels-litchfield.org/event/church-office-open-14/2028-06-06/
LOCATION:Church Office\, 25 South Street\, Litchfield\, CT\, 06759\, United States
CATEGORIES:Church Office Event
END:VEVENT
BEGIN:VEVENT
DTSTART;TZID=America/New_York:20280606T160000
DTEND;TZID=America/New_York:20280606T173000
DTSTAMP:20260423T042012
CREATED:20260331T205128Z
LAST-MODIFIED:20260331T205254Z
UID:10294810-1843920000-1843925400@stmichaels-litchfield.org
SUMMARY:Priest Search Committee
DESCRIPTION:
URL:https://stmichaels-litchfield.org/event/priest-search-committee-3-2-5/2028-06-06/
LOCATION:Parish House Library\, 25 South Street\, Litchfield\, CT\, 06759\, United States
END:VEVENT
BEGIN:VEVENT
DTSTART;TZID=America/New_York:20280606T171500
DTEND;TZID=America/New_York:20280606T183000
DTSTAMP:20260423T042012
CREATED:20231227T151453Z
LAST-MODIFIED:20260317T155826Z
UID:10293663-1843924500-1843929000@stmichaels-litchfield.org
SUMMARY:Property Committee Meeting in Parish House Library
DESCRIPTION:
URL:https://stmichaels-litchfield.org/event/property-committee-meeting-in-parish-house-library-3/2028-06-06/
LOCATION:Parish House Library\, 25 South Street\, Litchfield\, CT\, 06759\, United States
CATEGORIES:Church Event
END:VEVENT
BEGIN:VEVENT
DTSTART;TZID=America/New_York:20280606T190000
DTEND;TZID=America/New_York:20280606T200000
DTSTAMP:20260423T042012
CREATED:20211108T175914Z
LAST-MODIFIED:20260130T014621Z
UID:10010216-1843930800-1843934400@stmichaels-litchfield.org
SUMMARY:AA Meeting in Community House
DESCRIPTION:
URL:https://stmichaels-litchfield.org/event/aa-group-in-community-house-2/2028-06-06/
LOCATION:Community House in Library from April 9th forward
CATEGORIES:AA/NA Events
END:VEVENT
BEGIN:VEVENT
DTSTART;TZID=America/New_York:20280607T070000
DTEND;TZID=America/New_York:20280607T073000
DTSTAMP:20260423T042012
CREATED:20230606T184551Z
LAST-MODIFIED:20230619T142647Z
UID:10010015-1843974000-1843975800@stmichaels-litchfield.org
SUMMARY:AA Meeting in the Parish House Library
DESCRIPTION:
URL:https://stmichaels-litchfield.org/event/aa-meeting-in-the-library/2028-06-07/
LOCATION:Parish House Library\, 25 South Street\, Litchfield\, CT\, 06759\, United States
CATEGORIES:AA/NA Events
END:VEVENT
BEGIN:VEVENT
DTSTART;TZID=America/New_York:20280607T083000
DTEND;TZID=America/New_York:20280607T110000
DTSTAMP:20260423T042012
CREATED:20250109T152013Z
LAST-MODIFIED:20250109T152013Z
UID:10019554-1843979400-1843988400@stmichaels-litchfield.org
SUMMARY:Greenwoods Counseling
DESCRIPTION:
URL:https://stmichaels-litchfield.org/event/greenwoods-counseling-7/2028-06-07/
LOCATION:CT
CATEGORIES:Greenwoods Counseling
END:VEVENT
BEGIN:VEVENT
DTSTART;TZID=America/New_York:20280607T093000
DTEND;TZID=America/New_York:20280607T143000
DTSTAMP:20260423T042012
CREATED:20260128T181432Z
LAST-MODIFIED:20260128T181726Z
UID:10291916-1843983000-1844001000@stmichaels-litchfield.org
SUMMARY:Church Office Open
DESCRIPTION:
URL:https://stmichaels-litchfield.org/event/church-office-open-14/2028-06-07/
LOCATION:Church Office\, 25 South Street\, Litchfield\, CT\, 06759\, United States
CATEGORIES:Church Office Event
END:VEVENT
BEGIN:VEVENT
DTSTART;TZID=America/New_York:20280607T173000
DTEND;TZID=America/New_York:20280607T180000
DTSTAMP:20260423T042012
CREATED:20260327T155546Z
LAST-MODIFIED:20260422T175057Z
UID:10294551-1844011800-1844013600@stmichaels-litchfield.org
SUMMARY:Chanted Evening Prayer
DESCRIPTION:
URL:https://stmichaels-litchfield.org/event/chanted-evening-prayer-3/2028-06-07/
LOCATION:Chapel\, 25 South Street\, Litchfield\, CT\, 06759\, United States
CATEGORIES:Church Event
END:VEVENT
BEGIN:VEVENT
DTSTART;TZID=America/New_York:20280607T190000
DTEND;TZID=America/New_York:20280607T203000
DTSTAMP:20260423T042012
CREATED:20230817T183342Z
LAST-MODIFIED:20230817T183342Z
UID:10013246-1844017200-1844022600@stmichaels-litchfield.org
SUMMARY:Choir Rehearsal in Parish House Music Room
DESCRIPTION:
URL:https://stmichaels-litchfield.org/event/choir-rehearsal-in-parish-house-music-room/2028-06-07/
LOCATION:Parish House Music Room
CATEGORIES:Church Event
END:VEVENT
BEGIN:VEVENT
DTSTART;TZID=America/New_York:20280607T193000
DTEND;TZID=America/New_York:20280607T210000
DTSTAMP:20260423T042012
CREATED:20211108T180816Z
LAST-MODIFIED:20230714T003135Z
UID:10012570-1844019000-1844024400@stmichaels-litchfield.org
SUMMARY:NA meeting in Community House
DESCRIPTION:
URL:https://stmichaels-litchfield.org/event/narcotics-anonymous/2028-06-07/
LOCATION:Community House in Library from April 9th forward
CATEGORIES:AA/NA Events
END:VEVENT
BEGIN:VEVENT
DTSTART;TZID=America/New_York:20280608T093000
DTEND;TZID=America/New_York:20280608T143000
DTSTAMP:20260423T042012
CREATED:20260128T181432Z
LAST-MODIFIED:20260128T181726Z
UID:10291917-1844069400-1844087400@stmichaels-litchfield.org
SUMMARY:Church Office Open
DESCRIPTION:
URL:https://stmichaels-litchfield.org/event/church-office-open-14/2028-06-08/
LOCATION:Church Office\, 25 South Street\, Litchfield\, CT\, 06759\, United States
CATEGORIES:Church Office Event
END:VEVENT
BEGIN:VEVENT
DTSTART;TZID=America/New_York:20280609T070000
DTEND;TZID=America/New_York:20280609T073000
DTSTAMP:20260423T042012
CREATED:20230606T184551Z
LAST-MODIFIED:20230619T142647Z
UID:10010016-1844146800-1844148600@stmichaels-litchfield.org
SUMMARY:AA Meeting in the Parish House Library
DESCRIPTION:
URL:https://stmichaels-litchfield.org/event/aa-meeting-in-the-library/2028-06-09/
LOCATION:Parish House Library\, 25 South Street\, Litchfield\, CT\, 06759\, United States
CATEGORIES:AA/NA Events
END:VEVENT
BEGIN:VEVENT
DTSTART;TZID=America/New_York:20280609T093000
DTEND;TZID=America/New_York:20280609T143000
DTSTAMP:20260423T042012
CREATED:20260128T181432Z
LAST-MODIFIED:20260128T181726Z
UID:10291918-1844155800-1844173800@stmichaels-litchfield.org
SUMMARY:Church Office Open
DESCRIPTION:
URL:https://stmichaels-litchfield.org/event/church-office-open-14/2028-06-09/
LOCATION:Church Office\, 25 South Street\, Litchfield\, CT\, 06759\, United States
CATEGORIES:Church Office Event
END:VEVENT
BEGIN:VEVENT
DTSTART;TZID=America/New_York:20280610T083000
DTEND;TZID=America/New_York:20280610T093000
DTSTAMP:20260423T042012
CREATED:20230619T143626Z
LAST-MODIFIED:20230619T143720Z
UID:10010823-1844238600-1844242200@stmichaels-litchfield.org
SUMMARY:AA Meeting in Parish House Library
DESCRIPTION:
URL:https://stmichaels-litchfield.org/event/aa-meeting-in-community-house-2/2028-06-10/
LOCATION:Community House in Library from April 9th forward
CATEGORIES:AA/NA Events
END:VEVENT
BEGIN:VEVENT
DTSTART;TZID=America/New_York:20280611T080000
DTEND;TZID=America/New_York:20280611T090000
DTSTAMP:20260423T042012
CREATED:20211108T181651Z
LAST-MODIFIED:20260327T134504Z
UID:10020514-1844323200-1844326800@stmichaels-litchfield.org
SUMMARY:Eucharist\, Rite I
DESCRIPTION:Spoken\, no music
URL:https://stmichaels-litchfield.org/event/sunday-eucharist/2028-06-11/
LOCATION:Chapel\, 25 South Street\, Litchfield\, CT\, 06759\, United States
CATEGORIES:Church Event,Parish Events
END:VEVENT
BEGIN:VEVENT
DTSTART;TZID=America/New_York:20280611T100000
DTEND;TZID=America/New_York:20280611T110000
DTSTAMP:20260423T042012
CREATED:20250403T150154Z
LAST-MODIFIED:20260422T181447Z
UID:10012829-1844330400-1844334000@stmichaels-litchfield.org
SUMMARY:Sunday Eucharist\, Rite II
DESCRIPTION:Rite II with music \nFollowed by Coffee Hour in the Community House
URL:https://stmichaels-litchfield.org/event/sunday-eucharist-2-3/2028-06-11/
LOCATION:Church\, 25 South Street\, Litchfield\, CT\, 06759\, United States
CATEGORIES:Church Event,Parish Events
END:VEVENT
BEGIN:VEVENT
DTSTART;TZID=America/New_York:20280611T110000
DTEND;TZID=America/New_York:20280611T140000
DTSTAMP:20260423T042012
CREATED:20230711T182541Z
LAST-MODIFIED:20250806T192214Z
UID:10012168-1844334000-1844344800@stmichaels-litchfield.org
SUMMARY:Coffee and Fellowship in the Community House
DESCRIPTION:
URL:https://stmichaels-litchfield.org/event/coffee-and-congregation-in-the-community-house/2028-06-11/
LOCATION:Community House in Library from April 9th forward
CATEGORIES:Church Event
END:VEVENT
BEGIN:VEVENT
DTSTART;TZID=America/New_York:20280611T112000
DTEND;TZID=America/New_York:20280611T123000
DTSTAMP:20260423T042012
CREATED:20260408T170910Z
LAST-MODIFIED:20260408T170910Z
UID:10296069-1844335200-1844339400@stmichaels-litchfield.org
SUMMARY:Vestry Meeting
DESCRIPTION:
URL:https://stmichaels-litchfield.org/event/vestry-meeting-4/2028-06-11/
LOCATION:CT
CATEGORIES:Church Event,Parish Events
END:VEVENT
END:VCALENDAR