BEGIN:VCALENDAR
VERSION:2.0
PRODID:-//St. Michael&#039;s Church - ECPv6.15.20//NONSGML v1.0//EN
CALSCALE:GREGORIAN
METHOD:PUBLISH
X-WR-CALNAME:St. Michael&#039;s Church
X-ORIGINAL-URL:https://stmichaels-litchfield.org
X-WR-CALDESC:Events for St. Michael&#039;s Church
REFRESH-INTERVAL;VALUE=DURATION:PT1H
X-Robots-Tag:noindex
X-PUBLISHED-TTL:PT1H
BEGIN:VTIMEZONE
TZID:America/New_York
BEGIN:DAYLIGHT
TZOFFSETFROM:-0500
TZOFFSETTO:-0400
TZNAME:EDT
DTSTART:20270314T070000
END:DAYLIGHT
BEGIN:STANDARD
TZOFFSETFROM:-0400
TZOFFSETTO:-0500
TZNAME:EST
DTSTART:20271107T060000
END:STANDARD
BEGIN:DAYLIGHT
TZOFFSETFROM:-0500
TZOFFSETTO:-0400
TZNAME:EDT
DTSTART:20280312T070000
END:DAYLIGHT
BEGIN:STANDARD
TZOFFSETFROM:-0400
TZOFFSETTO:-0500
TZNAME:EST
DTSTART:20281105T060000
END:STANDARD
BEGIN:DAYLIGHT
TZOFFSETFROM:-0500
TZOFFSETTO:-0400
TZNAME:EDT
DTSTART:20290311T070000
END:DAYLIGHT
BEGIN:STANDARD
TZOFFSETFROM:-0400
TZOFFSETTO:-0500
TZNAME:EST
DTSTART:20291104T060000
END:STANDARD
END:VTIMEZONE
BEGIN:VEVENT
DTSTART;TZID=America/New_York:20281101T070000
DTEND;TZID=America/New_York:20281101T073000
DTSTAMP:20260423T194443
CREATED:20230606T184551Z
LAST-MODIFIED:20230619T142647Z
UID:10286912-1856674800-1856676600@stmichaels-litchfield.org
SUMMARY:AA Meeting in the Parish House Library
DESCRIPTION:
URL:https://stmichaels-litchfield.org/event/aa-meeting-in-the-library/2028-11-01/
LOCATION:Parish House Library\, 25 South Street\, Litchfield\, CT\, 06759\, United States
CATEGORIES:AA/NA Events
END:VEVENT
BEGIN:VEVENT
DTSTART;TZID=America/New_York:20281101T083000
DTEND;TZID=America/New_York:20281101T110000
DTSTAMP:20260423T194443
CREATED:20250109T152013Z
LAST-MODIFIED:20250109T152013Z
UID:10019575-1856680200-1856689200@stmichaels-litchfield.org
SUMMARY:Greenwoods Counseling
DESCRIPTION:
URL:https://stmichaels-litchfield.org/event/greenwoods-counseling-7/2028-11-01/
CATEGORIES:Greenwoods Counseling
END:VEVENT
BEGIN:VEVENT
DTSTART;TZID=America/New_York:20281101T093000
DTEND;TZID=America/New_York:20281101T143000
DTSTAMP:20260423T194443
CREATED:20260128T181432Z
LAST-MODIFIED:20260128T181726Z
UID:10292000-1856683800-1856701800@stmichaels-litchfield.org
SUMMARY:Church Office Open
DESCRIPTION:
URL:https://stmichaels-litchfield.org/event/church-office-open-14/2028-11-01/
LOCATION:Church Office\, 25 South Street\, Litchfield\, CT\, 06759\, United States
CATEGORIES:Church Office Event
END:VEVENT
BEGIN:VEVENT
DTSTART;TZID=America/New_York:20281101T173000
DTEND;TZID=America/New_York:20281101T180000
DTSTAMP:20260423T194443
CREATED:20260327T155546Z
LAST-MODIFIED:20260422T175057Z
UID:10294572-1856712600-1856714400@stmichaels-litchfield.org
SUMMARY:Chanted Evening Prayer
DESCRIPTION:
URL:https://stmichaels-litchfield.org/event/chanted-evening-prayer-3/2028-11-01/
LOCATION:Chapel\, 25 South Street\, Litchfield\, CT\, 06759\, United States
CATEGORIES:Church Event
END:VEVENT
BEGIN:VEVENT
DTSTART;TZID=America/New_York:20281101T193000
DTEND;TZID=America/New_York:20281101T210000
DTSTAMP:20260423T194443
CREATED:20211108T180816Z
LAST-MODIFIED:20230714T003135Z
UID:10286740-1856719800-1856725200@stmichaels-litchfield.org
SUMMARY:NA meeting in Community House
DESCRIPTION:
URL:https://stmichaels-litchfield.org/event/narcotics-anonymous/2028-11-01/
LOCATION:Community House in Library from April 9th forward
CATEGORIES:AA/NA Events
END:VEVENT
BEGIN:VEVENT
DTSTART;TZID=America/New_York:20281102T093000
DTEND;TZID=America/New_York:20281102T143000
DTSTAMP:20260423T194443
CREATED:20260128T181432Z
LAST-MODIFIED:20260128T181726Z
UID:10292001-1856770200-1856788200@stmichaels-litchfield.org
SUMMARY:Church Office Open
DESCRIPTION:
URL:https://stmichaels-litchfield.org/event/church-office-open-14/2028-11-02/
LOCATION:Church Office\, 25 South Street\, Litchfield\, CT\, 06759\, United States
CATEGORIES:Church Office Event
END:VEVENT
BEGIN:VEVENT
DTSTART;TZID=America/New_York:20281103T070000
DTEND;TZID=America/New_York:20281103T073000
DTSTAMP:20260423T194443
CREATED:20230606T184551Z
LAST-MODIFIED:20230619T142647Z
UID:10286913-1856847600-1856849400@stmichaels-litchfield.org
SUMMARY:AA Meeting in the Parish House Library
DESCRIPTION:
URL:https://stmichaels-litchfield.org/event/aa-meeting-in-the-library/2028-11-03/
LOCATION:Parish House Library\, 25 South Street\, Litchfield\, CT\, 06759\, United States
CATEGORIES:AA/NA Events
END:VEVENT
BEGIN:VEVENT
DTSTART;TZID=America/New_York:20281103T093000
DTEND;TZID=America/New_York:20281103T143000
DTSTAMP:20260423T194443
CREATED:20260128T181432Z
LAST-MODIFIED:20260128T181726Z
UID:10292002-1856856600-1856874600@stmichaels-litchfield.org
SUMMARY:Church Office Open
DESCRIPTION:
URL:https://stmichaels-litchfield.org/event/church-office-open-14/2028-11-03/
LOCATION:Church Office\, 25 South Street\, Litchfield\, CT\, 06759\, United States
CATEGORIES:Church Office Event
END:VEVENT
BEGIN:VEVENT
DTSTART;TZID=America/New_York:20281105T080000
DTEND;TZID=America/New_York:20281105T090000
DTSTAMP:20260423T194443
CREATED:20211108T181651Z
LAST-MODIFIED:20260327T134504Z
UID:10020535-1857024000-1857027600@stmichaels-litchfield.org
SUMMARY:Eucharist\, Rite I
DESCRIPTION:Spoken\, no music
URL:https://stmichaels-litchfield.org/event/sunday-eucharist/2028-11-05/
LOCATION:Chapel\, 25 South Street\, Litchfield\, CT\, 06759\, United States
CATEGORIES:Church Event,Parish Events
END:VEVENT
BEGIN:VEVENT
DTSTART;TZID=America/New_York:20281105T100000
DTEND;TZID=America/New_York:20281105T110000
DTSTAMP:20260423T194443
CREATED:20250403T150154Z
LAST-MODIFIED:20260422T181447Z
UID:10020621-1857031200-1857034800@stmichaels-litchfield.org
SUMMARY:Sunday Eucharist\, Rite II
DESCRIPTION:Rite II with music \nFollowed by Coffee Hour in the Community House
URL:https://stmichaels-litchfield.org/event/sunday-eucharist-2-3/2028-11-05/
LOCATION:Church\, 25 South Street\, Litchfield\, CT\, 06759\, United States
CATEGORIES:Church Event,Parish Events
END:VEVENT
BEGIN:VEVENT
DTSTART;TZID=America/New_York:20281105T110000
DTEND;TZID=America/New_York:20281105T140000
DTSTAMP:20260423T194443
CREATED:20230711T182541Z
LAST-MODIFIED:20250806T192214Z
UID:10014098-1857034800-1857045600@stmichaels-litchfield.org
SUMMARY:Coffee and Fellowship in the Community House
DESCRIPTION:
URL:https://stmichaels-litchfield.org/event/coffee-and-congregation-in-the-community-house/2028-11-05/
LOCATION:Community House in Library from April 9th forward
CATEGORIES:Church Event
END:VEVENT
BEGIN:VEVENT
DTSTART;TZID=America/New_York:20281105T190000
DTEND;TZID=America/New_York:20281105T200000
DTSTAMP:20260423T194443
CREATED:20230619T142544Z
LAST-MODIFIED:20260416T160049Z
UID:10296124-1857063600-1857067200@stmichaels-litchfield.org
SUMMARY:AA Meeting in Community House
DESCRIPTION:
URL:https://stmichaels-litchfield.org/event/aa-meeting-in-community-house/2028-11-05/
LOCATION:Community House in Library from April 9th forward
END:VEVENT
BEGIN:VEVENT
DTSTART;VALUE=DATE:20281106
DTEND;VALUE=DATE:20281107
DTSTAMP:20260423T194443
CREATED:20260128T181321Z
LAST-MODIFIED:20260128T181322Z
UID:10291285-1857081600-1857167999@stmichaels-litchfield.org
SUMMARY:Church Office Closed
DESCRIPTION:
URL:https://stmichaels-litchfield.org/event/summer-schedule-church-office-closed-2-2-2-3/2028-11-06/
LOCATION:Church Office\, 25 South Street\, Litchfield\, CT\, 06759\, United States
CATEGORIES:Church Office Event
END:VEVENT
BEGIN:VEVENT
DTSTART;TZID=America/New_York:20281106T070000
DTEND;TZID=America/New_York:20281106T073000
DTSTAMP:20260423T194443
CREATED:20230606T184551Z
LAST-MODIFIED:20230619T142647Z
UID:10286914-1857106800-1857108600@stmichaels-litchfield.org
SUMMARY:AA Meeting in the Parish House Library
DESCRIPTION:
URL:https://stmichaels-litchfield.org/event/aa-meeting-in-the-library/2028-11-06/
LOCATION:Parish House Library\, 25 South Street\, Litchfield\, CT\, 06759\, United States
CATEGORIES:AA/NA Events
END:VEVENT
BEGIN:VEVENT
DTSTART;TZID=America/New_York:20281106T200000
DTEND;TZID=America/New_York:20281106T213000
DTSTAMP:20260423T194443
CREATED:20260218T173517Z
LAST-MODIFIED:20260218T173517Z
UID:10292708-1857153600-1857159000@stmichaels-litchfield.org
SUMMARY:AA meeting in the Community House
DESCRIPTION:
URL:https://stmichaels-litchfield.org/event/aa-meeting-in-the-community-house-2/2028-11-06/
END:VEVENT
BEGIN:VEVENT
DTSTART;TZID=America/New_York:20281107T093000
DTEND;TZID=America/New_York:20281107T143000
DTSTAMP:20260423T194443
CREATED:20260128T181432Z
LAST-MODIFIED:20260128T181726Z
UID:10292003-1857202200-1857220200@stmichaels-litchfield.org
SUMMARY:Church Office Open
DESCRIPTION:
URL:https://stmichaels-litchfield.org/event/church-office-open-14/2028-11-07/
LOCATION:Church Office\, 25 South Street\, Litchfield\, CT\, 06759\, United States
CATEGORIES:Church Office Event
END:VEVENT
BEGIN:VEVENT
DTSTART;TZID=America/New_York:20281107T160000
DTEND;TZID=America/New_York:20281107T173000
DTSTAMP:20260423T194443
CREATED:20260331T205128Z
LAST-MODIFIED:20260331T205254Z
UID:10294832-1857225600-1857231000@stmichaels-litchfield.org
SUMMARY:Priest Search Committee
DESCRIPTION:
URL:https://stmichaels-litchfield.org/event/priest-search-committee-3-2-5/2028-11-07/
LOCATION:Parish House Library\, 25 South Street\, Litchfield\, CT\, 06759\, United States
END:VEVENT
BEGIN:VEVENT
DTSTART;TZID=America/New_York:20281107T171500
DTEND;TZID=America/New_York:20281107T183000
DTSTAMP:20260423T194443
CREATED:20231227T151453Z
LAST-MODIFIED:20260317T155826Z
UID:10293668-1857230100-1857234600@stmichaels-litchfield.org
SUMMARY:Property Committee Meeting in Parish House Library
DESCRIPTION:
URL:https://stmichaels-litchfield.org/event/property-committee-meeting-in-parish-house-library-3/2028-11-07/
LOCATION:Parish House Library\, 25 South Street\, Litchfield\, CT\, 06759\, United States
CATEGORIES:Church Event
END:VEVENT
BEGIN:VEVENT
DTSTART;TZID=America/New_York:20281107T190000
DTEND;TZID=America/New_York:20281107T200000
DTSTAMP:20260423T194443
CREATED:20211108T175914Z
LAST-MODIFIED:20260130T014621Z
UID:10286641-1857236400-1857240000@stmichaels-litchfield.org
SUMMARY:AA Meeting in Community House
DESCRIPTION:
URL:https://stmichaels-litchfield.org/event/aa-group-in-community-house-2/2028-11-07/
LOCATION:Community House in Library from April 9th forward
CATEGORIES:AA/NA Events
END:VEVENT
BEGIN:VEVENT
DTSTART;TZID=America/New_York:20281108T070000
DTEND;TZID=America/New_York:20281108T073000
DTSTAMP:20260423T194443
CREATED:20230606T184551Z
LAST-MODIFIED:20230619T142647Z
UID:10286915-1857279600-1857281400@stmichaels-litchfield.org
SUMMARY:AA Meeting in the Parish House Library
DESCRIPTION:
URL:https://stmichaels-litchfield.org/event/aa-meeting-in-the-library/2028-11-08/
LOCATION:Parish House Library\, 25 South Street\, Litchfield\, CT\, 06759\, United States
CATEGORIES:AA/NA Events
END:VEVENT
BEGIN:VEVENT
DTSTART;TZID=America/New_York:20281108T083000
DTEND;TZID=America/New_York:20281108T110000
DTSTAMP:20260423T194443
CREATED:20250109T152013Z
LAST-MODIFIED:20250109T152013Z
UID:10019576-1857285000-1857294000@stmichaels-litchfield.org
SUMMARY:Greenwoods Counseling
DESCRIPTION:
URL:https://stmichaels-litchfield.org/event/greenwoods-counseling-7/2028-11-08/
CATEGORIES:Greenwoods Counseling
END:VEVENT
BEGIN:VEVENT
DTSTART;TZID=America/New_York:20281108T093000
DTEND;TZID=America/New_York:20281108T143000
DTSTAMP:20260423T194443
CREATED:20260128T181432Z
LAST-MODIFIED:20260128T181726Z
UID:10292004-1857288600-1857306600@stmichaels-litchfield.org
SUMMARY:Church Office Open
DESCRIPTION:
URL:https://stmichaels-litchfield.org/event/church-office-open-14/2028-11-08/
LOCATION:Church Office\, 25 South Street\, Litchfield\, CT\, 06759\, United States
CATEGORIES:Church Office Event
END:VEVENT
BEGIN:VEVENT
DTSTART;TZID=America/New_York:20281108T173000
DTEND;TZID=America/New_York:20281108T180000
DTSTAMP:20260423T194443
CREATED:20260327T155546Z
LAST-MODIFIED:20260422T175057Z
UID:10294573-1857317400-1857319200@stmichaels-litchfield.org
SUMMARY:Chanted Evening Prayer
DESCRIPTION:
URL:https://stmichaels-litchfield.org/event/chanted-evening-prayer-3/2028-11-08/
LOCATION:Chapel\, 25 South Street\, Litchfield\, CT\, 06759\, United States
CATEGORIES:Church Event
END:VEVENT
BEGIN:VEVENT
DTSTART;TZID=America/New_York:20281108T193000
DTEND;TZID=America/New_York:20281108T210000
DTSTAMP:20260423T194443
CREATED:20211108T180816Z
LAST-MODIFIED:20230714T003135Z
UID:10286741-1857324600-1857330000@stmichaels-litchfield.org
SUMMARY:NA meeting in Community House
DESCRIPTION:
URL:https://stmichaels-litchfield.org/event/narcotics-anonymous/2028-11-08/
LOCATION:Community House in Library from April 9th forward
CATEGORIES:AA/NA Events
END:VEVENT
BEGIN:VEVENT
DTSTART;TZID=America/New_York:20281109T093000
DTEND;TZID=America/New_York:20281109T143000
DTSTAMP:20260423T194444
CREATED:20260128T181432Z
LAST-MODIFIED:20260128T181726Z
UID:10292005-1857375000-1857393000@stmichaels-litchfield.org
SUMMARY:Church Office Open
DESCRIPTION:
URL:https://stmichaels-litchfield.org/event/church-office-open-14/2028-11-09/
LOCATION:Church Office\, 25 South Street\, Litchfield\, CT\, 06759\, United States
CATEGORIES:Church Office Event
END:VEVENT
BEGIN:VEVENT
DTSTART;TZID=America/New_York:20281110T070000
DTEND;TZID=America/New_York:20281110T073000
DTSTAMP:20260423T194444
CREATED:20230606T184551Z
LAST-MODIFIED:20230619T142647Z
UID:10286916-1857452400-1857454200@stmichaels-litchfield.org
SUMMARY:AA Meeting in the Parish House Library
DESCRIPTION:
URL:https://stmichaels-litchfield.org/event/aa-meeting-in-the-library/2028-11-10/
LOCATION:Parish House Library\, 25 South Street\, Litchfield\, CT\, 06759\, United States
CATEGORIES:AA/NA Events
END:VEVENT
BEGIN:VEVENT
DTSTART;TZID=America/New_York:20281110T093000
DTEND;TZID=America/New_York:20281110T143000
DTSTAMP:20260423T194444
CREATED:20260128T181432Z
LAST-MODIFIED:20260128T181726Z
UID:10292006-1857461400-1857479400@stmichaels-litchfield.org
SUMMARY:Church Office Open
DESCRIPTION:
URL:https://stmichaels-litchfield.org/event/church-office-open-14/2028-11-10/
LOCATION:Church Office\, 25 South Street\, Litchfield\, CT\, 06759\, United States
CATEGORIES:Church Office Event
END:VEVENT
BEGIN:VEVENT
DTSTART;TZID=America/New_York:20281112T080000
DTEND;TZID=America/New_York:20281112T090000
DTSTAMP:20260423T194444
CREATED:20211108T181651Z
LAST-MODIFIED:20260327T134504Z
UID:10020536-1857628800-1857632400@stmichaels-litchfield.org
SUMMARY:Eucharist\, Rite I
DESCRIPTION:Spoken\, no music
URL:https://stmichaels-litchfield.org/event/sunday-eucharist/2028-11-12/
LOCATION:Chapel\, 25 South Street\, Litchfield\, CT\, 06759\, United States
CATEGORIES:Church Event,Parish Events
END:VEVENT
BEGIN:VEVENT
DTSTART;TZID=America/New_York:20281112T100000
DTEND;TZID=America/New_York:20281112T110000
DTSTAMP:20260423T194444
CREATED:20250403T150154Z
LAST-MODIFIED:20260422T181447Z
UID:10020622-1857636000-1857639600@stmichaels-litchfield.org
SUMMARY:Sunday Eucharist\, Rite II
DESCRIPTION:Rite II with music \nFollowed by Coffee Hour in the Community House
URL:https://stmichaels-litchfield.org/event/sunday-eucharist-2-3/2028-11-12/
LOCATION:Church\, 25 South Street\, Litchfield\, CT\, 06759\, United States
CATEGORIES:Church Event,Parish Events
END:VEVENT
BEGIN:VEVENT
DTSTART;TZID=America/New_York:20281112T110000
DTEND;TZID=America/New_York:20281112T140000
DTSTAMP:20260423T194444
CREATED:20230711T182541Z
LAST-MODIFIED:20250806T192214Z
UID:10014099-1857639600-1857650400@stmichaels-litchfield.org
SUMMARY:Coffee and Fellowship in the Community House
DESCRIPTION:
URL:https://stmichaels-litchfield.org/event/coffee-and-congregation-in-the-community-house/2028-11-12/
LOCATION:Community House in Library from April 9th forward
CATEGORIES:Church Event
END:VEVENT
END:VCALENDAR