BEGIN:VCALENDAR
VERSION:2.0
PRODID:-//St. Michael&#039;s Church - ECPv6.15.20//NONSGML v1.0//EN
CALSCALE:GREGORIAN
METHOD:PUBLISH
X-ORIGINAL-URL:https://stmichaels-litchfield.org
X-WR-CALDESC:Events for St. Michael&#039;s Church
REFRESH-INTERVAL;VALUE=DURATION:PT1H
X-Robots-Tag:noindex
X-PUBLISHED-TTL:PT1H
BEGIN:VTIMEZONE
TZID:America/New_York
BEGIN:DAYLIGHT
TZOFFSETFROM:-0500
TZOFFSETTO:-0400
TZNAME:EDT
DTSTART:20240310T070000
END:DAYLIGHT
BEGIN:STANDARD
TZOFFSETFROM:-0400
TZOFFSETTO:-0500
TZNAME:EST
DTSTART:20241103T060000
END:STANDARD
BEGIN:DAYLIGHT
TZOFFSETFROM:-0500
TZOFFSETTO:-0400
TZNAME:EDT
DTSTART:20250309T070000
END:DAYLIGHT
BEGIN:STANDARD
TZOFFSETFROM:-0400
TZOFFSETTO:-0500
TZNAME:EST
DTSTART:20251102T060000
END:STANDARD
BEGIN:DAYLIGHT
TZOFFSETFROM:-0500
TZOFFSETTO:-0400
TZNAME:EDT
DTSTART:20260308T070000
END:DAYLIGHT
BEGIN:STANDARD
TZOFFSETFROM:-0400
TZOFFSETTO:-0500
TZNAME:EST
DTSTART:20261101T060000
END:STANDARD
END:VTIMEZONE
BEGIN:VEVENT
DTSTART;TZID=America/New_York:20250813T090000
DTEND;TZID=America/New_York:20250813T130000
DTSTAMP:20260420T041538
CREATED:20240206T174110Z
LAST-MODIFIED:20260107T171415Z
UID:10288783-1755075600-1755090000@stmichaels-litchfield.org
SUMMARY:Church Office Open
DESCRIPTION:
URL:https://stmichaels-litchfield.org/event/church-office-open-2-2-2-2/2025-08-13/
LOCATION:Church Office\, 25 South Street\, Litchfield\, CT\, 06759\, United States
CATEGORIES:Church Office Event
END:VEVENT
BEGIN:VEVENT
DTSTART;TZID=America/New_York:20250812T090000
DTEND;TZID=America/New_York:20250812T130000
DTSTAMP:20260420T041538
CREATED:20240206T174110Z
LAST-MODIFIED:20260107T171415Z
UID:10020772-1754989200-1755003600@stmichaels-litchfield.org
SUMMARY:Church Office Open
DESCRIPTION:
URL:https://stmichaels-litchfield.org/event/church-office-open-2-2-2-2/2025-08-12/
LOCATION:Church Office\, 25 South Street\, Litchfield\, CT\, 06759\, United States
CATEGORIES:Church Office Event
END:VEVENT
BEGIN:VEVENT
DTSTART;TZID=America/New_York:20250811T090000
DTEND;TZID=America/New_York:20250811T130000
DTSTAMP:20260420T041538
CREATED:20240206T174110Z
LAST-MODIFIED:20260107T171415Z
UID:10288782-1754902800-1754917200@stmichaels-litchfield.org
SUMMARY:Church Office Open
DESCRIPTION:
URL:https://stmichaels-litchfield.org/event/church-office-open-2-2-2-2/2025-08-11/
LOCATION:Church Office\, 25 South Street\, Litchfield\, CT\, 06759\, United States
CATEGORIES:Church Office Event
END:VEVENT
BEGIN:VEVENT
DTSTART;TZID=America/New_York:20250807T090000
DTEND;TZID=America/New_York:20250807T130000
DTSTAMP:20260420T041538
CREATED:20240206T174110Z
LAST-MODIFIED:20260107T171415Z
UID:10288781-1754557200-1754571600@stmichaels-litchfield.org
SUMMARY:Church Office Open
DESCRIPTION:
URL:https://stmichaels-litchfield.org/event/church-office-open-2-2-2-2/2025-08-07/
LOCATION:Church Office\, 25 South Street\, Litchfield\, CT\, 06759\, United States
CATEGORIES:Church Office Event
END:VEVENT
BEGIN:VEVENT
DTSTART;TZID=America/New_York:20250806T090000
DTEND;TZID=America/New_York:20250806T130000
DTSTAMP:20260420T041538
CREATED:20240206T174110Z
LAST-MODIFIED:20260107T171415Z
UID:10288780-1754470800-1754485200@stmichaels-litchfield.org
SUMMARY:Church Office Open
DESCRIPTION:
URL:https://stmichaels-litchfield.org/event/church-office-open-2-2-2-2/2025-08-06/
LOCATION:Church Office\, 25 South Street\, Litchfield\, CT\, 06759\, United States
CATEGORIES:Church Office Event
END:VEVENT
BEGIN:VEVENT
DTSTART;TZID=America/New_York:20250805T090000
DTEND;TZID=America/New_York:20250805T130000
DTSTAMP:20260420T041538
CREATED:20240206T174110Z
LAST-MODIFIED:20260107T171415Z
UID:10020771-1754384400-1754398800@stmichaels-litchfield.org
SUMMARY:Church Office Open
DESCRIPTION:
URL:https://stmichaels-litchfield.org/event/church-office-open-2-2-2-2/2025-08-05/
LOCATION:Church Office\, 25 South Street\, Litchfield\, CT\, 06759\, United States
CATEGORIES:Church Office Event
END:VEVENT
BEGIN:VEVENT
DTSTART;TZID=America/New_York:20250804T090000
DTEND;TZID=America/New_York:20250804T130000
DTSTAMP:20260420T041538
CREATED:20240206T174110Z
LAST-MODIFIED:20260107T171415Z
UID:10288779-1754298000-1754312400@stmichaels-litchfield.org
SUMMARY:Church Office Open
DESCRIPTION:
URL:https://stmichaels-litchfield.org/event/church-office-open-2-2-2-2/2025-08-04/
LOCATION:Church Office\, 25 South Street\, Litchfield\, CT\, 06759\, United States
CATEGORIES:Church Office Event
END:VEVENT
BEGIN:VEVENT
DTSTART;TZID=America/New_York:20250731T090000
DTEND;TZID=America/New_York:20250731T130000
DTSTAMP:20260420T041538
CREATED:20240206T174110Z
LAST-MODIFIED:20260107T171415Z
UID:10288778-1753952400-1753966800@stmichaels-litchfield.org
SUMMARY:Church Office Open
DESCRIPTION:
URL:https://stmichaels-litchfield.org/event/church-office-open-2-2-2-2/2025-07-31/
LOCATION:Church Office\, 25 South Street\, Litchfield\, CT\, 06759\, United States
CATEGORIES:Church Office Event
END:VEVENT
BEGIN:VEVENT
DTSTART;TZID=America/New_York:20250730T090000
DTEND;TZID=America/New_York:20250730T130000
DTSTAMP:20260420T041538
CREATED:20240206T174110Z
LAST-MODIFIED:20260107T171415Z
UID:10288777-1753866000-1753880400@stmichaels-litchfield.org
SUMMARY:Church Office Open
DESCRIPTION:
URL:https://stmichaels-litchfield.org/event/church-office-open-2-2-2-2/2025-07-30/
LOCATION:Church Office\, 25 South Street\, Litchfield\, CT\, 06759\, United States
CATEGORIES:Church Office Event
END:VEVENT
BEGIN:VEVENT
DTSTART;TZID=America/New_York:20250729T090000
DTEND;TZID=America/New_York:20250729T130000
DTSTAMP:20260420T041538
CREATED:20240206T174110Z
LAST-MODIFIED:20260107T171415Z
UID:10020770-1753779600-1753794000@stmichaels-litchfield.org
SUMMARY:Church Office Open
DESCRIPTION:
URL:https://stmichaels-litchfield.org/event/church-office-open-2-2-2-2/2025-07-29/
LOCATION:Church Office\, 25 South Street\, Litchfield\, CT\, 06759\, United States
CATEGORIES:Church Office Event
END:VEVENT
BEGIN:VEVENT
DTSTART;TZID=America/New_York:20250728T090000
DTEND;TZID=America/New_York:20250728T130000
DTSTAMP:20260420T041538
CREATED:20240206T174110Z
LAST-MODIFIED:20260107T171415Z
UID:10288776-1753693200-1753707600@stmichaels-litchfield.org
SUMMARY:Church Office Open
DESCRIPTION:
URL:https://stmichaels-litchfield.org/event/church-office-open-2-2-2-2/2025-07-28/
LOCATION:Church Office\, 25 South Street\, Litchfield\, CT\, 06759\, United States
CATEGORIES:Church Office Event
END:VEVENT
BEGIN:VEVENT
DTSTART;TZID=America/New_York:20250724T090000
DTEND;TZID=America/New_York:20250724T130000
DTSTAMP:20260420T041538
CREATED:20240206T174110Z
LAST-MODIFIED:20260107T171415Z
UID:10288775-1753347600-1753362000@stmichaels-litchfield.org
SUMMARY:Church Office Open
DESCRIPTION:
URL:https://stmichaels-litchfield.org/event/church-office-open-2-2-2-2/2025-07-24/
LOCATION:Church Office\, 25 South Street\, Litchfield\, CT\, 06759\, United States
CATEGORIES:Church Office Event
END:VEVENT
BEGIN:VEVENT
DTSTART;TZID=America/New_York:20250723T090000
DTEND;TZID=America/New_York:20250723T130000
DTSTAMP:20260420T041538
CREATED:20240206T174110Z
LAST-MODIFIED:20260107T171415Z
UID:10288774-1753261200-1753275600@stmichaels-litchfield.org
SUMMARY:Church Office Open
DESCRIPTION:
URL:https://stmichaels-litchfield.org/event/church-office-open-2-2-2-2/2025-07-23/
LOCATION:Church Office\, 25 South Street\, Litchfield\, CT\, 06759\, United States
CATEGORIES:Church Office Event
END:VEVENT
BEGIN:VEVENT
DTSTART;TZID=America/New_York:20250722T090000
DTEND;TZID=America/New_York:20250722T130000
DTSTAMP:20260420T041538
CREATED:20240206T174110Z
LAST-MODIFIED:20260107T171415Z
UID:10020769-1753174800-1753189200@stmichaels-litchfield.org
SUMMARY:Church Office Open
DESCRIPTION:
URL:https://stmichaels-litchfield.org/event/church-office-open-2-2-2-2/2025-07-22/
LOCATION:Church Office\, 25 South Street\, Litchfield\, CT\, 06759\, United States
CATEGORIES:Church Office Event
END:VEVENT
BEGIN:VEVENT
DTSTART;TZID=America/New_York:20250721T090000
DTEND;TZID=America/New_York:20250721T130000
DTSTAMP:20260420T041538
CREATED:20240206T174110Z
LAST-MODIFIED:20260107T171415Z
UID:10288773-1753088400-1753102800@stmichaels-litchfield.org
SUMMARY:Church Office Open
DESCRIPTION:
URL:https://stmichaels-litchfield.org/event/church-office-open-2-2-2-2/2025-07-21/
LOCATION:Church Office\, 25 South Street\, Litchfield\, CT\, 06759\, United States
CATEGORIES:Church Office Event
END:VEVENT
BEGIN:VEVENT
DTSTART;TZID=America/New_York:20250717T090000
DTEND;TZID=America/New_York:20250717T130000
DTSTAMP:20260420T041538
CREATED:20240206T174110Z
LAST-MODIFIED:20260107T171415Z
UID:10288772-1752742800-1752757200@stmichaels-litchfield.org
SUMMARY:Church Office Open
DESCRIPTION:
URL:https://stmichaels-litchfield.org/event/church-office-open-2-2-2-2/2025-07-17/
LOCATION:Church Office\, 25 South Street\, Litchfield\, CT\, 06759\, United States
CATEGORIES:Church Office Event
END:VEVENT
BEGIN:VEVENT
DTSTART;TZID=America/New_York:20250716T090000
DTEND;TZID=America/New_York:20250716T130000
DTSTAMP:20260420T041538
CREATED:20240206T174110Z
LAST-MODIFIED:20260107T171415Z
UID:10288771-1752656400-1752670800@stmichaels-litchfield.org
SUMMARY:Church Office Open
DESCRIPTION:
URL:https://stmichaels-litchfield.org/event/church-office-open-2-2-2-2/2025-07-16/
LOCATION:Church Office\, 25 South Street\, Litchfield\, CT\, 06759\, United States
CATEGORIES:Church Office Event
END:VEVENT
BEGIN:VEVENT
DTSTART;TZID=America/New_York:20250715T090000
DTEND;TZID=America/New_York:20250715T130000
DTSTAMP:20260420T041538
CREATED:20240206T174110Z
LAST-MODIFIED:20260107T171415Z
UID:10020768-1752570000-1752584400@stmichaels-litchfield.org
SUMMARY:Church Office Open
DESCRIPTION:
URL:https://stmichaels-litchfield.org/event/church-office-open-2-2-2-2/2025-07-15/
LOCATION:Church Office\, 25 South Street\, Litchfield\, CT\, 06759\, United States
CATEGORIES:Church Office Event
END:VEVENT
BEGIN:VEVENT
DTSTART;TZID=America/New_York:20250714T090000
DTEND;TZID=America/New_York:20250714T130000
DTSTAMP:20260420T041538
CREATED:20240206T174110Z
LAST-MODIFIED:20260107T171415Z
UID:10288770-1752483600-1752498000@stmichaels-litchfield.org
SUMMARY:Church Office Open
DESCRIPTION:
URL:https://stmichaels-litchfield.org/event/church-office-open-2-2-2-2/2025-07-14/
LOCATION:Church Office\, 25 South Street\, Litchfield\, CT\, 06759\, United States
CATEGORIES:Church Office Event
END:VEVENT
BEGIN:VEVENT
DTSTART;TZID=America/New_York:20250710T090000
DTEND;TZID=America/New_York:20250710T130000
DTSTAMP:20260420T041538
CREATED:20240206T174110Z
LAST-MODIFIED:20260107T171415Z
UID:10288769-1752138000-1752152400@stmichaels-litchfield.org
SUMMARY:Church Office Open
DESCRIPTION:
URL:https://stmichaels-litchfield.org/event/church-office-open-2-2-2-2/2025-07-10/
LOCATION:Church Office\, 25 South Street\, Litchfield\, CT\, 06759\, United States
CATEGORIES:Church Office Event
END:VEVENT
BEGIN:VEVENT
DTSTART;TZID=America/New_York:20250709T090000
DTEND;TZID=America/New_York:20250709T130000
DTSTAMP:20260420T041538
CREATED:20240206T174110Z
LAST-MODIFIED:20260107T171415Z
UID:10288768-1752051600-1752066000@stmichaels-litchfield.org
SUMMARY:Church Office Open
DESCRIPTION:
URL:https://stmichaels-litchfield.org/event/church-office-open-2-2-2-2/2025-07-09/
LOCATION:Church Office\, 25 South Street\, Litchfield\, CT\, 06759\, United States
CATEGORIES:Church Office Event
END:VEVENT
BEGIN:VEVENT
DTSTART;TZID=America/New_York:20250708T090000
DTEND;TZID=America/New_York:20250708T130000
DTSTAMP:20260420T041538
CREATED:20240206T174110Z
LAST-MODIFIED:20260107T171415Z
UID:10020767-1751965200-1751979600@stmichaels-litchfield.org
SUMMARY:Church Office Open
DESCRIPTION:
URL:https://stmichaels-litchfield.org/event/church-office-open-2-2-2-2/2025-07-08/
LOCATION:Church Office\, 25 South Street\, Litchfield\, CT\, 06759\, United States
CATEGORIES:Church Office Event
END:VEVENT
BEGIN:VEVENT
DTSTART;TZID=America/New_York:20250707T090000
DTEND;TZID=America/New_York:20250707T130000
DTSTAMP:20260420T041538
CREATED:20240206T174110Z
LAST-MODIFIED:20260107T171415Z
UID:10288767-1751878800-1751893200@stmichaels-litchfield.org
SUMMARY:Church Office Open
DESCRIPTION:
URL:https://stmichaels-litchfield.org/event/church-office-open-2-2-2-2/2025-07-07/
LOCATION:Church Office\, 25 South Street\, Litchfield\, CT\, 06759\, United States
CATEGORIES:Church Office Event
END:VEVENT
BEGIN:VEVENT
DTSTART;TZID=America/New_York:20250703T090000
DTEND;TZID=America/New_York:20250703T130000
DTSTAMP:20260420T041538
CREATED:20240206T174110Z
LAST-MODIFIED:20260107T171415Z
UID:10288766-1751533200-1751547600@stmichaels-litchfield.org
SUMMARY:Church Office Open
DESCRIPTION:
URL:https://stmichaels-litchfield.org/event/church-office-open-2-2-2-2/2025-07-03/
LOCATION:Church Office\, 25 South Street\, Litchfield\, CT\, 06759\, United States
CATEGORIES:Church Office Event
END:VEVENT
BEGIN:VEVENT
DTSTART;TZID=America/New_York:20250702T090000
DTEND;TZID=America/New_York:20250702T130000
DTSTAMP:20260420T041538
CREATED:20240206T174110Z
LAST-MODIFIED:20260107T171415Z
UID:10288765-1751446800-1751461200@stmichaels-litchfield.org
SUMMARY:Church Office Open
DESCRIPTION:
URL:https://stmichaels-litchfield.org/event/church-office-open-2-2-2-2/2025-07-02/
LOCATION:Church Office\, 25 South Street\, Litchfield\, CT\, 06759\, United States
CATEGORIES:Church Office Event
END:VEVENT
BEGIN:VEVENT
DTSTART;TZID=America/New_York:20250701T090000
DTEND;TZID=America/New_York:20250701T130000
DTSTAMP:20260420T041538
CREATED:20240206T174110Z
LAST-MODIFIED:20260107T171415Z
UID:10020766-1751360400-1751374800@stmichaels-litchfield.org
SUMMARY:Church Office Open
DESCRIPTION:
URL:https://stmichaels-litchfield.org/event/church-office-open-2-2-2-2/2025-07-01/
LOCATION:Church Office\, 25 South Street\, Litchfield\, CT\, 06759\, United States
CATEGORIES:Church Office Event
END:VEVENT
BEGIN:VEVENT
DTSTART;TZID=America/New_York:20250630T090000
DTEND;TZID=America/New_York:20250630T130000
DTSTAMP:20260420T041538
CREATED:20240206T174110Z
LAST-MODIFIED:20260107T171415Z
UID:10288764-1751274000-1751288400@stmichaels-litchfield.org
SUMMARY:Church Office Open
DESCRIPTION:
URL:https://stmichaels-litchfield.org/event/church-office-open-2-2-2-2/2025-06-30/
LOCATION:Church Office\, 25 South Street\, Litchfield\, CT\, 06759\, United States
CATEGORIES:Church Office Event
END:VEVENT
BEGIN:VEVENT
DTSTART;TZID=America/New_York:20250626T090000
DTEND;TZID=America/New_York:20250626T130000
DTSTAMP:20260420T041538
CREATED:20240206T174110Z
LAST-MODIFIED:20260107T171415Z
UID:10288763-1750928400-1750942800@stmichaels-litchfield.org
SUMMARY:Church Office Open
DESCRIPTION:
URL:https://stmichaels-litchfield.org/event/church-office-open-2-2-2-2/2025-06-26/
LOCATION:Church Office\, 25 South Street\, Litchfield\, CT\, 06759\, United States
CATEGORIES:Church Office Event
END:VEVENT
BEGIN:VEVENT
DTSTART;TZID=America/New_York:20250625T090000
DTEND;TZID=America/New_York:20250625T130000
DTSTAMP:20260420T041538
CREATED:20240206T174110Z
LAST-MODIFIED:20260107T171415Z
UID:10288762-1750842000-1750856400@stmichaels-litchfield.org
SUMMARY:Church Office Open
DESCRIPTION:
URL:https://stmichaels-litchfield.org/event/church-office-open-2-2-2-2/2025-06-25/
LOCATION:Church Office\, 25 South Street\, Litchfield\, CT\, 06759\, United States
CATEGORIES:Church Office Event
END:VEVENT
BEGIN:VEVENT
DTSTART;TZID=America/New_York:20250624T090000
DTEND;TZID=America/New_York:20250624T130000
DTSTAMP:20260420T041538
CREATED:20240206T174110Z
LAST-MODIFIED:20260107T171415Z
UID:10020765-1750755600-1750770000@stmichaels-litchfield.org
SUMMARY:Church Office Open
DESCRIPTION:
URL:https://stmichaels-litchfield.org/event/church-office-open-2-2-2-2/2025-06-24/
LOCATION:Church Office\, 25 South Street\, Litchfield\, CT\, 06759\, United States
CATEGORIES:Church Office Event
END:VEVENT
END:VCALENDAR