BEGIN:VCALENDAR
VERSION:2.0
PRODID:-//St. Michael&#039;s Church - ECPv6.15.20//NONSGML v1.0//EN
CALSCALE:GREGORIAN
METHOD:PUBLISH
X-ORIGINAL-URL:https://stmichaels-litchfield.org
X-WR-CALDESC:Events for St. Michael&#039;s Church
REFRESH-INTERVAL;VALUE=DURATION:PT1H
X-Robots-Tag:noindex
X-PUBLISHED-TTL:PT1H
BEGIN:VTIMEZONE
TZID:America/New_York
BEGIN:DAYLIGHT
TZOFFSETFROM:-0500
TZOFFSETTO:-0400
TZNAME:EDT
DTSTART:20230312T070000
END:DAYLIGHT
BEGIN:STANDARD
TZOFFSETFROM:-0400
TZOFFSETTO:-0500
TZNAME:EST
DTSTART:20231105T060000
END:STANDARD
BEGIN:DAYLIGHT
TZOFFSETFROM:-0500
TZOFFSETTO:-0400
TZNAME:EDT
DTSTART:20240310T070000
END:DAYLIGHT
BEGIN:STANDARD
TZOFFSETFROM:-0400
TZOFFSETTO:-0500
TZNAME:EST
DTSTART:20241103T060000
END:STANDARD
BEGIN:DAYLIGHT
TZOFFSETFROM:-0500
TZOFFSETTO:-0400
TZNAME:EDT
DTSTART:20250309T070000
END:DAYLIGHT
BEGIN:STANDARD
TZOFFSETFROM:-0400
TZOFFSETTO:-0500
TZNAME:EST
DTSTART:20251102T060000
END:STANDARD
BEGIN:DAYLIGHT
TZOFFSETFROM:-0500
TZOFFSETTO:-0400
TZNAME:EDT
DTSTART:20260308T070000
END:DAYLIGHT
BEGIN:STANDARD
TZOFFSETFROM:-0400
TZOFFSETTO:-0500
TZNAME:EST
DTSTART:20261101T060000
END:STANDARD
END:VTIMEZONE
BEGIN:VEVENT
DTSTART;TZID=America/New_York:20250205T090000
DTEND;TZID=America/New_York:20250205T130000
DTSTAMP:20260420T202158
CREATED:20240206T174110Z
LAST-MODIFIED:20260107T171415Z
UID:10288702-1738746000-1738760400@stmichaels-litchfield.org
SUMMARY:Church Office Open
DESCRIPTION:
URL:https://stmichaels-litchfield.org/event/church-office-open-2-2-2-2/2025-02-05/
LOCATION:Church Office\, 25 South Street\, Litchfield\, CT\, 06759\, United States
CATEGORIES:Church Office Event
END:VEVENT
BEGIN:VEVENT
DTSTART;TZID=America/New_York:20250204T090000
DTEND;TZID=America/New_York:20250204T130000
DTSTAMP:20260420T202158
CREATED:20240206T174110Z
LAST-MODIFIED:20260107T171415Z
UID:10020745-1738659600-1738674000@stmichaels-litchfield.org
SUMMARY:Church Office Open
DESCRIPTION:
URL:https://stmichaels-litchfield.org/event/church-office-open-2-2-2-2/2025-02-04/
LOCATION:Church Office\, 25 South Street\, Litchfield\, CT\, 06759\, United States
CATEGORIES:Church Office Event
END:VEVENT
BEGIN:VEVENT
DTSTART;TZID=America/New_York:20250203T090000
DTEND;TZID=America/New_York:20250203T130000
DTSTAMP:20260420T202158
CREATED:20240206T174110Z
LAST-MODIFIED:20260107T171415Z
UID:10288701-1738573200-1738587600@stmichaels-litchfield.org
SUMMARY:Church Office Open
DESCRIPTION:
URL:https://stmichaels-litchfield.org/event/church-office-open-2-2-2-2/2025-02-03/
LOCATION:Church Office\, 25 South Street\, Litchfield\, CT\, 06759\, United States
CATEGORIES:Church Office Event
END:VEVENT
BEGIN:VEVENT
DTSTART;TZID=America/New_York:20250130T090000
DTEND;TZID=America/New_York:20250130T130000
DTSTAMP:20260420T202158
CREATED:20240206T174110Z
LAST-MODIFIED:20260107T171415Z
UID:10288700-1738227600-1738242000@stmichaels-litchfield.org
SUMMARY:Church Office Open
DESCRIPTION:
URL:https://stmichaels-litchfield.org/event/church-office-open-2-2-2-2/2025-01-30/
LOCATION:Church Office\, 25 South Street\, Litchfield\, CT\, 06759\, United States
CATEGORIES:Church Office Event
END:VEVENT
BEGIN:VEVENT
DTSTART;TZID=America/New_York:20250129T090000
DTEND;TZID=America/New_York:20250129T130000
DTSTAMP:20260420T202158
CREATED:20240206T174110Z
LAST-MODIFIED:20260107T171415Z
UID:10288699-1738141200-1738155600@stmichaels-litchfield.org
SUMMARY:Church Office Open
DESCRIPTION:
URL:https://stmichaels-litchfield.org/event/church-office-open-2-2-2-2/2025-01-29/
LOCATION:Church Office\, 25 South Street\, Litchfield\, CT\, 06759\, United States
CATEGORIES:Church Office Event
END:VEVENT
BEGIN:VEVENT
DTSTART;TZID=America/New_York:20250128T090000
DTEND;TZID=America/New_York:20250128T130000
DTSTAMP:20260420T202158
CREATED:20240206T174110Z
LAST-MODIFIED:20260107T171415Z
UID:10020744-1738054800-1738069200@stmichaels-litchfield.org
SUMMARY:Church Office Open
DESCRIPTION:
URL:https://stmichaels-litchfield.org/event/church-office-open-2-2-2-2/2025-01-28/
LOCATION:Church Office\, 25 South Street\, Litchfield\, CT\, 06759\, United States
CATEGORIES:Church Office Event
END:VEVENT
BEGIN:VEVENT
DTSTART;TZID=America/New_York:20250127T090000
DTEND;TZID=America/New_York:20250127T130000
DTSTAMP:20260420T202158
CREATED:20240206T174110Z
LAST-MODIFIED:20260107T171415Z
UID:10288698-1737968400-1737982800@stmichaels-litchfield.org
SUMMARY:Church Office Open
DESCRIPTION:
URL:https://stmichaels-litchfield.org/event/church-office-open-2-2-2-2/2025-01-27/
LOCATION:Church Office\, 25 South Street\, Litchfield\, CT\, 06759\, United States
CATEGORIES:Church Office Event
END:VEVENT
BEGIN:VEVENT
DTSTART;TZID=America/New_York:20250123T090000
DTEND;TZID=America/New_York:20250123T130000
DTSTAMP:20260420T202158
CREATED:20240206T174110Z
LAST-MODIFIED:20260107T171415Z
UID:10288697-1737622800-1737637200@stmichaels-litchfield.org
SUMMARY:Church Office Open
DESCRIPTION:
URL:https://stmichaels-litchfield.org/event/church-office-open-2-2-2-2/2025-01-23/
LOCATION:Church Office\, 25 South Street\, Litchfield\, CT\, 06759\, United States
CATEGORIES:Church Office Event
END:VEVENT
BEGIN:VEVENT
DTSTART;TZID=America/New_York:20250122T090000
DTEND;TZID=America/New_York:20250122T130000
DTSTAMP:20260420T202158
CREATED:20240206T174110Z
LAST-MODIFIED:20260107T171415Z
UID:10288696-1737536400-1737550800@stmichaels-litchfield.org
SUMMARY:Church Office Open
DESCRIPTION:
URL:https://stmichaels-litchfield.org/event/church-office-open-2-2-2-2/2025-01-22/
LOCATION:Church Office\, 25 South Street\, Litchfield\, CT\, 06759\, United States
CATEGORIES:Church Office Event
END:VEVENT
BEGIN:VEVENT
DTSTART;TZID=America/New_York:20250121T090000
DTEND;TZID=America/New_York:20250121T130000
DTSTAMP:20260420T202158
CREATED:20240206T174110Z
LAST-MODIFIED:20260107T171415Z
UID:10020743-1737450000-1737464400@stmichaels-litchfield.org
SUMMARY:Church Office Open
DESCRIPTION:
URL:https://stmichaels-litchfield.org/event/church-office-open-2-2-2-2/2025-01-21/
LOCATION:Church Office\, 25 South Street\, Litchfield\, CT\, 06759\, United States
CATEGORIES:Church Office Event
END:VEVENT
BEGIN:VEVENT
DTSTART;TZID=America/New_York:20250120T090000
DTEND;TZID=America/New_York:20250120T130000
DTSTAMP:20260420T202158
CREATED:20240206T174110Z
LAST-MODIFIED:20260107T171415Z
UID:10288695-1737363600-1737378000@stmichaels-litchfield.org
SUMMARY:Church Office Open
DESCRIPTION:
URL:https://stmichaels-litchfield.org/event/church-office-open-2-2-2-2/2025-01-20/
LOCATION:Church Office\, 25 South Street\, Litchfield\, CT\, 06759\, United States
CATEGORIES:Church Office Event
END:VEVENT
BEGIN:VEVENT
DTSTART;TZID=America/New_York:20250116T090000
DTEND;TZID=America/New_York:20250116T130000
DTSTAMP:20260420T202158
CREATED:20240206T174110Z
LAST-MODIFIED:20260107T171415Z
UID:10288694-1737018000-1737032400@stmichaels-litchfield.org
SUMMARY:Church Office Open
DESCRIPTION:
URL:https://stmichaels-litchfield.org/event/church-office-open-2-2-2-2/2025-01-16/
LOCATION:Church Office\, 25 South Street\, Litchfield\, CT\, 06759\, United States
CATEGORIES:Church Office Event
END:VEVENT
BEGIN:VEVENT
DTSTART;TZID=America/New_York:20250115T090000
DTEND;TZID=America/New_York:20250115T130000
DTSTAMP:20260420T202158
CREATED:20240206T174110Z
LAST-MODIFIED:20260107T171415Z
UID:10288693-1736931600-1736946000@stmichaels-litchfield.org
SUMMARY:Church Office Open
DESCRIPTION:
URL:https://stmichaels-litchfield.org/event/church-office-open-2-2-2-2/2025-01-15/
LOCATION:Church Office\, 25 South Street\, Litchfield\, CT\, 06759\, United States
CATEGORIES:Church Office Event
END:VEVENT
BEGIN:VEVENT
DTSTART;TZID=America/New_York:20250114T090000
DTEND;TZID=America/New_York:20250114T130000
DTSTAMP:20260420T202158
CREATED:20240206T174110Z
LAST-MODIFIED:20260107T171415Z
UID:10020742-1736845200-1736859600@stmichaels-litchfield.org
SUMMARY:Church Office Open
DESCRIPTION:
URL:https://stmichaels-litchfield.org/event/church-office-open-2-2-2-2/2025-01-14/
LOCATION:Church Office\, 25 South Street\, Litchfield\, CT\, 06759\, United States
CATEGORIES:Church Office Event
END:VEVENT
BEGIN:VEVENT
DTSTART;TZID=America/New_York:20250113T090000
DTEND;TZID=America/New_York:20250113T130000
DTSTAMP:20260420T202158
CREATED:20240206T174110Z
LAST-MODIFIED:20260107T171415Z
UID:10288692-1736758800-1736773200@stmichaels-litchfield.org
SUMMARY:Church Office Open
DESCRIPTION:
URL:https://stmichaels-litchfield.org/event/church-office-open-2-2-2-2/2025-01-13/
LOCATION:Church Office\, 25 South Street\, Litchfield\, CT\, 06759\, United States
CATEGORIES:Church Office Event
END:VEVENT
BEGIN:VEVENT
DTSTART;TZID=America/New_York:20250109T090000
DTEND;TZID=America/New_York:20250109T130000
DTSTAMP:20260420T202158
CREATED:20240206T174110Z
LAST-MODIFIED:20260107T171415Z
UID:10288691-1736413200-1736427600@stmichaels-litchfield.org
SUMMARY:Church Office Open
DESCRIPTION:
URL:https://stmichaels-litchfield.org/event/church-office-open-2-2-2-2/2025-01-09/
LOCATION:Church Office\, 25 South Street\, Litchfield\, CT\, 06759\, United States
CATEGORIES:Church Office Event
END:VEVENT
BEGIN:VEVENT
DTSTART;TZID=America/New_York:20250108T090000
DTEND;TZID=America/New_York:20250108T130000
DTSTAMP:20260420T202158
CREATED:20240206T174110Z
LAST-MODIFIED:20260107T171415Z
UID:10288690-1736326800-1736341200@stmichaels-litchfield.org
SUMMARY:Church Office Open
DESCRIPTION:
URL:https://stmichaels-litchfield.org/event/church-office-open-2-2-2-2/2025-01-08/
LOCATION:Church Office\, 25 South Street\, Litchfield\, CT\, 06759\, United States
CATEGORIES:Church Office Event
END:VEVENT
BEGIN:VEVENT
DTSTART;TZID=America/New_York:20250107T090000
DTEND;TZID=America/New_York:20250107T130000
DTSTAMP:20260420T202158
CREATED:20240206T174110Z
LAST-MODIFIED:20260107T171415Z
UID:10020741-1736240400-1736254800@stmichaels-litchfield.org
SUMMARY:Church Office Open
DESCRIPTION:
URL:https://stmichaels-litchfield.org/event/church-office-open-2-2-2-2/2025-01-07/
LOCATION:Church Office\, 25 South Street\, Litchfield\, CT\, 06759\, United States
CATEGORIES:Church Office Event
END:VEVENT
BEGIN:VEVENT
DTSTART;TZID=America/New_York:20250106T090000
DTEND;TZID=America/New_York:20250106T130000
DTSTAMP:20260420T202158
CREATED:20240206T174110Z
LAST-MODIFIED:20260107T171415Z
UID:10288689-1736154000-1736168400@stmichaels-litchfield.org
SUMMARY:Church Office Open
DESCRIPTION:
URL:https://stmichaels-litchfield.org/event/church-office-open-2-2-2-2/2025-01-06/
LOCATION:Church Office\, 25 South Street\, Litchfield\, CT\, 06759\, United States
CATEGORIES:Church Office Event
END:VEVENT
BEGIN:VEVENT
DTSTART;TZID=America/New_York:20250102T090000
DTEND;TZID=America/New_York:20250102T130000
DTSTAMP:20260420T202158
CREATED:20240206T174110Z
LAST-MODIFIED:20260107T171415Z
UID:10288688-1735808400-1735822800@stmichaels-litchfield.org
SUMMARY:Church Office Open
DESCRIPTION:
URL:https://stmichaels-litchfield.org/event/church-office-open-2-2-2-2/2025-01-02/
LOCATION:Church Office\, 25 South Street\, Litchfield\, CT\, 06759\, United States
CATEGORIES:Church Office Event
END:VEVENT
BEGIN:VEVENT
DTSTART;TZID=America/New_York:20250101T090000
DTEND;TZID=America/New_York:20250101T130000
DTSTAMP:20260420T202158
CREATED:20240206T174110Z
LAST-MODIFIED:20260107T171415Z
UID:10288687-1735722000-1735736400@stmichaels-litchfield.org
SUMMARY:Church Office Open
DESCRIPTION:
URL:https://stmichaels-litchfield.org/event/church-office-open-2-2-2-2/2025-01-01/
LOCATION:Church Office\, 25 South Street\, Litchfield\, CT\, 06759\, United States
CATEGORIES:Church Office Event
END:VEVENT
BEGIN:VEVENT
DTSTART;TZID=America/New_York:20241231T090000
DTEND;TZID=America/New_York:20241231T130000
DTSTAMP:20260420T202158
CREATED:20240206T174110Z
LAST-MODIFIED:20260107T171415Z
UID:10020740-1735635600-1735650000@stmichaels-litchfield.org
SUMMARY:Church Office Open
DESCRIPTION:
URL:https://stmichaels-litchfield.org/event/church-office-open-2-2-2-2/2024-12-31/
LOCATION:Church Office\, 25 South Street\, Litchfield\, CT\, 06759\, United States
CATEGORIES:Church Office Event
END:VEVENT
BEGIN:VEVENT
DTSTART;TZID=America/New_York:20241230T090000
DTEND;TZID=America/New_York:20241230T130000
DTSTAMP:20260420T202158
CREATED:20240206T174110Z
LAST-MODIFIED:20260107T171415Z
UID:10288686-1735549200-1735563600@stmichaels-litchfield.org
SUMMARY:Church Office Open
DESCRIPTION:
URL:https://stmichaels-litchfield.org/event/church-office-open-2-2-2-2/2024-12-30/
LOCATION:Church Office\, 25 South Street\, Litchfield\, CT\, 06759\, United States
CATEGORIES:Church Office Event
END:VEVENT
BEGIN:VEVENT
DTSTART;TZID=America/New_York:20241226T090000
DTEND;TZID=America/New_York:20241226T130000
DTSTAMP:20260420T202158
CREATED:20240206T174110Z
LAST-MODIFIED:20260107T171415Z
UID:10288685-1735203600-1735218000@stmichaels-litchfield.org
SUMMARY:Church Office Open
DESCRIPTION:
URL:https://stmichaels-litchfield.org/event/church-office-open-2-2-2-2/2024-12-26/
LOCATION:Church Office\, 25 South Street\, Litchfield\, CT\, 06759\, United States
CATEGORIES:Church Office Event
END:VEVENT
BEGIN:VEVENT
DTSTART;TZID=America/New_York:20241225T090000
DTEND;TZID=America/New_York:20241225T130000
DTSTAMP:20260420T202158
CREATED:20240206T174110Z
LAST-MODIFIED:20260107T171415Z
UID:10288684-1735117200-1735131600@stmichaels-litchfield.org
SUMMARY:Church Office Open
DESCRIPTION:
URL:https://stmichaels-litchfield.org/event/church-office-open-2-2-2-2/2024-12-25/
LOCATION:Church Office\, 25 South Street\, Litchfield\, CT\, 06759\, United States
CATEGORIES:Church Office Event
END:VEVENT
BEGIN:VEVENT
DTSTART;TZID=America/New_York:20241224T090000
DTEND;TZID=America/New_York:20241224T130000
DTSTAMP:20260420T202158
CREATED:20240206T174110Z
LAST-MODIFIED:20260107T171415Z
UID:10020739-1735030800-1735045200@stmichaels-litchfield.org
SUMMARY:Church Office Open
DESCRIPTION:
URL:https://stmichaels-litchfield.org/event/church-office-open-2-2-2-2/2024-12-24/
LOCATION:Church Office\, 25 South Street\, Litchfield\, CT\, 06759\, United States
CATEGORIES:Church Office Event
END:VEVENT
BEGIN:VEVENT
DTSTART;TZID=America/New_York:20241223T090000
DTEND;TZID=America/New_York:20241223T130000
DTSTAMP:20260420T202158
CREATED:20240206T174110Z
LAST-MODIFIED:20260107T171415Z
UID:10288683-1734944400-1734958800@stmichaels-litchfield.org
SUMMARY:Church Office Open
DESCRIPTION:
URL:https://stmichaels-litchfield.org/event/church-office-open-2-2-2-2/2024-12-23/
LOCATION:Church Office\, 25 South Street\, Litchfield\, CT\, 06759\, United States
CATEGORIES:Church Office Event
END:VEVENT
BEGIN:VEVENT
DTSTART;TZID=America/New_York:20241219T090000
DTEND;TZID=America/New_York:20241219T130000
DTSTAMP:20260420T202158
CREATED:20240206T174110Z
LAST-MODIFIED:20260107T171415Z
UID:10288682-1734598800-1734613200@stmichaels-litchfield.org
SUMMARY:Church Office Open
DESCRIPTION:
URL:https://stmichaels-litchfield.org/event/church-office-open-2-2-2-2/2024-12-19/
LOCATION:Church Office\, 25 South Street\, Litchfield\, CT\, 06759\, United States
CATEGORIES:Church Office Event
END:VEVENT
BEGIN:VEVENT
DTSTART;TZID=America/New_York:20241218T090000
DTEND;TZID=America/New_York:20241218T130000
DTSTAMP:20260420T202158
CREATED:20240206T174110Z
LAST-MODIFIED:20260107T171415Z
UID:10288681-1734512400-1734526800@stmichaels-litchfield.org
SUMMARY:Church Office Open
DESCRIPTION:
URL:https://stmichaels-litchfield.org/event/church-office-open-2-2-2-2/2024-12-18/
LOCATION:Church Office\, 25 South Street\, Litchfield\, CT\, 06759\, United States
CATEGORIES:Church Office Event
END:VEVENT
BEGIN:VEVENT
DTSTART;TZID=America/New_York:20241217T090000
DTEND;TZID=America/New_York:20241217T130000
DTSTAMP:20260420T202158
CREATED:20240206T174110Z
LAST-MODIFIED:20260107T171415Z
UID:10020738-1734426000-1734440400@stmichaels-litchfield.org
SUMMARY:Church Office Open
DESCRIPTION:
URL:https://stmichaels-litchfield.org/event/church-office-open-2-2-2-2/2024-12-17/
LOCATION:Church Office\, 25 South Street\, Litchfield\, CT\, 06759\, United States
CATEGORIES:Church Office Event
END:VEVENT
END:VCALENDAR