BEGIN:VCALENDAR
VERSION:2.0
PRODID:-//St. Michael&#039;s Church - ECPv6.15.20//NONSGML v1.0//EN
CALSCALE:GREGORIAN
METHOD:PUBLISH
X-WR-CALNAME:St. Michael&#039;s Church
X-ORIGINAL-URL:https://stmichaels-litchfield.org
X-WR-CALDESC:Events for St. Michael&#039;s Church
REFRESH-INTERVAL;VALUE=DURATION:PT1H
X-Robots-Tag:noindex
X-PUBLISHED-TTL:PT1H
BEGIN:VTIMEZONE
TZID:America/New_York
BEGIN:DAYLIGHT
TZOFFSETFROM:-0500
TZOFFSETTO:-0400
TZNAME:EDT
DTSTART:20220313T070000
END:DAYLIGHT
BEGIN:STANDARD
TZOFFSETFROM:-0400
TZOFFSETTO:-0500
TZNAME:EST
DTSTART:20221106T060000
END:STANDARD
BEGIN:DAYLIGHT
TZOFFSETFROM:-0500
TZOFFSETTO:-0400
TZNAME:EDT
DTSTART:20230312T070000
END:DAYLIGHT
BEGIN:STANDARD
TZOFFSETFROM:-0400
TZOFFSETTO:-0500
TZNAME:EST
DTSTART:20231105T060000
END:STANDARD
BEGIN:DAYLIGHT
TZOFFSETFROM:-0500
TZOFFSETTO:-0400
TZNAME:EDT
DTSTART:20240310T070000
END:DAYLIGHT
BEGIN:STANDARD
TZOFFSETFROM:-0400
TZOFFSETTO:-0500
TZNAME:EST
DTSTART:20241103T060000
END:STANDARD
END:VTIMEZONE
BEGIN:VEVENT
DTSTART;TZID=America/New_York:20230825T080000
DTEND;TZID=America/New_York:20230825T170000
DTSTAMP:20260419T221718
CREATED:20230817T153546Z
LAST-MODIFIED:20230817T153546Z
UID:10012998-1692950400-1692982800@stmichaels-litchfield.org
SUMMARY:Community House Floor Cleaning - Don't Schedule events for this day
DESCRIPTION:
URL:https://stmichaels-litchfield.org/event/community-house-floor-cleaning-dont-schedule-events-for-this-day/
LOCATION:Community House in Library from April 9th forward
END:VEVENT
BEGIN:VEVENT
DTSTART;TZID=America/New_York:20230812T080000
DTEND;TZID=America/New_York:20230812T170000
DTSTAMP:20260419T221718
CREATED:20230713T190839Z
LAST-MODIFIED:20230717T140630Z
UID:10012225-1691827200-1691859600@stmichaels-litchfield.org
SUMMARY:Floor Cleaning in the Community House - do not schedule meetings there
DESCRIPTION:
URL:https://stmichaels-litchfield.org/event/tentative-floor-cleaning-in-the-community-house-do-not-schedule-meetings-there/2023-08-12/
LOCATION:Community House in Library from April 9th forward
CATEGORIES:Parish Events
END:VEVENT
BEGIN:VEVENT
DTSTART;TZID=America/New_York:20230811T080000
DTEND;TZID=America/New_York:20230811T170000
DTSTAMP:20260419T221718
CREATED:20230713T190839Z
LAST-MODIFIED:20230717T140630Z
UID:10012224-1691740800-1691773200@stmichaels-litchfield.org
SUMMARY:Floor Cleaning in the Community House - do not schedule meetings there
DESCRIPTION:
URL:https://stmichaels-litchfield.org/event/tentative-floor-cleaning-in-the-community-house-do-not-schedule-meetings-there/2023-08-11/
LOCATION:Community House in Library from April 9th forward
CATEGORIES:Parish Events
END:VEVENT
BEGIN:VEVENT
DTSTART;TZID=America/New_York:20230810T080000
DTEND;TZID=America/New_York:20230810T170000
DTSTAMP:20260419T221718
CREATED:20230713T190839Z
LAST-MODIFIED:20230717T140630Z
UID:10012223-1691654400-1691686800@stmichaels-litchfield.org
SUMMARY:Floor Cleaning in the Community House - do not schedule meetings there
DESCRIPTION:
URL:https://stmichaels-litchfield.org/event/tentative-floor-cleaning-in-the-community-house-do-not-schedule-meetings-there/2023-08-10/
LOCATION:Community House in Library from April 9th forward
CATEGORIES:Parish Events
END:VEVENT
END:VCALENDAR