BEGIN:VCALENDAR
VERSION:2.0
PRODID:-//St. Michael&#039;s Church - ECPv6.15.20//NONSGML v1.0//EN
CALSCALE:GREGORIAN
METHOD:PUBLISH
X-WR-CALNAME:St. Michael&#039;s Church
X-ORIGINAL-URL:https://stmichaels-litchfield.org
X-WR-CALDESC:Events for St. Michael&#039;s Church
REFRESH-INTERVAL;VALUE=DURATION:PT1H
X-Robots-Tag:noindex
X-PUBLISHED-TTL:PT1H
BEGIN:VTIMEZONE
TZID:America/New_York
BEGIN:DAYLIGHT
TZOFFSETFROM:-0500
TZOFFSETTO:-0400
TZNAME:EDT
DTSTART:20230312T070000
END:DAYLIGHT
BEGIN:STANDARD
TZOFFSETFROM:-0400
TZOFFSETTO:-0500
TZNAME:EST
DTSTART:20231105T060000
END:STANDARD
BEGIN:DAYLIGHT
TZOFFSETFROM:-0500
TZOFFSETTO:-0400
TZNAME:EDT
DTSTART:20240310T070000
END:DAYLIGHT
BEGIN:STANDARD
TZOFFSETFROM:-0400
TZOFFSETTO:-0500
TZNAME:EST
DTSTART:20241103T060000
END:STANDARD
BEGIN:DAYLIGHT
TZOFFSETFROM:-0500
TZOFFSETTO:-0400
TZNAME:EDT
DTSTART:20250309T070000
END:DAYLIGHT
BEGIN:STANDARD
TZOFFSETFROM:-0400
TZOFFSETTO:-0500
TZNAME:EST
DTSTART:20251102T060000
END:STANDARD
END:VTIMEZONE
BEGIN:VEVENT
DTSTART;TZID=America/New_York:20240510T180000
DTEND;TZID=America/New_York:20240510T220000
DTSTAMP:20260420T005415
CREATED:20230807T143816Z
LAST-MODIFIED:20230807T143816Z
UID:10012606-1715364000-1715378400@stmichaels-litchfield.org
SUMMARY:Tentative: Hold for Maddie King Wedding Rehearsal
DESCRIPTION:
URL:https://stmichaels-litchfield.org/event/tentative-hold-for-maddie-king-wedding-rehearsal/2024-05-10/
LOCATION:Church and Community House
CATEGORIES:Church Event
END:VEVENT
BEGIN:VEVENT
DTSTART;TZID=America/New_York:20240509T180000
DTEND;TZID=America/New_York:20240509T220000
DTSTAMP:20260420T005415
CREATED:20230807T143816Z
LAST-MODIFIED:20230807T143816Z
UID:10012605-1715277600-1715292000@stmichaels-litchfield.org
SUMMARY:Tentative: Hold for Maddie King Wedding Rehearsal
DESCRIPTION:
URL:https://stmichaels-litchfield.org/event/tentative-hold-for-maddie-king-wedding-rehearsal/2024-05-09/
LOCATION:Church and Community House
CATEGORIES:Church Event
END:VEVENT
END:VCALENDAR