BEGIN:VCALENDAR
VERSION:2.0
PRODID:-//St. Michael&#039;s Church - ECPv6.15.20//NONSGML v1.0//EN
CALSCALE:GREGORIAN
METHOD:PUBLISH
X-ORIGINAL-URL:https://stmichaels-litchfield.org
X-WR-CALDESC:Events for St. Michael&#039;s Church
REFRESH-INTERVAL;VALUE=DURATION:PT1H
X-Robots-Tag:noindex
X-PUBLISHED-TTL:PT1H
BEGIN:VTIMEZONE
TZID:America/New_York
BEGIN:DAYLIGHT
TZOFFSETFROM:-0500
TZOFFSETTO:-0400
TZNAME:EDT
DTSTART:20270314T070000
END:DAYLIGHT
BEGIN:STANDARD
TZOFFSETFROM:-0400
TZOFFSETTO:-0500
TZNAME:EST
DTSTART:20271107T060000
END:STANDARD
BEGIN:DAYLIGHT
TZOFFSETFROM:-0500
TZOFFSETTO:-0400
TZNAME:EDT
DTSTART:20280312T070000
END:DAYLIGHT
BEGIN:STANDARD
TZOFFSETFROM:-0400
TZOFFSETTO:-0500
TZNAME:EST
DTSTART:20281105T060000
END:STANDARD
BEGIN:DAYLIGHT
TZOFFSETFROM:-0500
TZOFFSETTO:-0400
TZNAME:EDT
DTSTART:20290311T070000
END:DAYLIGHT
BEGIN:STANDARD
TZOFFSETFROM:-0400
TZOFFSETTO:-0500
TZNAME:EST
DTSTART:20291104T060000
END:STANDARD
BEGIN:DAYLIGHT
TZOFFSETFROM:-0500
TZOFFSETTO:-0400
TZNAME:EDT
DTSTART:20300310T070000
END:DAYLIGHT
BEGIN:STANDARD
TZOFFSETFROM:-0400
TZOFFSETTO:-0500
TZNAME:EST
DTSTART:20301103T060000
END:STANDARD
BEGIN:DAYLIGHT
TZOFFSETFROM:-0500
TZOFFSETTO:-0400
TZNAME:EDT
DTSTART:20310309T070000
END:DAYLIGHT
BEGIN:STANDARD
TZOFFSETFROM:-0400
TZOFFSETTO:-0500
TZNAME:EST
DTSTART:20311102T060000
END:STANDARD
END:VTIMEZONE
BEGIN:VEVENT
DTSTART;TZID=America/New_York:20280509T120000
DTEND;TZID=America/New_York:20280509T130000
DTSTAMP:20260419T103644
CREATED:20260223T205039Z
LAST-MODIFIED:20260223T205039Z
UID:10293191-1841486400-1841490000@stmichaels-litchfield.org
SUMMARY:Lunch with Meredith
DESCRIPTION:
URL:https://stmichaels-litchfield.org/event/lunch-with-meredith-2/2028-05-09/
LOCATION:Community House in Library from April 9th forward
CATEGORIES:Church Event,Parish Events
END:VEVENT
BEGIN:VEVENT
DTSTART;TZID=America/New_York:20280613T120000
DTEND;TZID=America/New_York:20280613T130000
DTSTAMP:20260419T103644
CREATED:20260223T205039Z
LAST-MODIFIED:20260223T205039Z
UID:10293192-1844510400-1844514000@stmichaels-litchfield.org
SUMMARY:Lunch with Meredith
DESCRIPTION:
URL:https://stmichaels-litchfield.org/event/lunch-with-meredith-2/2028-06-13/
LOCATION:Community House in Library from April 9th forward
CATEGORIES:Church Event,Parish Events
END:VEVENT
BEGIN:VEVENT
DTSTART;TZID=America/New_York:20280711T120000
DTEND;TZID=America/New_York:20280711T130000
DTSTAMP:20260419T103644
CREATED:20260223T205039Z
LAST-MODIFIED:20260223T205039Z
UID:10293193-1846929600-1846933200@stmichaels-litchfield.org
SUMMARY:Lunch with Meredith
DESCRIPTION:
URL:https://stmichaels-litchfield.org/event/lunch-with-meredith-2/2028-07-11/
LOCATION:Community House in Library from April 9th forward
CATEGORIES:Church Event,Parish Events
END:VEVENT
BEGIN:VEVENT
DTSTART;TZID=America/New_York:20280808T120000
DTEND;TZID=America/New_York:20280808T130000
DTSTAMP:20260419T103644
CREATED:20260223T205039Z
LAST-MODIFIED:20260223T205039Z
UID:10293194-1849348800-1849352400@stmichaels-litchfield.org
SUMMARY:Lunch with Meredith
DESCRIPTION:
URL:https://stmichaels-litchfield.org/event/lunch-with-meredith-2/2028-08-08/
LOCATION:Community House in Library from April 9th forward
CATEGORIES:Church Event,Parish Events
END:VEVENT
BEGIN:VEVENT
DTSTART;TZID=America/New_York:20280912T120000
DTEND;TZID=America/New_York:20280912T130000
DTSTAMP:20260419T103644
CREATED:20260223T205039Z
LAST-MODIFIED:20260223T205039Z
UID:10293195-1852372800-1852376400@stmichaels-litchfield.org
SUMMARY:Lunch with Meredith
DESCRIPTION:
URL:https://stmichaels-litchfield.org/event/lunch-with-meredith-2/2028-09-12/
LOCATION:Community House in Library from April 9th forward
CATEGORIES:Church Event,Parish Events
END:VEVENT
BEGIN:VEVENT
DTSTART;TZID=America/New_York:20281010T120000
DTEND;TZID=America/New_York:20281010T130000
DTSTAMP:20260419T103644
CREATED:20260223T205039Z
LAST-MODIFIED:20260223T205039Z
UID:10293196-1854792000-1854795600@stmichaels-litchfield.org
SUMMARY:Lunch with Meredith
DESCRIPTION:
URL:https://stmichaels-litchfield.org/event/lunch-with-meredith-2/2028-10-10/
LOCATION:Community House in Library from April 9th forward
CATEGORIES:Church Event,Parish Events
END:VEVENT
BEGIN:VEVENT
DTSTART;TZID=America/New_York:20281114T120000
DTEND;TZID=America/New_York:20281114T130000
DTSTAMP:20260419T103644
CREATED:20260223T205039Z
LAST-MODIFIED:20260223T205039Z
UID:10293197-1857816000-1857819600@stmichaels-litchfield.org
SUMMARY:Lunch with Meredith
DESCRIPTION:
URL:https://stmichaels-litchfield.org/event/lunch-with-meredith-2/2028-11-14/
LOCATION:Community House in Library from April 9th forward
CATEGORIES:Church Event,Parish Events
END:VEVENT
BEGIN:VEVENT
DTSTART;TZID=America/New_York:20281212T120000
DTEND;TZID=America/New_York:20281212T130000
DTSTAMP:20260419T103644
CREATED:20260223T205039Z
LAST-MODIFIED:20260223T205039Z
UID:10293198-1860235200-1860238800@stmichaels-litchfield.org
SUMMARY:Lunch with Meredith
DESCRIPTION:
URL:https://stmichaels-litchfield.org/event/lunch-with-meredith-2/2028-12-12/
LOCATION:Community House in Library from April 9th forward
CATEGORIES:Church Event,Parish Events
END:VEVENT
BEGIN:VEVENT
DTSTART;TZID=America/New_York:20290109T120000
DTEND;TZID=America/New_York:20290109T130000
DTSTAMP:20260419T103644
CREATED:20260223T205039Z
LAST-MODIFIED:20260223T205039Z
UID:10293199-1862654400-1862658000@stmichaels-litchfield.org
SUMMARY:Lunch with Meredith
DESCRIPTION:
URL:https://stmichaels-litchfield.org/event/lunch-with-meredith-2/2029-01-09/
LOCATION:Community House in Library from April 9th forward
CATEGORIES:Church Event,Parish Events
END:VEVENT
BEGIN:VEVENT
DTSTART;TZID=America/New_York:20290213T120000
DTEND;TZID=America/New_York:20290213T130000
DTSTAMP:20260419T103644
CREATED:20260223T205039Z
LAST-MODIFIED:20260223T205039Z
UID:10293200-1865678400-1865682000@stmichaels-litchfield.org
SUMMARY:Lunch with Meredith
DESCRIPTION:
URL:https://stmichaels-litchfield.org/event/lunch-with-meredith-2/2029-02-13/
LOCATION:Community House in Library from April 9th forward
CATEGORIES:Church Event,Parish Events
END:VEVENT
BEGIN:VEVENT
DTSTART;TZID=America/New_York:20290313T120000
DTEND;TZID=America/New_York:20290313T130000
DTSTAMP:20260419T103644
CREATED:20260223T205039Z
LAST-MODIFIED:20260223T205039Z
UID:10293201-1868097600-1868101200@stmichaels-litchfield.org
SUMMARY:Lunch with Meredith
DESCRIPTION:
URL:https://stmichaels-litchfield.org/event/lunch-with-meredith-2/2029-03-13/
LOCATION:Community House in Library from April 9th forward
CATEGORIES:Church Event,Parish Events
END:VEVENT
BEGIN:VEVENT
DTSTART;TZID=America/New_York:20290410T120000
DTEND;TZID=America/New_York:20290410T130000
DTSTAMP:20260419T103644
CREATED:20260223T205039Z
LAST-MODIFIED:20260223T205039Z
UID:10293202-1870516800-1870520400@stmichaels-litchfield.org
SUMMARY:Lunch with Meredith
DESCRIPTION:
URL:https://stmichaels-litchfield.org/event/lunch-with-meredith-2/2029-04-10/
LOCATION:Community House in Library from April 9th forward
CATEGORIES:Church Event,Parish Events
END:VEVENT
BEGIN:VEVENT
DTSTART;TZID=America/New_York:20290508T120000
DTEND;TZID=America/New_York:20290508T130000
DTSTAMP:20260419T103644
CREATED:20260223T205039Z
LAST-MODIFIED:20260223T205039Z
UID:10293203-1872936000-1872939600@stmichaels-litchfield.org
SUMMARY:Lunch with Meredith
DESCRIPTION:
URL:https://stmichaels-litchfield.org/event/lunch-with-meredith-2/2029-05-08/
LOCATION:Community House in Library from April 9th forward
CATEGORIES:Church Event,Parish Events
END:VEVENT
BEGIN:VEVENT
DTSTART;TZID=America/New_York:20290612T120000
DTEND;TZID=America/New_York:20290612T130000
DTSTAMP:20260419T103644
CREATED:20260223T205039Z
LAST-MODIFIED:20260223T205039Z
UID:10293204-1875960000-1875963600@stmichaels-litchfield.org
SUMMARY:Lunch with Meredith
DESCRIPTION:
URL:https://stmichaels-litchfield.org/event/lunch-with-meredith-2/2029-06-12/
LOCATION:Community House in Library from April 9th forward
CATEGORIES:Church Event,Parish Events
END:VEVENT
BEGIN:VEVENT
DTSTART;TZID=America/New_York:20290710T120000
DTEND;TZID=America/New_York:20290710T130000
DTSTAMP:20260419T103644
CREATED:20260223T205039Z
LAST-MODIFIED:20260223T205039Z
UID:10293205-1878379200-1878382800@stmichaels-litchfield.org
SUMMARY:Lunch with Meredith
DESCRIPTION:
URL:https://stmichaels-litchfield.org/event/lunch-with-meredith-2/2029-07-10/
LOCATION:Community House in Library from April 9th forward
CATEGORIES:Church Event,Parish Events
END:VEVENT
BEGIN:VEVENT
DTSTART;TZID=America/New_York:20290814T120000
DTEND;TZID=America/New_York:20290814T130000
DTSTAMP:20260419T103644
CREATED:20260223T205039Z
LAST-MODIFIED:20260223T205039Z
UID:10293206-1881403200-1881406800@stmichaels-litchfield.org
SUMMARY:Lunch with Meredith
DESCRIPTION:
URL:https://stmichaels-litchfield.org/event/lunch-with-meredith-2/2029-08-14/
LOCATION:Community House in Library from April 9th forward
CATEGORIES:Church Event,Parish Events
END:VEVENT
BEGIN:VEVENT
DTSTART;TZID=America/New_York:20290911T120000
DTEND;TZID=America/New_York:20290911T130000
DTSTAMP:20260419T103644
CREATED:20260223T205039Z
LAST-MODIFIED:20260223T205039Z
UID:10293207-1883822400-1883826000@stmichaels-litchfield.org
SUMMARY:Lunch with Meredith
DESCRIPTION:
URL:https://stmichaels-litchfield.org/event/lunch-with-meredith-2/2029-09-11/
LOCATION:Community House in Library from April 9th forward
CATEGORIES:Church Event,Parish Events
END:VEVENT
BEGIN:VEVENT
DTSTART;TZID=America/New_York:20291009T120000
DTEND;TZID=America/New_York:20291009T130000
DTSTAMP:20260419T103644
CREATED:20260223T205039Z
LAST-MODIFIED:20260223T205039Z
UID:10293208-1886241600-1886245200@stmichaels-litchfield.org
SUMMARY:Lunch with Meredith
DESCRIPTION:
URL:https://stmichaels-litchfield.org/event/lunch-with-meredith-2/2029-10-09/
LOCATION:Community House in Library from April 9th forward
CATEGORIES:Church Event,Parish Events
END:VEVENT
BEGIN:VEVENT
DTSTART;TZID=America/New_York:20291113T120000
DTEND;TZID=America/New_York:20291113T130000
DTSTAMP:20260419T103644
CREATED:20260223T205039Z
LAST-MODIFIED:20260223T205039Z
UID:10293209-1889265600-1889269200@stmichaels-litchfield.org
SUMMARY:Lunch with Meredith
DESCRIPTION:
URL:https://stmichaels-litchfield.org/event/lunch-with-meredith-2/2029-11-13/
LOCATION:Community House in Library from April 9th forward
CATEGORIES:Church Event,Parish Events
END:VEVENT
BEGIN:VEVENT
DTSTART;TZID=America/New_York:20291211T120000
DTEND;TZID=America/New_York:20291211T130000
DTSTAMP:20260419T103644
CREATED:20260223T205039Z
LAST-MODIFIED:20260223T205039Z
UID:10293210-1891684800-1891688400@stmichaels-litchfield.org
SUMMARY:Lunch with Meredith
DESCRIPTION:
URL:https://stmichaels-litchfield.org/event/lunch-with-meredith-2/2029-12-11/
LOCATION:Community House in Library from April 9th forward
CATEGORIES:Church Event,Parish Events
END:VEVENT
BEGIN:VEVENT
DTSTART;TZID=America/New_York:20300108T120000
DTEND;TZID=America/New_York:20300108T130000
DTSTAMP:20260419T103644
CREATED:20260223T205039Z
LAST-MODIFIED:20260223T205039Z
UID:10293211-1894104000-1894107600@stmichaels-litchfield.org
SUMMARY:Lunch with Meredith
DESCRIPTION:
URL:https://stmichaels-litchfield.org/event/lunch-with-meredith-2/2030-01-08/
LOCATION:Community House in Library from April 9th forward
CATEGORIES:Church Event,Parish Events
END:VEVENT
BEGIN:VEVENT
DTSTART;TZID=America/New_York:20300212T120000
DTEND;TZID=America/New_York:20300212T130000
DTSTAMP:20260419T103644
CREATED:20260223T205039Z
LAST-MODIFIED:20260223T205039Z
UID:10293212-1897128000-1897131600@stmichaels-litchfield.org
SUMMARY:Lunch with Meredith
DESCRIPTION:
URL:https://stmichaels-litchfield.org/event/lunch-with-meredith-2/2030-02-12/
LOCATION:Community House in Library from April 9th forward
CATEGORIES:Church Event,Parish Events
END:VEVENT
BEGIN:VEVENT
DTSTART;TZID=America/New_York:20300312T120000
DTEND;TZID=America/New_York:20300312T130000
DTSTAMP:20260419T103644
CREATED:20260223T205039Z
LAST-MODIFIED:20260223T205039Z
UID:10293213-1899547200-1899550800@stmichaels-litchfield.org
SUMMARY:Lunch with Meredith
DESCRIPTION:
URL:https://stmichaels-litchfield.org/event/lunch-with-meredith-2/2030-03-12/
LOCATION:Community House in Library from April 9th forward
CATEGORIES:Church Event,Parish Events
END:VEVENT
BEGIN:VEVENT
DTSTART;TZID=America/New_York:20300409T120000
DTEND;TZID=America/New_York:20300409T130000
DTSTAMP:20260419T103644
CREATED:20260223T205039Z
LAST-MODIFIED:20260223T205039Z
UID:10293214-1901966400-1901970000@stmichaels-litchfield.org
SUMMARY:Lunch with Meredith
DESCRIPTION:
URL:https://stmichaels-litchfield.org/event/lunch-with-meredith-2/2030-04-09/
LOCATION:Community House in Library from April 9th forward
CATEGORIES:Church Event,Parish Events
END:VEVENT
BEGIN:VEVENT
DTSTART;TZID=America/New_York:20300514T120000
DTEND;TZID=America/New_York:20300514T130000
DTSTAMP:20260419T103644
CREATED:20260223T205039Z
LAST-MODIFIED:20260223T205039Z
UID:10293215-1904990400-1904994000@stmichaels-litchfield.org
SUMMARY:Lunch with Meredith
DESCRIPTION:
URL:https://stmichaels-litchfield.org/event/lunch-with-meredith-2/2030-05-14/
LOCATION:Community House in Library from April 9th forward
CATEGORIES:Church Event,Parish Events
END:VEVENT
BEGIN:VEVENT
DTSTART;TZID=America/New_York:20300611T120000
DTEND;TZID=America/New_York:20300611T130000
DTSTAMP:20260419T103644
CREATED:20260223T205039Z
LAST-MODIFIED:20260223T205039Z
UID:10293216-1907409600-1907413200@stmichaels-litchfield.org
SUMMARY:Lunch with Meredith
DESCRIPTION:
URL:https://stmichaels-litchfield.org/event/lunch-with-meredith-2/2030-06-11/
LOCATION:Community House in Library from April 9th forward
CATEGORIES:Church Event,Parish Events
END:VEVENT
BEGIN:VEVENT
DTSTART;TZID=America/New_York:20300709T120000
DTEND;TZID=America/New_York:20300709T130000
DTSTAMP:20260419T103644
CREATED:20260223T205039Z
LAST-MODIFIED:20260223T205039Z
UID:10293217-1909828800-1909832400@stmichaels-litchfield.org
SUMMARY:Lunch with Meredith
DESCRIPTION:
URL:https://stmichaels-litchfield.org/event/lunch-with-meredith-2/2030-07-09/
LOCATION:Community House in Library from April 9th forward
CATEGORIES:Church Event,Parish Events
END:VEVENT
BEGIN:VEVENT
DTSTART;TZID=America/New_York:20300813T120000
DTEND;TZID=America/New_York:20300813T130000
DTSTAMP:20260419T103644
CREATED:20260223T205039Z
LAST-MODIFIED:20260223T205039Z
UID:10293218-1912852800-1912856400@stmichaels-litchfield.org
SUMMARY:Lunch with Meredith
DESCRIPTION:
URL:https://stmichaels-litchfield.org/event/lunch-with-meredith-2/2030-08-13/
LOCATION:Community House in Library from April 9th forward
CATEGORIES:Church Event,Parish Events
END:VEVENT
BEGIN:VEVENT
DTSTART;TZID=America/New_York:20300910T120000
DTEND;TZID=America/New_York:20300910T130000
DTSTAMP:20260419T103644
CREATED:20260223T205039Z
LAST-MODIFIED:20260223T205039Z
UID:10293219-1915272000-1915275600@stmichaels-litchfield.org
SUMMARY:Lunch with Meredith
DESCRIPTION:
URL:https://stmichaels-litchfield.org/event/lunch-with-meredith-2/2030-09-10/
LOCATION:Community House in Library from April 9th forward
CATEGORIES:Church Event,Parish Events
END:VEVENT
BEGIN:VEVENT
DTSTART;TZID=America/New_York:20301008T120000
DTEND;TZID=America/New_York:20301008T130000
DTSTAMP:20260419T103644
CREATED:20260223T205039Z
LAST-MODIFIED:20260223T205039Z
UID:10293220-1917691200-1917694800@stmichaels-litchfield.org
SUMMARY:Lunch with Meredith
DESCRIPTION:
URL:https://stmichaels-litchfield.org/event/lunch-with-meredith-2/2030-10-08/
LOCATION:Community House in Library from April 9th forward
CATEGORIES:Church Event,Parish Events
END:VEVENT
END:VCALENDAR