BEGIN:VCALENDAR
VERSION:2.0
PRODID:-//St. Michael&#039;s Church - ECPv6.15.20//NONSGML v1.0//EN
CALSCALE:GREGORIAN
METHOD:PUBLISH
X-WR-CALNAME:St. Michael&#039;s Church
X-ORIGINAL-URL:https://stmichaels-litchfield.org
X-WR-CALDESC:Events for St. Michael&#039;s Church
REFRESH-INTERVAL;VALUE=DURATION:PT1H
X-Robots-Tag:noindex
X-PUBLISHED-TTL:PT1H
BEGIN:VTIMEZONE
TZID:America/New_York
BEGIN:DAYLIGHT
TZOFFSETFROM:-0500
TZOFFSETTO:-0400
TZNAME:EDT
DTSTART:20230312T070000
END:DAYLIGHT
BEGIN:STANDARD
TZOFFSETFROM:-0400
TZOFFSETTO:-0500
TZNAME:EST
DTSTART:20231105T060000
END:STANDARD
BEGIN:DAYLIGHT
TZOFFSETFROM:-0500
TZOFFSETTO:-0400
TZNAME:EDT
DTSTART:20240310T070000
END:DAYLIGHT
BEGIN:STANDARD
TZOFFSETFROM:-0400
TZOFFSETTO:-0500
TZNAME:EST
DTSTART:20241103T060000
END:STANDARD
BEGIN:DAYLIGHT
TZOFFSETFROM:-0500
TZOFFSETTO:-0400
TZNAME:EDT
DTSTART:20250309T070000
END:DAYLIGHT
BEGIN:STANDARD
TZOFFSETFROM:-0400
TZOFFSETTO:-0500
TZNAME:EST
DTSTART:20251102T060000
END:STANDARD
BEGIN:DAYLIGHT
TZOFFSETFROM:-0500
TZOFFSETTO:-0400
TZNAME:EDT
DTSTART:20260308T070000
END:DAYLIGHT
BEGIN:STANDARD
TZOFFSETFROM:-0400
TZOFFSETTO:-0500
TZNAME:EST
DTSTART:20261101T060000
END:STANDARD
BEGIN:DAYLIGHT
TZOFFSETFROM:-0500
TZOFFSETTO:-0400
TZNAME:EDT
DTSTART:20270314T070000
END:DAYLIGHT
BEGIN:STANDARD
TZOFFSETFROM:-0400
TZOFFSETTO:-0500
TZNAME:EST
DTSTART:20271107T060000
END:STANDARD
END:VTIMEZONE
BEGIN:VEVENT
DTSTART;TZID=America/New_York:20260315T140000
DTEND;TZID=America/New_York:20260315T160000
DTSTAMP:20260419T103425
CREATED:20260203T192815Z
LAST-MODIFIED:20260203T192815Z
UID:10292506-1773583200-1773590400@stmichaels-litchfield.org
SUMMARY:Northwest Leadership Meeting in Library
DESCRIPTION:
URL:https://stmichaels-litchfield.org/event/northwest-leadership-meeting-in-library/
CATEGORIES:Other Groups
END:VEVENT
BEGIN:VEVENT
DTSTART;TZID=America/New_York:20260305T163000
DTEND;TZID=America/New_York:20260305T183000
DTSTAMP:20260419T103425
CREATED:20260113T160712Z
LAST-MODIFIED:20260218T172412Z
UID:10291133-1772728200-1772735400@stmichaels-litchfield.org
SUMMARY:Book discussion group
DESCRIPTION:
URL:https://stmichaels-litchfield.org/event/lenten-meeting-with-meredith-2/
LOCATION:Parish House Library\, 25 South Street\, Litchfield\, CT\, 06759\, United States
END:VEVENT
BEGIN:VEVENT
DTSTART;TZID=America/New_York:20260226T163000
DTEND;TZID=America/New_York:20260226T183000
DTSTAMP:20260419T103425
CREATED:20260113T160558Z
LAST-MODIFIED:20260113T160558Z
UID:10291132-1772123400-1772130600@stmichaels-litchfield.org
SUMMARY:Lenten Meeting with Meredith
DESCRIPTION:
URL:https://stmichaels-litchfield.org/event/lenten-meeting-with-meredith/
LOCATION:Parish House Library\, 25 South Street\, Litchfield\, CT\, 06759\, United States
CATEGORIES:Church Office Event
END:VEVENT
BEGIN:VEVENT
DTSTART;TZID=America/New_York:20251014T113000
DTEND;TZID=America/New_York:20251014T140000
DTSTAMP:20260419T103425
CREATED:20250922T152537Z
LAST-MODIFIED:20250922T152537Z
UID:10287346-1760441400-1760450400@stmichaels-litchfield.org
SUMMARY:Lunch with Meredith
DESCRIPTION:
URL:https://stmichaels-litchfield.org/event/lunch-with-meredith/
LOCATION:Community House in Library from April 9th forward
CATEGORIES:Church Office Event
END:VEVENT
BEGIN:VEVENT
DTSTART;TZID=America/New_York:20250805T110000
DTEND;TZID=America/New_York:20250805T140000
DTSTAMP:20260419T103425
CREATED:20250707T142300Z
LAST-MODIFIED:20250707T142300Z
UID:10287212-1754391600-1754402400@stmichaels-litchfield.org
SUMMARY:St. Michael's Lady's Luncheon
DESCRIPTION:
URL:https://stmichaels-litchfield.org/event/st-michaels-ladys-luncheon/
LOCATION:Community House in Library from April 9th forward
CATEGORIES:Church Event
END:VEVENT
BEGIN:VEVENT
DTSTART;TZID=America/New_York:20250702T113000
DTEND;TZID=America/New_York:20250702T133000
DTSTAMP:20260419T103425
CREATED:20250619T165741Z
LAST-MODIFIED:20250625T142626Z
UID:10286835-1751455800-1751463000@stmichaels-litchfield.org
SUMMARY:Parish Life Lunch
DESCRIPTION:“Brown bag” lunch – bring your own lunch and meet for fellowship.
URL:https://stmichaels-litchfield.org/event/parish-life-luncheon/
LOCATION:Community House in Library from April 9th forward
CATEGORIES:Church Office Event
END:VEVENT
BEGIN:VEVENT
DTSTART;TZID=America/New_York:20250502T190000
DTEND;TZID=America/New_York:20250502T213000
DTSTAMP:20260419T103425
CREATED:20250304T151904Z
LAST-MODIFIED:20250403T144005Z
UID:10019756-1746212400-1746221400@stmichaels-litchfield.org
SUMMARY:Film:  "The Philadelphia Eleven"
DESCRIPTION:A documentary about the first women to be ordained as Episcopal priests
URL:https://stmichaels-litchfield.org/event/showing-philadelphi-11-movie/
LOCATION:Litchfield Community Center\, 421 Bantam Road\, Litchfield\, CT\, 06759\, United States
CATEGORIES:Church Event,Parish Events
END:VEVENT
BEGIN:VEVENT
DTSTART;TZID=America/New_York:20240516T163000
DTEND;TZID=America/New_York:20240516T190000
DTSTAMP:20260419T103425
CREATED:20240417T161639Z
LAST-MODIFIED:20240417T161639Z
UID:10019152-1715877000-1715886000@stmichaels-litchfield.org
SUMMARY:Reception
DESCRIPTION:
URL:https://stmichaels-litchfield.org/event/reception/
LOCATION:Community House in Library from April 9th forward
END:VEVENT
END:VCALENDAR