BEGIN:VCALENDAR
VERSION:2.0
PRODID:-//St. Michael&#039;s Church - ECPv6.15.20//NONSGML v1.0//EN
CALSCALE:GREGORIAN
METHOD:PUBLISH
X-WR-CALNAME:St. Michael&#039;s Church
X-ORIGINAL-URL:https://stmichaels-litchfield.org
X-WR-CALDESC:Events for St. Michael&#039;s Church
REFRESH-INTERVAL;VALUE=DURATION:PT1H
X-Robots-Tag:noindex
X-PUBLISHED-TTL:PT1H
BEGIN:VTIMEZONE
TZID:America/New_York
BEGIN:DAYLIGHT
TZOFFSETFROM:-0500
TZOFFSETTO:-0400
TZNAME:EDT
DTSTART:20230312T070000
END:DAYLIGHT
BEGIN:STANDARD
TZOFFSETFROM:-0400
TZOFFSETTO:-0500
TZNAME:EST
DTSTART:20231105T060000
END:STANDARD
BEGIN:DAYLIGHT
TZOFFSETFROM:-0500
TZOFFSETTO:-0400
TZNAME:EDT
DTSTART:20240310T070000
END:DAYLIGHT
BEGIN:STANDARD
TZOFFSETFROM:-0400
TZOFFSETTO:-0500
TZNAME:EST
DTSTART:20241103T060000
END:STANDARD
BEGIN:DAYLIGHT
TZOFFSETFROM:-0500
TZOFFSETTO:-0400
TZNAME:EDT
DTSTART:20250309T070000
END:DAYLIGHT
BEGIN:STANDARD
TZOFFSETFROM:-0400
TZOFFSETTO:-0500
TZNAME:EST
DTSTART:20251102T060000
END:STANDARD
BEGIN:DAYLIGHT
TZOFFSETFROM:-0500
TZOFFSETTO:-0400
TZNAME:EDT
DTSTART:20260308T070000
END:DAYLIGHT
BEGIN:STANDARD
TZOFFSETFROM:-0400
TZOFFSETTO:-0500
TZNAME:EST
DTSTART:20261101T060000
END:STANDARD
END:VTIMEZONE
BEGIN:VEVENT
DTSTART;VALUE=DATE:20250913
DTEND;VALUE=DATE:20250914
DTSTAMP:20260419T084948
CREATED:20250623T165523Z
LAST-MODIFIED:20250623T165523Z
UID:10287169-1757721600-1757807999@stmichaels-litchfield.org
SUMMARY:Sullivan & Blanchette  Wedding Shower
DESCRIPTION:
URL:https://stmichaels-litchfield.org/event/sullivan-blanchette-wedding-shower/
LOCATION:Community House in Library from April 9th forward
CATEGORIES:Other Groups
END:VEVENT
BEGIN:VEVENT
DTSTART;TZID=America/New_York:20250531T110000
DTEND;TZID=America/New_York:20250531T140000
DTSTAMP:20260419T084948
CREATED:20250311T163142Z
LAST-MODIFIED:20250403T144405Z
UID:10019759-1748689200-1748700000@stmichaels-litchfield.org
SUMMARY:Memorial Service for Wm. "Billy" Sullivan
DESCRIPTION:Reception after the service in the Community House.
URL:https://stmichaels-litchfield.org/event/memorial-service-for-wm-billy-sullivan/
LOCATION:Church and Community House
CATEGORIES:Church Event,Parish Events
END:VEVENT
BEGIN:VEVENT
DTSTART;TZID=America/New_York:20250530T160000
DTEND;TZID=America/New_York:20250530T170000
DTSTAMP:20260419T084948
CREATED:20250410T173456Z
LAST-MODIFIED:20250410T173456Z
UID:10021025-1748620800-1748624400@stmichaels-litchfield.org
SUMMARY:Wm. Sullivan Memorial Service Set-Up
DESCRIPTION:
URL:https://stmichaels-litchfield.org/event/wm-sullivan-memorial-service-set-up/
LOCATION:Community House in Library from April 9th forward
END:VEVENT
BEGIN:VEVENT
DTSTART;TZID=America/New_York:20240911T113000
DTEND;TZID=America/New_York:20240911T180000
DTSTAMP:20260419T084948
CREATED:20240910T171621Z
LAST-MODIFIED:20240910T172133Z
UID:10019342-1726054200-1726077600@stmichaels-litchfield.org
SUMMARY:Peggy Sullivan
DESCRIPTION:
URL:https://stmichaels-litchfield.org/event/peggy-sullivan/
LOCATION:Parish House Library\, 25 South Street\, Litchfield\, CT\, 06759\, United States
CATEGORIES:Church Office Event
END:VEVENT
BEGIN:VEVENT
DTSTART;VALUE=DATE:20240817
DTEND;VALUE=DATE:20240818
DTSTAMP:20260419T084948
CREATED:20240812T173007Z
LAST-MODIFIED:20240812T173007Z
UID:10019185-1723852800-1723939199@stmichaels-litchfield.org
SUMMARY:J. Titherington Funeral Reception
DESCRIPTION:
URL:https://stmichaels-litchfield.org/event/j-titherington-funeral-reception/
LOCATION:Church and Community House
END:VEVENT
BEGIN:VEVENT
DTSTART;VALUE=DATE:20240405
DTEND;VALUE=DATE:20240407
DTSTAMP:20260419T084948
CREATED:20240403T164647Z
LAST-MODIFIED:20240403T164647Z
UID:10018863-1712275200-1712447999@stmichaels-litchfield.org
SUMMARY:Funeral Reception
DESCRIPTION:
URL:https://stmichaels-litchfield.org/event/funeral-reception/
LOCATION:Community House in Library from April 9th forward
CATEGORIES:Church Event
END:VEVENT
BEGIN:VEVENT
DTSTART;TZID=America/New_York:20240313T173000
DTEND;TZID=America/New_York:20240313T183000
DTSTAMP:20260419T084948
CREATED:20240206T175242Z
LAST-MODIFIED:20240206T175242Z
UID:10016228-1710351000-1710354600@stmichaels-litchfield.org
SUMMARY:2024 Lenten Soup Supper - at St. Anthony's RCC in Litchfield
DESCRIPTION:
URL:https://stmichaels-litchfield.org/event/2024-lenten-soup-supper-at-st-anthonys-rcc-in-litchfield/
CATEGORIES:Church Event,Other Groups
END:VEVENT
BEGIN:VEVENT
DTSTART;TZID=America/New_York:20240305T173000
DTEND;TZID=America/New_York:20240306T190000
DTSTAMP:20260419T084948
CREATED:20240206T174926Z
LAST-MODIFIED:20240305T042752Z
UID:10016227-1709659800-1709751600@stmichaels-litchfield.org
SUMMARY:2024 Lenten Soup Supper at St. Anthony's R.C. Church
DESCRIPTION:
URL:https://stmichaels-litchfield.org/event/2024-lenten-soup-supper-at-st-anthonys-church/
CATEGORIES:Church Event
END:VEVENT
END:VCALENDAR