BEGIN:VCALENDAR
VERSION:2.0
PRODID:-//St. Michael&#039;s Church - ECPv6.15.20//NONSGML v1.0//EN
CALSCALE:GREGORIAN
METHOD:PUBLISH
X-ORIGINAL-URL:https://stmichaels-litchfield.org
X-WR-CALDESC:Events for St. Michael&#039;s Church
REFRESH-INTERVAL;VALUE=DURATION:PT1H
X-Robots-Tag:noindex
X-PUBLISHED-TTL:PT1H
BEGIN:VTIMEZONE
TZID:America/New_York
BEGIN:DAYLIGHT
TZOFFSETFROM:-0500
TZOFFSETTO:-0400
TZNAME:EDT
DTSTART:20230312T070000
END:DAYLIGHT
BEGIN:STANDARD
TZOFFSETFROM:-0400
TZOFFSETTO:-0500
TZNAME:EST
DTSTART:20231105T060000
END:STANDARD
BEGIN:DAYLIGHT
TZOFFSETFROM:-0500
TZOFFSETTO:-0400
TZNAME:EDT
DTSTART:20240310T070000
END:DAYLIGHT
BEGIN:STANDARD
TZOFFSETFROM:-0400
TZOFFSETTO:-0500
TZNAME:EST
DTSTART:20241103T060000
END:STANDARD
BEGIN:DAYLIGHT
TZOFFSETFROM:-0500
TZOFFSETTO:-0400
TZNAME:EDT
DTSTART:20250309T070000
END:DAYLIGHT
BEGIN:STANDARD
TZOFFSETFROM:-0400
TZOFFSETTO:-0500
TZNAME:EST
DTSTART:20251102T060000
END:STANDARD
END:VTIMEZONE
BEGIN:VEVENT
DTSTART;TZID=America/New_York:20240328T170000
DTEND;TZID=America/New_York:20240328T193000
DTSTAMP:20260422T194056
CREATED:20240308T230935Z
LAST-MODIFIED:20240308T233153Z
UID:10017545-1711645200-1711654200@stmichaels-litchfield.org
SUMMARY:Maundy Thursday Events
DESCRIPTION:At 5pm we gather with our Episcopalian neighbours at Trinity Church\, Milton\, to commemorate and celebrate the “First Mass” at the Last Supper\, respond to the “new commandment” to love each other in the Washing of Feet\, and then gather for a fellowship supper provided by the good folks at Milton. We will bringing our Organist and Choir as our offering. \nThen\, at 6:30 we return to St. Michaels for…\n7pm – Procession of the Sacrament to the Altar of Repose in the Chapel\, Singing of Psalm 22 (My god\, my god\, why hast thou forsaken me) while Stripping of our Altar \nAfter which c.7:30\, (available via Zoom also) we begin the 24 hour vigil/watch before the Sacrament on the Altar of Repose in commemoration of Jesus night of Agony in Gethsemane. Unlike the original disciples who “could not watch with him on hour” and fell asleep\, we will take turns from the end of the Maundy Thursday to the Beginning of the Good Friday Liturgy. Sign up for your slot/s HERE \n 
URL:https://stmichaels-litchfield.org/event/maundy-thursday-events/
LOCATION:Trinity Church\, Milton at 5\, St. Michael’s at 7\, 536 Milton Road\, Litchfield\, CT\, 06759\, United States
END:VEVENT
END:VCALENDAR